BEGIN:VCALENDAR
VERSION:2.0
PRODID:-//CENTER FOR SPIRITUAL LIVING FULLERTON - ECPv6.15.20//NONSGML v1.0//EN
CALSCALE:GREGORIAN
METHOD:PUBLISH
X-WR-CALNAME:CENTER FOR SPIRITUAL LIVING FULLERTON
X-ORIGINAL-URL:https://www.religiousscifullerton.org
X-WR-CALDESC:Events for CENTER FOR SPIRITUAL LIVING FULLERTON
REFRESH-INTERVAL;VALUE=DURATION:PT1H
X-Robots-Tag:noindex
X-PUBLISHED-TTL:PT1H
BEGIN:VTIMEZONE
TZID:America/Los_Angeles
BEGIN:DAYLIGHT
TZOFFSETFROM:-0800
TZOFFSETTO:-0700
TZNAME:PDT
DTSTART:20240310T100000
END:DAYLIGHT
BEGIN:STANDARD
TZOFFSETFROM:-0700
TZOFFSETTO:-0800
TZNAME:PST
DTSTART:20241103T090000
END:STANDARD
BEGIN:DAYLIGHT
TZOFFSETFROM:-0800
TZOFFSETTO:-0700
TZNAME:PDT
DTSTART:20250309T100000
END:DAYLIGHT
BEGIN:STANDARD
TZOFFSETFROM:-0700
TZOFFSETTO:-0800
TZNAME:PST
DTSTART:20251102T090000
END:STANDARD
BEGIN:DAYLIGHT
TZOFFSETFROM:-0800
TZOFFSETTO:-0700
TZNAME:PDT
DTSTART:20260308T100000
END:DAYLIGHT
BEGIN:STANDARD
TZOFFSETFROM:-0700
TZOFFSETTO:-0800
TZNAME:PST
DTSTART:20261101T090000
END:STANDARD
END:VTIMEZONE
BEGIN:VEVENT
DTSTART;TZID=America/Los_Angeles:20251001T130000
DTEND;TZID=America/Los_Angeles:20251001T143000
DTSTAMP:20260423T165302
CREATED:20250827T192405Z
LAST-MODIFIED:20250827T192405Z
UID:8928-1759323600-1759329000@www.religiousscifullerton.org
SUMMARY:"Awakening Spirit" Spiritual Growth Support Group
DESCRIPTION:“Awakening Spirit” Spiritual Growth Support Group \nWherever you are on your Spiritual Path it’s always good to have someone to talk to. If that someone is a Practitioner\, it’s even better! During our office hours\, we’re dedicating one hour each week to anyone who want to come ask questions\, connect with like-minded people\, discuss Spiritual Principles and learn practical ways to apply it in their lives. In a safe and loving group environment – like having tea with friends (bring your favorite tea or coffee with you.) Open to the public. This is a great way to introduce your friends and family to our beautiful philosophy and our church without going to “church”. \nFacilitated by Tomoko Rosas\, RScP \nNo commitment necessary. Come join us when you can. \nCost: FREE – donations gratefully accepted.  \nHighly recommended but not necessary book:\n365 Science of Mind: A Year of Daily Wisdom from Ernest Holmes
URL:https://www.religiousscifullerton.org/event/awakening-spirit-spiritual-growth-support-group-25/
LOCATION:Center for Spiritual Living Fullerton\, 373 Imperial Hwy\, Fullerton\, CA\, 92835-1040\, United States
CATEGORIES:Support Group,Workshop
END:VEVENT
BEGIN:VEVENT
DTSTART;TZID=America/Los_Angeles:20251008T130000
DTEND;TZID=America/Los_Angeles:20251008T143000
DTSTAMP:20260423T165302
CREATED:20250827T192530Z
LAST-MODIFIED:20250827T192530Z
UID:8930-1759928400-1759933800@www.religiousscifullerton.org
SUMMARY:"Awakening Spirit" Spiritual Growth Support Group
DESCRIPTION:“Awakening Spirit” Spiritual Growth Support Group \nWherever you are on your Spiritual Path it’s always good to have someone to talk to. If that someone is a Practitioner\, it’s even better! During our office hours\, we’re dedicating one hour each week to anyone who want to come ask questions\, connect with like-minded people\, discuss Spiritual Principles and learn practical ways to apply it in their lives. In a safe and loving group environment – like having tea with friends (bring your favorite tea or coffee with you.) Open to the public. This is a great way to introduce your friends and family to our beautiful philosophy and our church without going to “church”. \nFacilitated by Tomoko Rosas\, RScP \nNo commitment necessary. Come join us when you can. \nCost: FREE – donations gratefully accepted.  \nHighly recommended but not necessary book:\n365 Science of Mind: A Year of Daily Wisdom from Ernest Holmes
URL:https://www.religiousscifullerton.org/event/awakening-spirit-spiritual-growth-support-group-26/
LOCATION:Center for Spiritual Living Fullerton\, 373 Imperial Hwy\, Fullerton\, CA\, 92835-1040\, United States
CATEGORIES:Support Group,Workshop
END:VEVENT
BEGIN:VEVENT
DTSTART;TZID=America/Los_Angeles:20251015T130000
DTEND;TZID=America/Los_Angeles:20251015T143000
DTSTAMP:20260423T165302
CREATED:20250929T211650Z
LAST-MODIFIED:20250929T211650Z
UID:8959-1760533200-1760538600@www.religiousscifullerton.org
SUMMARY:"Awakening Spirit" Spiritual Growth Support Group
DESCRIPTION:“Awakening Spirit” Spiritual Growth Support Group \nWherever you are on your Spiritual Path it’s always good to have someone to talk to. If that someone is a Practitioner\, it’s even better! During our office hours\, we’re dedicating one hour each week to anyone who wants to come ask questions\, connect with like-minded people\, discuss Spiritual Principles and learn practical ways to apply it in their lives. In a safe and loving group environment – like having tea with friends (bring your favorite tea or coffee with you.) Open to the public. This is a great way to introduce your friends and family to our beautiful philosophy and our church without going to “church”. \nFacilitated by Tomoko Rosas\, RScP \nNo commitment necessary. Come join us when you can. \nCost: FREE – donations gratefully accepted.  \nHighly recommended but not necessary book:\n365 Science of Mind: A Year of Daily Wisdom from Ernest Holmes
URL:https://www.religiousscifullerton.org/event/awakening-spirit-spiritual-growth-support-group-27/
LOCATION:Center for Spiritual Living Fullerton\, 373 Imperial Hwy\, Fullerton\, CA\, 92835-1040\, United States
CATEGORIES:Support Group,Workshop
END:VEVENT
BEGIN:VEVENT
DTSTART;TZID=America/Los_Angeles:20251022T130000
DTEND;TZID=America/Los_Angeles:20251022T143000
DTSTAMP:20260423T165302
CREATED:20250929T211752Z
LAST-MODIFIED:20250929T211752Z
UID:8961-1761138000-1761143400@www.religiousscifullerton.org
SUMMARY:"Awakening Spirit" Spiritual Growth Support Group
DESCRIPTION:“Awakening Spirit” Spiritual Growth Support Group \nWherever you are on your Spiritual Path it’s always good to have someone to talk to. If that someone is a Practitioner\, it’s even better! During our office hours\, we’re dedicating one hour each week to anyone who wants to come ask questions\, connect with like-minded people\, discuss Spiritual Principles and learn practical ways to apply it in their lives. In a safe and loving group environment – like having tea with friends (bring your favorite tea or coffee with you.) Open to the public. This is a great way to introduce your friends and family to our beautiful philosophy and our church without going to “church”. \nFacilitated by Tomoko Rosas\, RScP \nNo commitment necessary. Come join us when you can. \nCost: FREE – donations gratefully accepted.  \nHighly recommended but not necessary book:\n365 Science of Mind: A Year of Daily Wisdom from Ernest Holmes
URL:https://www.religiousscifullerton.org/event/awakening-spirit-spiritual-growth-support-group-28/
LOCATION:Center for Spiritual Living Fullerton\, 373 Imperial Hwy\, Fullerton\, CA\, 92835-1040\, United States
CATEGORIES:Support Group,Workshop
END:VEVENT
BEGIN:VEVENT
DTSTART;TZID=America/Los_Angeles:20251029T130000
DTEND;TZID=America/Los_Angeles:20251029T143000
DTSTAMP:20260423T165302
CREATED:20250929T211857Z
LAST-MODIFIED:20250929T211857Z
UID:8963-1761742800-1761748200@www.religiousscifullerton.org
SUMMARY:"Awakening Spirit" Spiritual Growth Support Group
DESCRIPTION:“Awakening Spirit” Spiritual Growth Support Group \nWherever you are on your Spiritual Path it’s always good to have someone to talk to. If that someone is a Practitioner\, it’s even better! During our office hours\, we’re dedicating one hour each week to anyone who wants to come ask questions\, connect with like-minded people\, discuss Spiritual Principles and learn practical ways to apply it in their lives. In a safe and loving group environment – like having tea with friends (bring your favorite tea or coffee with you.) Open to the public. This is a great way to introduce your friends and family to our beautiful philosophy and our church without going to “church”. \nFacilitated by Tomoko Rosas\, RScP \nNo commitment necessary. Come join us when you can. \nCost: FREE – donations gratefully accepted.  \nHighly recommended but not necessary book:\n365 Science of Mind: A Year of Daily Wisdom from Ernest Holmes
URL:https://www.religiousscifullerton.org/event/awakening-spirit-spiritual-growth-support-group-29/
LOCATION:Center for Spiritual Living Fullerton\, 373 Imperial Hwy\, Fullerton\, CA\, 92835-1040\, United States
CATEGORIES:Support Group,Workshop
END:VEVENT
END:VCALENDAR