BEGIN:VCALENDAR
VERSION:2.0
PRODID:-//CENTER FOR SPIRITUAL LIVING FULLERTON - ECPv6.15.20//NONSGML v1.0//EN
CALSCALE:GREGORIAN
METHOD:PUBLISH
X-WR-CALNAME:CENTER FOR SPIRITUAL LIVING FULLERTON
X-ORIGINAL-URL:https://www.religiousscifullerton.org
X-WR-CALDESC:Events for CENTER FOR SPIRITUAL LIVING FULLERTON
REFRESH-INTERVAL;VALUE=DURATION:PT1H
X-Robots-Tag:noindex
X-PUBLISHED-TTL:PT1H
BEGIN:VTIMEZONE
TZID:America/Los_Angeles
BEGIN:DAYLIGHT
TZOFFSETFROM:-0800
TZOFFSETTO:-0700
TZNAME:PDT
DTSTART:20240310T100000
END:DAYLIGHT
BEGIN:STANDARD
TZOFFSETFROM:-0700
TZOFFSETTO:-0800
TZNAME:PST
DTSTART:20241103T090000
END:STANDARD
BEGIN:DAYLIGHT
TZOFFSETFROM:-0800
TZOFFSETTO:-0700
TZNAME:PDT
DTSTART:20250309T100000
END:DAYLIGHT
BEGIN:STANDARD
TZOFFSETFROM:-0700
TZOFFSETTO:-0800
TZNAME:PST
DTSTART:20251102T090000
END:STANDARD
BEGIN:DAYLIGHT
TZOFFSETFROM:-0800
TZOFFSETTO:-0700
TZNAME:PDT
DTSTART:20260308T100000
END:DAYLIGHT
BEGIN:STANDARD
TZOFFSETFROM:-0700
TZOFFSETTO:-0800
TZNAME:PST
DTSTART:20261101T090000
END:STANDARD
END:VTIMEZONE
BEGIN:VEVENT
DTSTART;TZID=America/Los_Angeles:20250803T110000
DTEND;TZID=America/Los_Angeles:20250803T120000
DTSTAMP:20260423T233727
CREATED:20250630T193431Z
LAST-MODIFIED:20250730T174906Z
UID:8822-1754218800-1754222400@www.religiousscifullerton.org
SUMMARY:Sunday Celebration Service
DESCRIPTION:Please join us for our Sunday Celebration! Our Minister\, Rev. Dr. Bill Salisbury\, will be speaking on “Take It and/or Leave It”. Spiritual Reading by Eva Castelo\, RScP. Musical inspiration will be provided by Michael Whitney & Tommy Cosentino. \nRecording posted by 3 pm for home viewing.
URL:https://www.religiousscifullerton.org/event/sunday-celebration-service-11/
LOCATION:Center for Spiritual Living Fullerton\, 373 Imperial Hwy\, Fullerton\, CA\, 92835-1040\, United States
CATEGORIES:LIVE MUSIC,Sunday Service
END:VEVENT
END:VCALENDAR