BEGIN:VCALENDAR
VERSION:2.0
PRODID:-//CENTER FOR SPIRITUAL LIVING FULLERTON - ECPv6.15.20//NONSGML v1.0//EN
CALSCALE:GREGORIAN
METHOD:PUBLISH
X-WR-CALNAME:CENTER FOR SPIRITUAL LIVING FULLERTON
X-ORIGINAL-URL:https://www.religiousscifullerton.org
X-WR-CALDESC:Events for CENTER FOR SPIRITUAL LIVING FULLERTON
REFRESH-INTERVAL;VALUE=DURATION:PT1H
X-Robots-Tag:noindex
X-PUBLISHED-TTL:PT1H
BEGIN:VTIMEZONE
TZID:America/Los_Angeles
BEGIN:DAYLIGHT
TZOFFSETFROM:-0800
TZOFFSETTO:-0700
TZNAME:PDT
DTSTART:20240310T100000
END:DAYLIGHT
BEGIN:STANDARD
TZOFFSETFROM:-0700
TZOFFSETTO:-0800
TZNAME:PST
DTSTART:20241103T090000
END:STANDARD
BEGIN:DAYLIGHT
TZOFFSETFROM:-0800
TZOFFSETTO:-0700
TZNAME:PDT
DTSTART:20250309T100000
END:DAYLIGHT
BEGIN:STANDARD
TZOFFSETFROM:-0700
TZOFFSETTO:-0800
TZNAME:PST
DTSTART:20251102T090000
END:STANDARD
BEGIN:DAYLIGHT
TZOFFSETFROM:-0800
TZOFFSETTO:-0700
TZNAME:PDT
DTSTART:20260308T100000
END:DAYLIGHT
BEGIN:STANDARD
TZOFFSETFROM:-0700
TZOFFSETTO:-0800
TZNAME:PST
DTSTART:20261101T090000
END:STANDARD
END:VTIMEZONE
BEGIN:VEVENT
DTSTART;TZID=America/Los_Angeles:20250411T100000
DTEND;TZID=America/Los_Angeles:20250411T140000
DTSTAMP:20260424T074448
CREATED:20240828T194704Z
LAST-MODIFIED:20250414T190350Z
UID:8007-1744365600-1744380000@www.religiousscifullerton.org
SUMMARY:Practitioner on site
DESCRIPTION:Licensed SOM Practitioners are available during office hours to take your prayer requests. If you would like to speak to a Practitioner please call the office at (714) 525-1126 or email us at spiritlives@religiousscifullerton.org. \nTo schedule a Full Practitioner Session please make an appointment by calling a Practitioner directly. Click on PRACTITIONERS on the top menu for contact information.
URL:https://www.religiousscifullerton.org/event/practitioner-on-site-539/
LOCATION:Center for Spiritual Living Fullerton\, 373 Imperial Hwy\, Fullerton\, CA\, 92835-1040\, United States
CATEGORIES:Office Hours
END:VEVENT
BEGIN:VEVENT
DTSTART;TZID=America/Los_Angeles:20250414T100000
DTEND;TZID=America/Los_Angeles:20250414T140000
DTSTAMP:20260424T074448
CREATED:20210426T211040Z
LAST-MODIFIED:20250414T190909Z
UID:4303-1744624800-1744639200@www.religiousscifullerton.org
SUMMARY:Practitioner on Site
DESCRIPTION:Licensed SOM Practitioners are available during office hours to take your prayer requests. If you would like to speak to a Practitioner please call the office at (714) 525-1126 or email us at spiritlives@religiousscifullerton.org. \nTo schedule a Full Practitioner Session please make an appointment by calling a Practitioner directly. Click on PRACTITIONERS on the top menu for contact information.
URL:https://www.religiousscifullerton.org/event/practitioner-on-site-57/
LOCATION:Center for Spiritual Living Fullerton\, 373 Imperial Hwy\, Fullerton\, CA\, 92835-1040\, United States
CATEGORIES:Office Hours
END:VEVENT
BEGIN:VEVENT
DTSTART;TZID=America/Los_Angeles:20250416T100000
DTEND;TZID=America/Los_Angeles:20250416T140000
DTSTAMP:20260424T074448
CREATED:20210426T211645Z
LAST-MODIFIED:20250414T190552Z
UID:4316-1744797600-1744812000@www.religiousscifullerton.org
SUMMARY:Practitioner on Site
DESCRIPTION:Licensed SOM Practitioners are available during office hours to take your prayer requests. If you would like to speak to a Practitioner please call the office at (714) 525-1126 or email us at spiritlives@religiousscifullerton.org. \nTo schedule a Full Practitioner Session please make an appointment by calling a Practitioner directly. Click on PRACTITIONERS on the top menu for contact information.
URL:https://www.religiousscifullerton.org/event/practitioner-on-site-63/
LOCATION:Center for Spiritual Living Fullerton\, 373 Imperial Hwy\, Fullerton\, CA\, 92835-1040\, United States
CATEGORIES:Office Hours
END:VEVENT
BEGIN:VEVENT
DTSTART;VALUE=DATE:20250418
DTEND;VALUE=DATE:20250419
DTSTAMP:20260424T074448
CREATED:20250414T192625Z
LAST-MODIFIED:20250414T192625Z
UID:8663-1744934400-1745020799@www.religiousscifullerton.org
SUMMARY:Office closed in observance of EASTER
DESCRIPTION:Office closed in observance of Easter.
URL:https://www.religiousscifullerton.org/event/office-closed-in-observance-of-easter-2/
LOCATION:Center for Spiritual Living Fullerton\, 373 Imperial Hwy\, Fullerton\, CA\, 92835-1040\, United States
CATEGORIES:Office Hours
END:VEVENT
BEGIN:VEVENT
DTSTART;TZID=America/Los_Angeles:20250421T100000
DTEND;TZID=America/Los_Angeles:20250421T140000
DTSTAMP:20260424T074448
CREATED:20210426T210951Z
LAST-MODIFIED:20250414T190806Z
UID:4301-1745229600-1745244000@www.religiousscifullerton.org
SUMMARY:Practitioner on Site
DESCRIPTION:Licensed SOM Practitioners are available during office hours to take your prayer requests. If you would like to speak to a Practitioner please call the office at (714) 525-1126 or email us at spiritlives@religiousscifullerton.org. \nTo schedule a Full Practitioner Session please make an appointment by calling a Practitioner directly. Click on PRACTITIONERS on the top menu for contact information.
URL:https://www.religiousscifullerton.org/event/practitioner-on-site-56/
LOCATION:Center for Spiritual Living Fullerton\, 373 Imperial Hwy\, Fullerton\, CA\, 92835-1040\, United States
CATEGORIES:Office Hours
END:VEVENT
BEGIN:VEVENT
DTSTART;TZID=America/Los_Angeles:20250423T100000
DTEND;TZID=America/Los_Angeles:20250423T140000
DTSTAMP:20260424T074448
CREATED:20210426T210912Z
LAST-MODIFIED:20250414T191030Z
UID:4299-1745402400-1745416800@www.religiousscifullerton.org
SUMMARY:Practitioner on Site
DESCRIPTION:Licensed SOM Practitioners are available during office hours to take your prayer requests. If you would like to speak to a Practitioner please call the office at (714) 525-1126 or email us at spiritlives@religiousscifullerton.org. \nTo schedule a Full Practitioner Session please make an appointment by calling a Practitioner directly. Click on PRACTITIONERS on the top menu for contact information.
URL:https://www.religiousscifullerton.org/event/practitioner-on-site-55/
LOCATION:Center for Spiritual Living Fullerton\, 373 Imperial Hwy\, Fullerton\, CA\, 92835-1040\, United States
CATEGORIES:Office Hours
END:VEVENT
BEGIN:VEVENT
DTSTART;TZID=America/Los_Angeles:20250425T100000
DTEND;TZID=America/Los_Angeles:20250425T140000
DTSTAMP:20260424T074448
CREATED:20210426T211415Z
LAST-MODIFIED:20250414T190944Z
UID:4313-1745575200-1745589600@www.religiousscifullerton.org
SUMMARY:Practitioner on Site
DESCRIPTION:Licensed SOM Practitioners are available during office hours to take your prayer requests. If you would like to speak to a Practitioner please call the office at (714) 525-1126 or email us at spiritlives@religiousscifullerton.org. \nTo schedule a Full Practitioner Session please make an appointment by calling a Practitioner directly. Click on PRACTITIONERS on the top menu for contact information.
URL:https://www.religiousscifullerton.org/event/practitioner-on-site-62/
LOCATION:Center for Spiritual Living Fullerton\, 373 Imperial Hwy\, Fullerton\, CA\, 92835-1040\, United States
CATEGORIES:Office Hours
END:VEVENT
BEGIN:VEVENT
DTSTART;TZID=America/Los_Angeles:20250428T100000
DTEND;TZID=America/Los_Angeles:20250428T140000
DTSTAMP:20260424T074448
CREATED:20210426T211119Z
LAST-MODIFIED:20250414T191207Z
UID:4305-1745834400-1745848800@www.religiousscifullerton.org
SUMMARY:Practitioner on Site
DESCRIPTION:Licensed SOM Practitioners are available during office hours to take your prayer requests. If you would like to speak to a Practitioner please call the office at (714) 525-1126 or email us at spiritlives@religiousscifullerton.org. \nTo schedule a Full Practitioner Session please make an appointment by calling a Practitioner directly. Click on PRACTITIONERS on the top menu for contact information.
URL:https://www.religiousscifullerton.org/event/practitioner-on-site-58/
LOCATION:Center for Spiritual Living Fullerton\, 373 Imperial Hwy\, Fullerton\, CA\, 92835-1040\, United States
CATEGORIES:Office Hours
END:VEVENT
BEGIN:VEVENT
DTSTART;TZID=America/Los_Angeles:20250430T100000
DTEND;TZID=America/Los_Angeles:20250430T140000
DTSTAMP:20260424T074448
CREATED:20210426T211200Z
LAST-MODIFIED:20250414T191343Z
UID:4307-1746007200-1746021600@www.religiousscifullerton.org
SUMMARY:Practitioner on Site
DESCRIPTION:Licensed SOM Practitioners are available during office hours to take your prayer requests. If you would like to speak to a Practitioner please call the office at (714) 525-1126 or email us at spiritlives@religiousscifullerton.org. \nTo schedule a Full Practitioner Session please make an appointment by calling a Practitioner directly. Click on PRACTITIONERS on the top menu for contact information.
URL:https://www.religiousscifullerton.org/event/practitioner-on-site-59/
LOCATION:Center for Spiritual Living Fullerton\, 373 Imperial Hwy\, Fullerton\, CA\, 92835-1040\, United States
CATEGORIES:Office Hours
END:VEVENT
BEGIN:VEVENT
DTSTART;TZID=America/Los_Angeles:20250502T100000
DTEND;TZID=America/Los_Angeles:20250502T140000
DTSTAMP:20260424T074448
CREATED:20210426T211242Z
LAST-MODIFIED:20250414T191457Z
UID:4309-1746180000-1746194400@www.religiousscifullerton.org
SUMMARY:Practitioner on Site
DESCRIPTION:Licensed SOM Practitioners are available during office hours to take your prayer requests. If you would like to speak to a Practitioner please call the office at (714) 525-1126 or email us at spiritlives@religiousscifullerton.org. \nTo schedule a Full Practitioner Session please make an appointment by calling a Practitioner directly. Click on PRACTITIONERS on the top menu for contact information.
URL:https://www.religiousscifullerton.org/event/practitioner-on-site-60/
LOCATION:Center for Spiritual Living Fullerton\, 373 Imperial Hwy\, Fullerton\, CA\, 92835-1040\, United States
CATEGORIES:Office Hours
END:VEVENT
BEGIN:VEVENT
DTSTART;TZID=America/Los_Angeles:20250505T100000
DTEND;TZID=America/Los_Angeles:20250505T140000
DTSTAMP:20260424T074448
CREATED:20210809T190710Z
LAST-MODIFIED:20250414T192811Z
UID:4536-1746439200-1746453600@www.religiousscifullerton.org
SUMMARY:Practitioner on Site
DESCRIPTION:Licensed SOM Practitioners are available during office hours to take your prayer requests. If you would like to speak to a Practitioner please call the office at (714) 525-1126 or email us at spiritlives@religiousscifullerton.org. \nTo schedule a Full Practitioner Session please make an appointment by calling a Practitioner directly. Click on PRACTITIONERS on the top menu for contact information.
URL:https://www.religiousscifullerton.org/event/practitioner-on-site-99/
LOCATION:Center for Spiritual Living Fullerton\, 373 Imperial Hwy\, Fullerton\, CA\, 92835-1040\, United States
CATEGORIES:Office Hours
END:VEVENT
BEGIN:VEVENT
DTSTART;TZID=America/Los_Angeles:20250507T100000
DTEND;TZID=America/Los_Angeles:20250507T140000
DTSTAMP:20260424T074448
CREATED:20210809T191243Z
LAST-MODIFIED:20250414T192914Z
UID:4544-1746612000-1746626400@www.religiousscifullerton.org
SUMMARY:Practitioner on Site
DESCRIPTION:Licensed SOM Practitioners are available during office hours to take your prayer requests. If you would like to speak to a Practitioner please call the office at (714) 525-1126 or email us at spiritlives@religiousscifullerton.org. \nTo schedule a Full Practitioner Session please make an appointment by calling a Practitioner directly. Click on PRACTITIONERS on the top menu for contact information.
URL:https://www.religiousscifullerton.org/event/practitioner-on-site-102/
LOCATION:Center for Spiritual Living Fullerton\, 373 Imperial Hwy\, Fullerton\, CA\, 92835-1040\, United States
CATEGORIES:Office Hours
END:VEVENT
BEGIN:VEVENT
DTSTART;TZID=America/Los_Angeles:20250509T100000
DTEND;TZID=America/Los_Angeles:20250509T140000
DTSTAMP:20260424T074448
CREATED:20210809T191332Z
LAST-MODIFIED:20250414T193013Z
UID:4546-1746784800-1746799200@www.religiousscifullerton.org
SUMMARY:Practitioner on Site
DESCRIPTION:Licensed SOM Practitioners are available during office hours to take your prayer requests. If you would like to speak to a Practitioner please call the office at (714) 525-1126 or email us at spiritlives@religiousscifullerton.org. \nTo schedule a Full Practitioner Session please make an appointment by calling a Practitioner directly. Click on PRACTITIONERS on the top menu for contact information.
URL:https://www.religiousscifullerton.org/event/practitioner-on-site-103/
LOCATION:Center for Spiritual Living Fullerton\, 373 Imperial Hwy\, Fullerton\, CA\, 92835-1040\, United States
CATEGORIES:Office Hours
END:VEVENT
BEGIN:VEVENT
DTSTART;TZID=America/Los_Angeles:20250512T100000
DTEND;TZID=America/Los_Angeles:20250512T140000
DTSTAMP:20260424T074448
CREATED:20210809T191013Z
LAST-MODIFIED:20250414T193115Z
UID:4540-1747044000-1747058400@www.religiousscifullerton.org
SUMMARY:Practitioner on Site
DESCRIPTION:Licensed SOM Practitioners are available during office hours to take your prayer requests. If you would like to speak to a Practitioner please call the office at (714) 525-1126 or email us at spiritlives@religiousscifullerton.org. \nTo schedule a Full Practitioner Session please make an appointment by calling a Practitioner directly. Click on PRACTITIONERS on the top menu for contact information.
URL:https://www.religiousscifullerton.org/event/practitioner-on-site-100/
LOCATION:Center for Spiritual Living Fullerton\, 373 Imperial Hwy\, Fullerton\, CA\, 92835-1040\, United States
CATEGORIES:Office Hours
END:VEVENT
BEGIN:VEVENT
DTSTART;TZID=America/Los_Angeles:20250514T100000
DTEND;TZID=America/Los_Angeles:20250514T140000
DTSTAMP:20260424T074448
CREATED:20210809T191122Z
LAST-MODIFIED:20250414T193225Z
UID:4542-1747216800-1747231200@www.religiousscifullerton.org
SUMMARY:Practitioner on Site
DESCRIPTION:Licensed SOM Practitioners are available during office hours to take your prayer requests. If you would like to speak to a Practitioner please call the office at (714) 525-1126 or email us at spiritlives@religiousscifullerton.org. \nTo schedule a Full Practitioner Session please make an appointment by calling a Practitioner directly. Click on PRACTITIONERS on the top menu for contact information.
URL:https://www.religiousscifullerton.org/event/practitioner-on-site-101/
LOCATION:Center for Spiritual Living Fullerton\, 373 Imperial Hwy\, Fullerton\, CA\, 92835-1040\, United States
CATEGORIES:Office Hours
END:VEVENT
BEGIN:VEVENT
DTSTART;TZID=America/Los_Angeles:20250516T100000
DTEND;TZID=America/Los_Angeles:20250516T140000
DTSTAMP:20260424T074448
CREATED:20210809T191513Z
LAST-MODIFIED:20250414T193314Z
UID:4552-1747389600-1747404000@www.religiousscifullerton.org
SUMMARY:Practitioner on Site
DESCRIPTION:Licensed SOM Practitioners are available during office hours to take your prayer requests. If you would like to speak to a Practitioner please call the office at (714) 525-1126 or email us at spiritlives@religiousscifullerton.org. \nTo schedule a Full Practitioner Session please make an appointment by calling a Practitioner directly. Click on PRACTITIONERS on the top menu for contact information.
URL:https://www.religiousscifullerton.org/event/practitioner-on-site-104/
LOCATION:Center for Spiritual Living Fullerton\, 373 Imperial Hwy\, Fullerton\, CA\, 92835-1040\, United States
CATEGORIES:Office Hours
END:VEVENT
BEGIN:VEVENT
DTSTART;TZID=America/Los_Angeles:20250519T100000
DTEND;TZID=America/Los_Angeles:20250519T140000
DTSTAMP:20260424T074448
CREATED:20210809T191554Z
LAST-MODIFIED:20250414T193405Z
UID:4554-1747648800-1747663200@www.religiousscifullerton.org
SUMMARY:Practitioner on Site
DESCRIPTION:Licensed SOM Practitioners are available during office hours to take your prayer requests. If you would like to speak to a Practitioner please call the office at (714) 525-1126 or email us at spiritlives@religiousscifullerton.org. \nTo schedule a Full Practitioner Session please make an appointment by calling a Practitioner directly. Click on PRACTITIONERS on the top menu for contact information.
URL:https://www.religiousscifullerton.org/event/practitioner-on-site-105/
LOCATION:Center for Spiritual Living Fullerton\, 373 Imperial Hwy\, Fullerton\, CA\, 92835-1040\, United States
CATEGORIES:Office Hours
END:VEVENT
BEGIN:VEVENT
DTSTART;TZID=America/Los_Angeles:20250521T100000
DTEND;TZID=America/Los_Angeles:20250521T140000
DTSTAMP:20260424T074448
CREATED:20210809T192124Z
LAST-MODIFIED:20250414T193453Z
UID:4556-1747821600-1747836000@www.religiousscifullerton.org
SUMMARY:Practitioner on Site
DESCRIPTION:Licensed SOM Practitioners are available during office hours to take your prayer requests. If you would like to speak to a Practitioner please call the office at (714) 525-1126 or email us at spiritlives@religiousscifullerton.org. \nTo schedule a Full Practitioner Session please make an appointment by calling a Practitioner directly. Click on PRACTITIONERS on the top menu for contact information.
URL:https://www.religiousscifullerton.org/event/practitioner-on-site-106/
LOCATION:Center for Spiritual Living Fullerton\, 373 Imperial Hwy\, Fullerton\, CA\, 92835-1040\, United States
CATEGORIES:Office Hours
END:VEVENT
BEGIN:VEVENT
DTSTART;TZID=America/Los_Angeles:20250523T100000
DTEND;TZID=America/Los_Angeles:20250523T140000
DTSTAMP:20260424T074448
CREATED:20210809T192219Z
LAST-MODIFIED:20250414T193547Z
UID:4558-1747994400-1748008800@www.religiousscifullerton.org
SUMMARY:Practitioner on Site
DESCRIPTION:Licensed SOM Practitioners are available during office hours to take your prayer requests. If you would like to speak to a Practitioner please call the office at (714) 525-1126 or email us at spiritlives@religiousscifullerton.org. \nTo schedule a Full Practitioner Session please make an appointment by calling a Practitioner directly. Click on PRACTITIONERS on the top menu for contact information.
URL:https://www.religiousscifullerton.org/event/practitioner-on-site-107/
LOCATION:Center for Spiritual Living Fullerton\, 373 Imperial Hwy\, Fullerton\, CA\, 92835-1040\, United States
CATEGORIES:Office Hours
END:VEVENT
BEGIN:VEVENT
DTSTART;VALUE=DATE:20250526
DTEND;VALUE=DATE:20250527
DTSTAMP:20260424T074448
CREATED:20250507T182936Z
LAST-MODIFIED:20250507T182936Z
UID:8699-1748217600-1748303999@www.religiousscifullerton.org
SUMMARY:Office closed
DESCRIPTION:Office closed in observance of Memorial Day
URL:https://www.religiousscifullerton.org/event/office-closed/
LOCATION:CA
CATEGORIES:Office Hours
END:VEVENT
BEGIN:VEVENT
DTSTART;TZID=America/Los_Angeles:20250528T100000
DTEND;TZID=America/Los_Angeles:20250528T140000
DTSTAMP:20260424T074448
CREATED:20210809T192426Z
LAST-MODIFIED:20250414T193759Z
UID:4562-1748426400-1748440800@www.religiousscifullerton.org
SUMMARY:Practitioner on Site
DESCRIPTION:Licensed SOM Practitioners are available during office hours to take your prayer requests. If you would like to speak to a Practitioner please call the office at (714) 525-1126 or email us at spiritlives@religiousscifullerton.org. \nTo schedule a Full Practitioner Session please make an appointment by calling a Practitioner directly. Click on PRACTITIONERS on the top menu for contact information.
URL:https://www.religiousscifullerton.org/event/practitioner-on-site-109/
LOCATION:Center for Spiritual Living Fullerton\, 373 Imperial Hwy\, Fullerton\, CA\, 92835-1040\, United States
CATEGORIES:Office Hours
END:VEVENT
BEGIN:VEVENT
DTSTART;TZID=America/Los_Angeles:20250530T100000
DTEND;TZID=America/Los_Angeles:20250530T140000
DTSTAMP:20260424T074448
CREATED:20210809T192640Z
LAST-MODIFIED:20250414T193850Z
UID:4564-1748599200-1748613600@www.religiousscifullerton.org
SUMMARY:Practitioner on Site
DESCRIPTION:Licensed SOM Practitioners are available during office hours to take your prayer requests. If you would like to speak to a Practitioner please call the office at (714) 525-1126 or email us at spiritlives@religiousscifullerton.org. \nTo schedule a Full Practitioner Session please make an appointment by calling a Practitioner directly. Click on PRACTITIONERS on the top menu for contact information.
URL:https://www.religiousscifullerton.org/event/practitioner-on-site-110/
LOCATION:Center for Spiritual Living Fullerton\, 373 Imperial Hwy\, Fullerton\, CA\, 92835-1040\, United States
CATEGORIES:Office Hours
END:VEVENT
BEGIN:VEVENT
DTSTART;TZID=America/Los_Angeles:20250602T100000
DTEND;TZID=America/Los_Angeles:20250602T140000
DTSTAMP:20260424T074448
CREATED:20220404T213421Z
LAST-MODIFIED:20250602T191847Z
UID:5324-1748858400-1748872800@www.religiousscifullerton.org
SUMMARY:Practitioner on Site
DESCRIPTION:Licensed SOM Practitioners are available during office hours to take your prayer requests. If you would like to speak to a Practitioner please call the office at (714) 525-1126 or email us at spiritlives@religiousscifullerton.org. \nTo schedule a Full Practitioner Session please make an appointment by calling a Practitioner directly. Click on PRACTITIONERS on the top menu for contact information.
URL:https://www.religiousscifullerton.org/event/practitioner-on-site-205/
LOCATION:Center for Spiritual Living Fullerton\, 373 Imperial Hwy\, Fullerton\, CA\, 92835-1040\, United States
CATEGORIES:Office Hours
END:VEVENT
BEGIN:VEVENT
DTSTART;TZID=America/Los_Angeles:20250604T100000
DTEND;TZID=America/Los_Angeles:20250604T140000
DTSTAMP:20260424T074448
CREATED:20210830T210548Z
LAST-MODIFIED:20250416T195054Z
UID:4648-1749031200-1749045600@www.religiousscifullerton.org
SUMMARY:Practitioner on Site
DESCRIPTION:Licensed SOM Practitioners are available during office hours to take your prayer requests. If you would like to speak to a Practitioner please call the office at (714) 525-1126 or email us at spiritlives@religiousscifullerton.org. \nTo schedule a Full Practitioner Session please make an appointment by calling a Practitioner directly. Click on PRACTITIONERS on the top menu for contact information.
URL:https://www.religiousscifullerton.org/event/practitioner-on-site-112/
LOCATION:Center for Spiritual Living Fullerton\, 373 Imperial Hwy\, Fullerton\, CA\, 92835-1040\, United States
CATEGORIES:Office Hours
END:VEVENT
BEGIN:VEVENT
DTSTART;TZID=America/Los_Angeles:20250606T100000
DTEND;TZID=America/Los_Angeles:20250606T140000
DTSTAMP:20260424T074448
CREATED:20210830T210636Z
LAST-MODIFIED:20250416T195131Z
UID:4650-1749204000-1749218400@www.religiousscifullerton.org
SUMMARY:Practitioner on Site
DESCRIPTION:Licensed SOM Practitioners are available during office hours to take your prayer requests. If you would like to speak to a Practitioner please call the office at (714) 525-1126 or email us at spiritlives@religiousscifullerton.org. \nTo schedule a Full Practitioner Session please make an appointment by calling a Practitioner directly. Click on PRACTITIONERS on the top menu for contact information.
URL:https://www.religiousscifullerton.org/event/practitioner-on-site-113/
LOCATION:Center for Spiritual Living Fullerton\, 373 Imperial Hwy\, Fullerton\, CA\, 92835-1040\, United States
CATEGORIES:Office Hours
END:VEVENT
BEGIN:VEVENT
DTSTART;TZID=America/Los_Angeles:20250609T100000
DTEND;TZID=America/Los_Angeles:20250609T140000
DTSTAMP:20260424T074448
CREATED:20210830T210714Z
LAST-MODIFIED:20250416T195208Z
UID:4652-1749463200-1749477600@www.religiousscifullerton.org
SUMMARY:Practitioner on Site
DESCRIPTION:Licensed SOM Practitioners are available during office hours to take your prayer requests. If you would like to speak to a Practitioner please call the office at (714) 525-1126 or email us at spiritlives@religiousscifullerton.org. \nTo schedule a Full Practitioner Session please make an appointment by calling a Practitioner directly. Click on PRACTITIONERS on the top menu for contact information.
URL:https://www.religiousscifullerton.org/event/practitioner-on-site-114/
LOCATION:Center for Spiritual Living Fullerton\, 373 Imperial Hwy\, Fullerton\, CA\, 92835-1040\, United States
CATEGORIES:Office Hours
END:VEVENT
BEGIN:VEVENT
DTSTART;TZID=America/Los_Angeles:20250611T100000
DTEND;TZID=America/Los_Angeles:20250611T140000
DTSTAMP:20260424T074448
CREATED:20210901T203121Z
LAST-MODIFIED:20250416T195248Z
UID:4656-1749636000-1749650400@www.religiousscifullerton.org
SUMMARY:Practitioner on Site
DESCRIPTION:Licensed SOM Practitioners are available during office hours to take your prayer requests. If you would like to speak to a Practitioner please call the office at (714) 525-1126 or email us at spiritlives@religiousscifullerton.org. \nTo schedule a Full Practitioner Session please make an appointment by calling a Practitioner directly. Click on PRACTITIONERS on the top menu for contact information.
URL:https://www.religiousscifullerton.org/event/practitioner-on-site-115/
LOCATION:Center for Spiritual Living Fullerton\, 373 Imperial Hwy\, Fullerton\, CA\, 92835-1040\, United States
CATEGORIES:Office Hours
END:VEVENT
BEGIN:VEVENT
DTSTART;TZID=America/Los_Angeles:20250613T100000
DTEND;TZID=America/Los_Angeles:20250613T140000
DTSTAMP:20260424T074448
CREATED:20210901T203409Z
LAST-MODIFIED:20250416T195341Z
UID:4658-1749808800-1749823200@www.religiousscifullerton.org
SUMMARY:Practitioner on Site
DESCRIPTION:Licensed SOM Practitioners are available during office hours to take your prayer requests. If you would like to speak to a Practitioner please call the office at (714) 525-1126 or email us at spiritlives@religiousscifullerton.org. \nTo schedule a Full Practitioner Session please make an appointment by calling a Practitioner directly. Click on PRACTITIONERS on the top menu for contact information.
URL:https://www.religiousscifullerton.org/event/practitioner-on-site-116/
LOCATION:Center for Spiritual Living Fullerton\, 373 Imperial Hwy\, Fullerton\, CA\, 92835-1040\, United States
CATEGORIES:Office Hours
END:VEVENT
BEGIN:VEVENT
DTSTART;TZID=America/Los_Angeles:20250616T100000
DTEND;TZID=America/Los_Angeles:20250616T100000
DTSTAMP:20260424T074448
CREATED:20220404T194401Z
LAST-MODIFIED:20250602T190227Z
UID:5203-1750068000-1750068000@www.religiousscifullerton.org
SUMMARY:Practitioner on Site
DESCRIPTION:Licensed SOM Practitioners are available during office hours to take your prayer requests. If you would like to speak to a Practitioner please call the office at (714) 525-1126 or email us at spiritlives@religiousscifullerton.org. \nTo schedule a Full Practitioner Session please make an appointment by calling a Practitioner directly. Click on PRACTITIONERS on the top menu for contact information.
URL:https://www.religiousscifullerton.org/event/practitioner-on-site-192/
LOCATION:Center for Spiritual Living Fullerton\, 373 Imperial Hwy\, Fullerton\, CA\, 92835-1040\, United States
CATEGORIES:Office Hours
END:VEVENT
BEGIN:VEVENT
DTSTART;TZID=America/Los_Angeles:20250618T100000
DTEND;TZID=America/Los_Angeles:20250618T140000
DTSTAMP:20260424T074448
CREATED:20210830T205507Z
LAST-MODIFIED:20250602T190653Z
UID:4646-1750240800-1750255200@www.religiousscifullerton.org
SUMMARY:Practitioner on Site
DESCRIPTION:Licensed SOM Practitioners are available during office hours to take your prayer requests. If you would like to speak to a Practitioner please call the office at (714) 525-1126 or email us at spiritlives@religiousscifullerton.org. \nTo schedule a Full Practitioner Session please make an appointment by calling a Practitioner directly. Click on PRACTITIONERS on the top menu for contact information.
URL:https://www.religiousscifullerton.org/event/practitioner-on-site-111/
LOCATION:Center for Spiritual Living Fullerton\, 373 Imperial Hwy\, Fullerton\, CA\, 92835-1040\, United States
CATEGORIES:Office Hours
END:VEVENT
END:VCALENDAR