BEGIN:VCALENDAR
VERSION:2.0
PRODID:-//CENTER FOR SPIRITUAL LIVING FULLERTON - ECPv6.15.20//NONSGML v1.0//EN
CALSCALE:GREGORIAN
METHOD:PUBLISH
X-ORIGINAL-URL:https://www.religiousscifullerton.org
X-WR-CALDESC:Events for CENTER FOR SPIRITUAL LIVING FULLERTON
REFRESH-INTERVAL;VALUE=DURATION:PT1H
X-Robots-Tag:noindex
X-PUBLISHED-TTL:PT1H
BEGIN:VTIMEZONE
TZID:America/Los_Angeles
BEGIN:DAYLIGHT
TZOFFSETFROM:-0800
TZOFFSETTO:-0700
TZNAME:PDT
DTSTART:20250309T100000
END:DAYLIGHT
BEGIN:STANDARD
TZOFFSETFROM:-0700
TZOFFSETTO:-0800
TZNAME:PST
DTSTART:20251102T090000
END:STANDARD
BEGIN:DAYLIGHT
TZOFFSETFROM:-0800
TZOFFSETTO:-0700
TZNAME:PDT
DTSTART:20260308T100000
END:DAYLIGHT
BEGIN:STANDARD
TZOFFSETFROM:-0700
TZOFFSETTO:-0800
TZNAME:PST
DTSTART:20261101T090000
END:STANDARD
BEGIN:DAYLIGHT
TZOFFSETFROM:-0800
TZOFFSETTO:-0700
TZNAME:PDT
DTSTART:20270314T100000
END:DAYLIGHT
BEGIN:STANDARD
TZOFFSETFROM:-0700
TZOFFSETTO:-0800
TZNAME:PST
DTSTART:20271107T090000
END:STANDARD
END:VTIMEZONE
BEGIN:VEVENT
DTSTART;TZID=America/Los_Angeles:20260302T100000
DTEND;TZID=America/Los_Angeles:20260302T140000
DTSTAMP:20260423T111617
CREATED:20240605T183959Z
LAST-MODIFIED:20260206T192832Z
UID:7740-1772445600-1772460000@www.religiousscifullerton.org
SUMMARY:Practitioner on site
DESCRIPTION:Licensed SOM Practitioners are available during office hours to take your prayer requests. If you would like to speak to a Practitioner please call the office at (714) 525-1126 or email us at spiritlives@religiousscifullerton.org. \nTo schedule a Full Practitioner Session please make an appointment by calling a Practitioner directly. Click on PRACTITIONERS on the top menu for contact information.
URL:https://www.religiousscifullerton.org/event/practitioner-on-site-511/
LOCATION:Center for Spiritual Living Fullerton\, 373 Imperial Hwy\, Fullerton\, CA\, 92835-1040\, United States
CATEGORIES:Office Hours
END:VEVENT
BEGIN:VEVENT
DTSTART;TZID=America/Los_Angeles:20260304T100000
DTEND;TZID=America/Los_Angeles:20260304T140000
DTSTAMP:20260423T111617
CREATED:20240605T184038Z
LAST-MODIFIED:20260206T193123Z
UID:7742-1772618400-1772632800@www.religiousscifullerton.org
SUMMARY:Practitioner on site
DESCRIPTION:Licensed SOM Practitioners are available during office hours to take your prayer requests. If you would like to speak to a Practitioner please call the office at (714) 525-1126 or email us at spiritlives@religiousscifullerton.org. \nTo schedule a Full Practitioner Session please make an appointment by calling a Practitioner directly. Click on PRACTITIONERS on the top menu for contact information.
URL:https://www.religiousscifullerton.org/event/practitioner-on-site-512/
LOCATION:Center for Spiritual Living Fullerton\, 373 Imperial Hwy\, Fullerton\, CA\, 92835-1040\, United States
CATEGORIES:Office Hours
END:VEVENT
BEGIN:VEVENT
DTSTART;TZID=America/Los_Angeles:20260306T100000
DTEND;TZID=America/Los_Angeles:20260306T140000
DTSTAMP:20260423T111617
CREATED:20240605T184120Z
LAST-MODIFIED:20260206T193245Z
UID:7744-1772791200-1772805600@www.religiousscifullerton.org
SUMMARY:Practitioner on site
DESCRIPTION:Licensed SOM Practitioners are available during office hours to take your prayer requests. If you would like to speak to a Practitioner please call the office at (714) 525-1126 or email us at spiritlives@religiousscifullerton.org. \nTo schedule a Full Practitioner Session please make an appointment by calling a Practitioner directly. Click on PRACTITIONERS on the top menu for contact information.
URL:https://www.religiousscifullerton.org/event/practitioner-on-site-513/
LOCATION:Center for Spiritual Living Fullerton\, 373 Imperial Hwy\, Fullerton\, CA\, 92835-1040\, United States
CATEGORIES:Office Hours
END:VEVENT
BEGIN:VEVENT
DTSTART;TZID=America/Los_Angeles:20260309T100000
DTEND;TZID=America/Los_Angeles:20260309T140000
DTSTAMP:20260423T111617
CREATED:20240605T185029Z
LAST-MODIFIED:20260206T193951Z
UID:7764-1773050400-1773064800@www.religiousscifullerton.org
SUMMARY:Practitioner on site
DESCRIPTION:Licensed SOM Practitioners are available during office hours to take your prayer requests. If you would like to speak to a Practitioner please call the office at (714) 525-1126 or email us at spiritlives@religiousscifullerton.org. \nTo schedule a Full Practitioner Session please make an appointment by calling a Practitioner directly. Click on PRACTITIONERS on the top menu for contact information.
URL:https://www.religiousscifullerton.org/event/practitioner-on-site-522/
LOCATION:Center for Spiritual Living Fullerton\, 373 Imperial Hwy\, Fullerton\, CA\, 92835-1040\, United States
CATEGORIES:Office Hours
END:VEVENT
BEGIN:VEVENT
DTSTART;TZID=America/Los_Angeles:20260311T100000
DTEND;TZID=America/Los_Angeles:20260311T140000
DTSTAMP:20260423T111617
CREATED:20240605T185152Z
LAST-MODIFIED:20260206T193658Z
UID:7768-1773223200-1773237600@www.religiousscifullerton.org
SUMMARY:Practitioner on site
DESCRIPTION:Licensed SOM Practitioners are available during office hours to take your prayer requests. If you would like to speak to a Practitioner please call the office at (714) 525-1126 or email us at spiritlives@religiousscifullerton.org. \nTo schedule a Full Practitioner Session please make an appointment by calling a Practitioner directly. Click on PRACTITIONERS on the top menu for contact information.
URL:https://www.religiousscifullerton.org/event/practitioner-on-site-524/
LOCATION:Center for Spiritual Living Fullerton\, 373 Imperial Hwy\, Fullerton\, CA\, 92835-1040\, United States
CATEGORIES:Office Hours
END:VEVENT
BEGIN:VEVENT
DTSTART;TZID=America/Los_Angeles:20260313T100000
DTEND;TZID=America/Los_Angeles:20260313T140000
DTSTAMP:20260423T111617
CREATED:20240605T185109Z
LAST-MODIFIED:20260206T193734Z
UID:7766-1773396000-1773410400@www.religiousscifullerton.org
SUMMARY:Practitioner on site
DESCRIPTION:Licensed SOM Practitioners are available during office hours to take your prayer requests. If you would like to speak to a Practitioner please call the office at (714) 525-1126 or email us at spiritlives@religiousscifullerton.org. \nTo schedule a Full Practitioner Session please make an appointment by calling a Practitioner directly. Click on PRACTITIONERS on the top menu for contact information.
URL:https://www.religiousscifullerton.org/event/practitioner-on-site-523/
LOCATION:Center for Spiritual Living Fullerton\, 373 Imperial Hwy\, Fullerton\, CA\, 92835-1040\, United States
CATEGORIES:Office Hours
END:VEVENT
BEGIN:VEVENT
DTSTART;TZID=America/Los_Angeles:20260316T100000
DTEND;TZID=America/Los_Angeles:20260316T140000
DTSTAMP:20260423T111617
CREATED:20240605T185307Z
LAST-MODIFIED:20260206T194034Z
UID:7770-1773655200-1773669600@www.religiousscifullerton.org
SUMMARY:Practitioner on site
DESCRIPTION:Licensed SOM Practitioners are available during office hours to take your prayer requests. If you would like to speak to a Practitioner please call the office at (714) 525-1126 or email us at spiritlives@religiousscifullerton.org. \nTo schedule a Full Practitioner Session please make an appointment by calling a Practitioner directly. Click on PRACTITIONERS on the top menu for contact information.
URL:https://www.religiousscifullerton.org/event/practitioner-on-site-525/
LOCATION:Center for Spiritual Living Fullerton\, 373 Imperial Hwy\, Fullerton\, CA\, 92835-1040\, United States
CATEGORIES:Office Hours
END:VEVENT
BEGIN:VEVENT
DTSTART;VALUE=DATE:20260318
DTEND;VALUE=DATE:20260319
DTSTAMP:20260423T111617
CREATED:20260218T192608Z
LAST-MODIFIED:20260218T192608Z
UID:9250-1773792000-1773878399@www.religiousscifullerton.org
SUMMARY:Office closed
DESCRIPTION:Office closed
URL:https://www.religiousscifullerton.org/event/office-closed-7/
CATEGORIES:Office Hours
END:VEVENT
BEGIN:VEVENT
DTSTART;TZID=America/Los_Angeles:20260320T100000
DTEND;TZID=America/Los_Angeles:20260320T140000
DTSTAMP:20260423T111617
CREATED:20240605T185423Z
LAST-MODIFIED:20260206T194146Z
UID:7774-1774000800-1774015200@www.religiousscifullerton.org
SUMMARY:Practitioner on site
DESCRIPTION:Licensed SOM Practitioners are available during office hours to take your prayer requests. If you would like to speak to a Practitioner please call the office at (714) 525-1126 or email us at spiritlives@religiousscifullerton.org. \nTo schedule a Full Practitioner Session please make an appointment by calling a Practitioner directly. Click on PRACTITIONERS on the top menu for contact information.
URL:https://www.religiousscifullerton.org/event/practitioner-on-site-527/
LOCATION:Center for Spiritual Living Fullerton\, 373 Imperial Hwy\, Fullerton\, CA\, 92835-1040\, United States
CATEGORIES:Office Hours
END:VEVENT
BEGIN:VEVENT
DTSTART;TZID=America/Los_Angeles:20260323T100000
DTEND;TZID=America/Los_Angeles:20260323T140000
DTSTAMP:20260423T111617
CREATED:20240605T184759Z
LAST-MODIFIED:20260206T194311Z
UID:7760-1774260000-1774274400@www.religiousscifullerton.org
SUMMARY:Practitioner on site
DESCRIPTION:Licensed SOM Practitioners are available during office hours to take your prayer requests. If you would like to speak to a Practitioner please call the office at (714) 525-1126 or email us at spiritlives@religiousscifullerton.org. \nTo schedule a Full Practitioner Session please make an appointment by calling a Practitioner directly. Click on PRACTITIONERS on the top menu for contact information.
URL:https://www.religiousscifullerton.org/event/practitioner-on-site-521/
LOCATION:Center for Spiritual Living Fullerton\, 373 Imperial Hwy\, Fullerton\, CA\, 92835-1040\, United States
CATEGORIES:Office Hours
END:VEVENT
BEGIN:VEVENT
DTSTART;TZID=America/Los_Angeles:20260325T100000
DTEND;TZID=America/Los_Angeles:20260325T140000
DTSTAMP:20260423T111617
CREATED:20240605T184659Z
LAST-MODIFIED:20260206T194352Z
UID:7758-1774432800-1774447200@www.religiousscifullerton.org
SUMMARY:Practitioner on site
DESCRIPTION:Licensed SOM Practitioners are available during office hours to take your prayer requests. If you would like to speak to a Practitioner please call the office at (714) 525-1126 or email us at spiritlives@religiousscifullerton.org. \nTo schedule a Full Practitioner Session please make an appointment by calling a Practitioner directly. Click on PRACTITIONERS on the top menu for contact information.
URL:https://www.religiousscifullerton.org/event/practitioner-on-site-520/
LOCATION:Center for Spiritual Living Fullerton\, 373 Imperial Hwy\, Fullerton\, CA\, 92835-1040\, United States
CATEGORIES:Office Hours
END:VEVENT
BEGIN:VEVENT
DTSTART;TZID=America/Los_Angeles:20260327T100000
DTEND;TZID=America/Los_Angeles:20260327T140000
DTSTAMP:20260423T111617
CREATED:20240605T184619Z
LAST-MODIFIED:20260206T194433Z
UID:7756-1774605600-1774620000@www.religiousscifullerton.org
SUMMARY:Practitioner on site
DESCRIPTION:Licensed SOM Practitioners are available during office hours to take your prayer requests. If you would like to speak to a Practitioner please call the office at (714) 525-1126 or email us at spiritlives@religiousscifullerton.org. \nTo schedule a Full Practitioner Session please make an appointment by calling a Practitioner directly. Click on PRACTITIONERS on the top menu for contact information.
URL:https://www.religiousscifullerton.org/event/practitioner-on-site-519/
LOCATION:Center for Spiritual Living Fullerton\, 373 Imperial Hwy\, Fullerton\, CA\, 92835-1040\, United States
CATEGORIES:Office Hours
END:VEVENT
BEGIN:VEVENT
DTSTART;TZID=America/Los_Angeles:20260330T100000
DTEND;TZID=America/Los_Angeles:20260330T140000
DTSTAMP:20260423T111617
CREATED:20240708T202149Z
LAST-MODIFIED:20260206T194532Z
UID:7859-1774864800-1774879200@www.religiousscifullerton.org
SUMMARY:Practitioner on site
DESCRIPTION:Licensed SOM Practitioners are available during office hours to take your prayer requests. If you would like to speak to a Practitioner please call the office at (714) 525-1126 or email us at spiritlives@religiousscifullerton.org. \nTo schedule a Full Practitioner Session please make an appointment by calling a Practitioner directly. Click on PRACTITIONERS on the top menu for contact information.
URL:https://www.religiousscifullerton.org/event/practitioner-on-site-516/
LOCATION:Center for Spiritual Living Fullerton\, 373 Imperial Hwy\, Fullerton\, CA\, 92835-1040\, United States
CATEGORIES:Office Hours
END:VEVENT
END:VCALENDAR