BEGIN:VCALENDAR
VERSION:2.0
PRODID:-//CENTER FOR SPIRITUAL LIVING FULLERTON - ECPv6.15.20//NONSGML v1.0//EN
CALSCALE:GREGORIAN
METHOD:PUBLISH
X-ORIGINAL-URL:https://www.religiousscifullerton.org
X-WR-CALDESC:Events for CENTER FOR SPIRITUAL LIVING FULLERTON
REFRESH-INTERVAL;VALUE=DURATION:PT1H
X-Robots-Tag:noindex
X-PUBLISHED-TTL:PT1H
BEGIN:VTIMEZONE
TZID:America/Los_Angeles
BEGIN:DAYLIGHT
TZOFFSETFROM:-0800
TZOFFSETTO:-0700
TZNAME:PDT
DTSTART:20240310T100000
END:DAYLIGHT
BEGIN:STANDARD
TZOFFSETFROM:-0700
TZOFFSETTO:-0800
TZNAME:PST
DTSTART:20241103T090000
END:STANDARD
BEGIN:DAYLIGHT
TZOFFSETFROM:-0800
TZOFFSETTO:-0700
TZNAME:PDT
DTSTART:20250309T100000
END:DAYLIGHT
BEGIN:STANDARD
TZOFFSETFROM:-0700
TZOFFSETTO:-0800
TZNAME:PST
DTSTART:20251102T090000
END:STANDARD
BEGIN:DAYLIGHT
TZOFFSETFROM:-0800
TZOFFSETTO:-0700
TZNAME:PDT
DTSTART:20260308T100000
END:DAYLIGHT
BEGIN:STANDARD
TZOFFSETFROM:-0700
TZOFFSETTO:-0800
TZNAME:PST
DTSTART:20261101T090000
END:STANDARD
END:VTIMEZONE
BEGIN:VEVENT
DTSTART;TZID=America/Los_Angeles:20251103T100000
DTEND;TZID=America/Los_Angeles:20251103T140000
DTSTAMP:20260423T165353
CREATED:20230329T190246Z
LAST-MODIFIED:20250929T220858Z
UID:6485-1762164000-1762178400@www.religiousscifullerton.org
SUMMARY:Practitioner on Site
DESCRIPTION:Licensed SOM Practitioners are available during office hours to take your prayer requests. If you would like to speak to a Practitioner please call the office at (714) 525-1126 or email us at spiritlives@religiousscifullerton.org. \nTo schedule a Full Practitioner Session please make an appointment by calling a Practitioner directly. Click on PRACTITIONERS on the top menu for contact information.
URL:https://www.religiousscifullerton.org/event/practitioner-on-site-341/
LOCATION:Center for Spiritual Living Fullerton\, 373 Imperial Hwy\, Fullerton\, CA\, 92835-1040\, United States
CATEGORIES:Office Hours
END:VEVENT
BEGIN:VEVENT
DTSTART;TZID=America/Los_Angeles:20251105T100000
DTEND;TZID=America/Los_Angeles:20251105T140000
DTSTAMP:20260423T165353
CREATED:20230329T190326Z
LAST-MODIFIED:20250929T220956Z
UID:6487-1762336800-1762351200@www.religiousscifullerton.org
SUMMARY:Practitioner on Site
DESCRIPTION:Licensed SOM Practitioners are available during office hours to take your prayer requests. If you would like to speak to a Practitioner please call the office at (714) 525-1126 or email us at spiritlives@religiousscifullerton.org. \nTo schedule a Full Practitioner Session please make an appointment by calling a Practitioner directly. Click on PRACTITIONERS on the top menu for contact information.
URL:https://www.religiousscifullerton.org/event/practitioner-on-site-342/
LOCATION:Center for Spiritual Living Fullerton\, 373 Imperial Hwy\, Fullerton\, CA\, 92835-1040\, United States
CATEGORIES:Office Hours
END:VEVENT
BEGIN:VEVENT
DTSTART;TZID=America/Los_Angeles:20251107T100000
DTEND;TZID=America/Los_Angeles:20251107T140000
DTSTAMP:20260423T165353
CREATED:20230331T203913Z
LAST-MODIFIED:20250929T221208Z
UID:6502-1762509600-1762524000@www.religiousscifullerton.org
SUMMARY:Practitioner on Site
DESCRIPTION:Licensed SOM Practitioners are available during office hours to take your prayer requests. If you would like to speak to a Practitioner please call the office at (714) 525-1126 or email us at spiritlives@religiousscifullerton.org. \nTo schedule a Full Practitioner Session please make an appointment by calling a Practitioner directly. Click on PRACTITIONERS on the top menu for contact information.
URL:https://www.religiousscifullerton.org/event/practitioner-on-site-343/
LOCATION:Center for Spiritual Living Fullerton\, 373 Imperial Hwy\, Fullerton\, CA\, 92835-1040\, United States
CATEGORIES:Office Hours
END:VEVENT
BEGIN:VEVENT
DTSTART;TZID=America/Los_Angeles:20251110T100000
DTEND;TZID=America/Los_Angeles:20251110T140000
DTSTAMP:20260423T165353
CREATED:20230331T204006Z
LAST-MODIFIED:20250929T221306Z
UID:6504-1762768800-1762783200@www.religiousscifullerton.org
SUMMARY:Practitioner on Site
DESCRIPTION:Licensed SOM Practitioners are available during office hours to take your prayer requests. If you would like to speak to a Practitioner please call the office at (714) 525-1126 or email us at spiritlives@religiousscifullerton.org. \nTo schedule a Full Practitioner Session please make an appointment by calling a Practitioner directly. Click on PRACTITIONERS on the top menu for contact information.
URL:https://www.religiousscifullerton.org/event/practitioner-on-site-344/
LOCATION:Center for Spiritual Living Fullerton\, 373 Imperial Hwy\, Fullerton\, CA\, 92835-1040\, United States
CATEGORIES:Office Hours
END:VEVENT
BEGIN:VEVENT
DTSTART;TZID=America/Los_Angeles:20251112T100000
DTEND;TZID=America/Los_Angeles:20251112T140000
DTSTAMP:20260423T165353
CREATED:20230331T204056Z
LAST-MODIFIED:20250929T221347Z
UID:6506-1762941600-1762956000@www.religiousscifullerton.org
SUMMARY:Practitioner on Site
DESCRIPTION:Licensed SOM Practitioners are available during office hours to take your prayer requests. If you would like to speak to a Practitioner please call the office at (714) 525-1126 or email us at spiritlives@religiousscifullerton.org. \nTo schedule a Full Practitioner Session please make an appointment by calling a Practitioner directly. Click on PRACTITIONERS on the top menu for contact information.
URL:https://www.religiousscifullerton.org/event/practitioner-on-site-345/
LOCATION:Center for Spiritual Living Fullerton\, 373 Imperial Hwy\, Fullerton\, CA\, 92835-1040\, United States
CATEGORIES:Office Hours
END:VEVENT
BEGIN:VEVENT
DTSTART;TZID=America/Los_Angeles:20251114T100000
DTEND;TZID=America/Los_Angeles:20251114T140000
DTSTAMP:20260423T165353
CREATED:20230331T204134Z
LAST-MODIFIED:20250929T221551Z
UID:6508-1763114400-1763128800@www.religiousscifullerton.org
SUMMARY:Practitioner on Site
DESCRIPTION:Licensed SOM Practitioners are available during office hours to take your prayer requests. If you would like to speak to a Practitioner please call the office at (714) 525-1126 or email us at spiritlives@religiousscifullerton.org. \nTo schedule a Full Practitioner Session please make an appointment by calling a Practitioner directly. Click on PRACTITIONERS on the top menu for contact information.
URL:https://www.religiousscifullerton.org/event/practitioner-on-site-346/
LOCATION:Center for Spiritual Living Fullerton\, 373 Imperial Hwy\, Fullerton\, CA\, 92835-1040\, United States
CATEGORIES:Office Hours
END:VEVENT
BEGIN:VEVENT
DTSTART;TZID=America/Los_Angeles:20251117T100000
DTEND;TZID=America/Los_Angeles:20251117T140000
DTSTAMP:20260423T165353
CREATED:20230331T204216Z
LAST-MODIFIED:20250929T221635Z
UID:6510-1763373600-1763388000@www.religiousscifullerton.org
SUMMARY:Practitioner on Site
DESCRIPTION:Licensed SOM Practitioners are available during office hours to take your prayer requests. If you would like to speak to a Practitioner please call the office at (714) 525-1126 or email us at spiritlives@religiousscifullerton.org. \nTo schedule a Full Practitioner Session please make an appointment by calling a Practitioner directly. Click on PRACTITIONERS on the top menu for contact information.
URL:https://www.religiousscifullerton.org/event/practitioner-on-site-347/
LOCATION:Center for Spiritual Living Fullerton\, 373 Imperial Hwy\, Fullerton\, CA\, 92835-1040\, United States
CATEGORIES:Office Hours
END:VEVENT
BEGIN:VEVENT
DTSTART;TZID=America/Los_Angeles:20251119T100000
DTEND;TZID=America/Los_Angeles:20251119T140000
DTSTAMP:20260423T165353
CREATED:20230331T204259Z
LAST-MODIFIED:20250929T221722Z
UID:6512-1763546400-1763560800@www.religiousscifullerton.org
SUMMARY:Practitioner on Site
DESCRIPTION:Licensed SOM Practitioners are available during office hours to take your prayer requests. If you would like to speak to a Practitioner please call the office at (714) 525-1126 or email us at spiritlives@religiousscifullerton.org. \nTo schedule a Full Practitioner Session please make an appointment by calling a Practitioner directly. Click on PRACTITIONERS on the top menu for contact information.
URL:https://www.religiousscifullerton.org/event/practitioner-on-site-348/
LOCATION:Center for Spiritual Living Fullerton\, 373 Imperial Hwy\, Fullerton\, CA\, 92835-1040\, United States
CATEGORIES:Office Hours
END:VEVENT
BEGIN:VEVENT
DTSTART;TZID=America/Los_Angeles:20251121T100000
DTEND;TZID=America/Los_Angeles:20251121T140000
DTSTAMP:20260423T165353
CREATED:20230403T193405Z
LAST-MODIFIED:20250929T221818Z
UID:6545-1763719200-1763733600@www.religiousscifullerton.org
SUMMARY:Practitioner on Site
DESCRIPTION:Licensed SOM Practitioners are available during office hours to take your prayer requests. If you would like to speak to a Practitioner please call the office at (714) 525-1126 or email us at spiritlives@religiousscifullerton.org. \nTo schedule a Full Practitioner Session please make an appointment by calling a Practitioner directly. Click on PRACTITIONERS on the top menu for contact information.
URL:https://www.religiousscifullerton.org/event/practitioner-on-site-349/
LOCATION:Center for Spiritual Living Fullerton\, 373 Imperial Hwy\, Fullerton\, CA\, 92835-1040\, United States
CATEGORIES:Office Hours
END:VEVENT
BEGIN:VEVENT
DTSTART;TZID=America/Los_Angeles:20251124T100000
DTEND;TZID=America/Los_Angeles:20251124T140000
DTSTAMP:20260423T165353
CREATED:20230403T193456Z
LAST-MODIFIED:20250929T222026Z
UID:6547-1763978400-1763992800@www.religiousscifullerton.org
SUMMARY:Practitioner on Site
DESCRIPTION:Licensed SOM Practitioners are available during office hours to take your prayer requests. If you would like to speak to a Practitioner please call the office at (714) 525-1126 or email us at spiritlives@religiousscifullerton.org. \nTo schedule a Full Practitioner Session please make an appointment by calling a Practitioner directly. Click on PRACTITIONERS on the top menu for contact information.
URL:https://www.religiousscifullerton.org/event/practitioner-on-site-350/
LOCATION:Center for Spiritual Living Fullerton\, 373 Imperial Hwy\, Fullerton\, CA\, 92835-1040\, United States
CATEGORIES:Office Hours
END:VEVENT
BEGIN:VEVENT
DTSTART;TZID=America/Los_Angeles:20251126T100000
DTEND;TZID=America/Los_Angeles:20251126T140000
DTSTAMP:20260423T165353
CREATED:20230403T193534Z
LAST-MODIFIED:20250929T222104Z
UID:6549-1764151200-1764165600@www.religiousscifullerton.org
SUMMARY:Practitioner on Site
DESCRIPTION:Licensed SOM Practitioners are available during office hours to take your prayer requests. If you would like to speak to a Practitioner please call the office at (714) 525-1126 or email us at spiritlives@religiousscifullerton.org. \nTo schedule a Full Practitioner Session please make an appointment by calling a Practitioner directly. Click on PRACTITIONERS on the top menu for contact information.
URL:https://www.religiousscifullerton.org/event/practitioner-on-site-351/
LOCATION:Center for Spiritual Living Fullerton\, 373 Imperial Hwy\, Fullerton\, CA\, 92835-1040\, United States
CATEGORIES:Office Hours
END:VEVENT
BEGIN:VEVENT
DTSTART;VALUE=DATE:20251128
DTEND;VALUE=DATE:20251129
DTSTAMP:20260423T165353
CREATED:20251103T194726Z
LAST-MODIFIED:20251103T194726Z
UID:9025-1764288000-1764374399@www.religiousscifullerton.org
SUMMARY:Office closed in observance of Thanksgiving
DESCRIPTION:Office closed in observance of Thanksgiving
URL:https://www.religiousscifullerton.org/event/office-closed-in-observance-of-thanksgiving-3/
LOCATION:Center for Spiritual Living Fullerton\, 373 Imperial Hwy\, Fullerton\, CA\, 92835-1040\, United States
CATEGORIES:Office Hours
END:VEVENT
END:VCALENDAR