BEGIN:VCALENDAR
VERSION:2.0
PRODID:-//CENTER FOR SPIRITUAL LIVING FULLERTON - ECPv6.15.20//NONSGML v1.0//EN
CALSCALE:GREGORIAN
METHOD:PUBLISH
X-WR-CALNAME:CENTER FOR SPIRITUAL LIVING FULLERTON
X-ORIGINAL-URL:https://www.religiousscifullerton.org
X-WR-CALDESC:Events for CENTER FOR SPIRITUAL LIVING FULLERTON
REFRESH-INTERVAL;VALUE=DURATION:PT1H
X-Robots-Tag:noindex
X-PUBLISHED-TTL:PT1H
BEGIN:VTIMEZONE
TZID:America/Los_Angeles
BEGIN:DAYLIGHT
TZOFFSETFROM:-0800
TZOFFSETTO:-0700
TZNAME:PDT
DTSTART:20250309T100000
END:DAYLIGHT
BEGIN:STANDARD
TZOFFSETFROM:-0700
TZOFFSETTO:-0800
TZNAME:PST
DTSTART:20251102T090000
END:STANDARD
BEGIN:DAYLIGHT
TZOFFSETFROM:-0800
TZOFFSETTO:-0700
TZNAME:PDT
DTSTART:20260308T100000
END:DAYLIGHT
BEGIN:STANDARD
TZOFFSETFROM:-0700
TZOFFSETTO:-0800
TZNAME:PST
DTSTART:20261101T090000
END:STANDARD
BEGIN:DAYLIGHT
TZOFFSETFROM:-0800
TZOFFSETTO:-0700
TZNAME:PDT
DTSTART:20270314T100000
END:DAYLIGHT
BEGIN:STANDARD
TZOFFSETFROM:-0700
TZOFFSETTO:-0800
TZNAME:PST
DTSTART:20271107T090000
END:STANDARD
END:VTIMEZONE
BEGIN:VEVENT
DTSTART;TZID=America/Los_Angeles:20260301T110000
DTEND;TZID=America/Los_Angeles:20260301T120000
DTSTAMP:20260423T111523
CREATED:20240531T222515Z
LAST-MODIFIED:20260218T191908Z
UID:7686-1772362800-1772366400@www.religiousscifullerton.org
SUMMARY:Sunday Celebration Service
DESCRIPTION:Please join us for our Sunday Celebration Service! Rev. Dr. Bill Salisbury is speaking on “Living the Life of Luxury.” Spiritual reading by Carol Riseling\, RScP and musical inspiration provided by Tommy Cosentino. \nRecording posted by 3 pm for home viewing.
URL:https://www.religiousscifullerton.org/event/7686/
LOCATION:Center for Spiritual Living Fullerton\, 373 Imperial Hwy\, Fullerton\, CA\, 92835-1040\, United States
CATEGORIES:LIVE MUSIC,Sunday Service
END:VEVENT
BEGIN:VEVENT
DTSTART;TZID=America/Los_Angeles:20260308T110000
DTEND;TZID=America/Los_Angeles:20260308T120000
DTSTAMP:20260423T111523
CREATED:20240531T222642Z
LAST-MODIFIED:20260218T191755Z
UID:7688-1772967600-1772971200@www.religiousscifullerton.org
SUMMARY:Sunday Celebration Service
DESCRIPTION:Please join us for our Sunday Celebration Service! Rev. Dr. Bill Salisbury is speaking on “Running After Rainbows.” Spiritual reading by Amanda Secola\, RScP and musical inspiration provided by Michael Whitney & Tommy Cosentino. \nRecording posted by 3 pm for home viewing.
URL:https://www.religiousscifullerton.org/event/sunday-celebration-service-196/
LOCATION:Center for Spiritual Living Fullerton\, 373 Imperial Hwy\, Fullerton\, CA\, 92835-1040\, United States
CATEGORIES:LIVE MUSIC,Sunday Service
END:VEVENT
BEGIN:VEVENT
DTSTART;TZID=America/Los_Angeles:20260315T110000
DTEND;TZID=America/Los_Angeles:20260315T120000
DTSTAMP:20260423T111523
CREATED:20240531T222841Z
LAST-MODIFIED:20260216T200253Z
UID:7691-1773572400-1773576000@www.religiousscifullerton.org
SUMMARY:Sunday Celebration Service
DESCRIPTION:Please join us for our Sunday Celebration Service! Rev. Dr. Bill Salisbury is speaking on “Feelings Mask the Soul.” Spiritual reading by Beverley Brezden\, RScP and musical inspiration provided by Tommy Cosentino. \nRecording posted by 3 pm for home viewing.
URL:https://www.religiousscifullerton.org/event/sunday-celebration-service-197/
LOCATION:Center for Spiritual Living Fullerton\, 373 Imperial Hwy\, Fullerton\, CA\, 92835-1040\, United States
CATEGORIES:LIVE MUSIC,Sunday Service
END:VEVENT
BEGIN:VEVENT
DTSTART;TZID=America/Los_Angeles:20260322T110000
DTEND;TZID=America/Los_Angeles:20260322T120000
DTSTAMP:20260423T111523
CREATED:20240531T223022Z
LAST-MODIFIED:20260218T192252Z
UID:7693-1774177200-1774180800@www.religiousscifullerton.org
SUMMARY:Sunday Celebration Service
DESCRIPTION:Please join us for our Sunday Celebration Service! Rev. Dr. Bill Salisbury is speaking on “The Eternal Romance.” Spiritual reading by Sally Stredler\, RScP\, and musical inspiration provided by Rick Dale & Tommy Cosentino. \nRecording posted by 3 pm for home viewing.
URL:https://www.religiousscifullerton.org/event/sunday-celebration-service-198/
LOCATION:Center for Spiritual Living Fullerton\, 373 Imperial Hwy\, Fullerton\, CA\, 92835-1040\, United States
CATEGORIES:LIVE MUSIC,Sunday Service
END:VEVENT
BEGIN:VEVENT
DTSTART;TZID=America/Los_Angeles:20260329T110000
DTEND;TZID=America/Los_Angeles:20260329T120000
DTSTAMP:20260423T111523
CREATED:20240619T193140Z
LAST-MODIFIED:20260218T192142Z
UID:7808-1774782000-1774785600@www.religiousscifullerton.org
SUMMARY:Sunday Celebration Service
DESCRIPTION:Please join us for our Sunday Celebration Service! Rev. Dr. Bill Salisbury is speaking on “Reflections on Harmony and Truth.” Spiritual reading by Debra McMurry\, RScP and musical inspiration provided by Richard Ihara & Debbi Ebert. \nRecording posted by 3 pm for home viewing.
URL:https://www.religiousscifullerton.org/event/sunday-celebration-service-199/
LOCATION:Center for Spiritual Living Fullerton\, 373 Imperial Hwy\, Fullerton\, CA\, 92835-1040\, United States
CATEGORIES:LIVE MUSIC,Sunday Service
END:VEVENT
END:VCALENDAR