BEGIN:VCALENDAR
VERSION:2.0
PRODID:-//CENTER FOR SPIRITUAL LIVING FULLERTON - ECPv6.15.20//NONSGML v1.0//EN
CALSCALE:GREGORIAN
METHOD:PUBLISH
X-WR-CALNAME:CENTER FOR SPIRITUAL LIVING FULLERTON
X-ORIGINAL-URL:https://www.religiousscifullerton.org
X-WR-CALDESC:Events for CENTER FOR SPIRITUAL LIVING FULLERTON
REFRESH-INTERVAL;VALUE=DURATION:PT1H
X-Robots-Tag:noindex
X-PUBLISHED-TTL:PT1H
BEGIN:VTIMEZONE
TZID:America/Los_Angeles
BEGIN:DAYLIGHT
TZOFFSETFROM:-0800
TZOFFSETTO:-0700
TZNAME:PDT
DTSTART:20230312T100000
END:DAYLIGHT
BEGIN:STANDARD
TZOFFSETFROM:-0700
TZOFFSETTO:-0800
TZNAME:PST
DTSTART:20231105T090000
END:STANDARD
BEGIN:DAYLIGHT
TZOFFSETFROM:-0800
TZOFFSETTO:-0700
TZNAME:PDT
DTSTART:20240310T100000
END:DAYLIGHT
BEGIN:STANDARD
TZOFFSETFROM:-0700
TZOFFSETTO:-0800
TZNAME:PST
DTSTART:20241103T090000
END:STANDARD
BEGIN:DAYLIGHT
TZOFFSETFROM:-0800
TZOFFSETTO:-0700
TZNAME:PDT
DTSTART:20250309T100000
END:DAYLIGHT
BEGIN:STANDARD
TZOFFSETFROM:-0700
TZOFFSETTO:-0800
TZNAME:PST
DTSTART:20251102T090000
END:STANDARD
END:VTIMEZONE
BEGIN:VEVENT
DTSTART;TZID=America/Los_Angeles:20241201T110000
DTEND;TZID=America/Los_Angeles:20241201T120000
DTSTAMP:20260424T073933
CREATED:20241021T205444Z
LAST-MODIFIED:20241213T224438Z
UID:8177-1733050800-1733054400@www.religiousscifullerton.org
SUMMARY:Sunday Celebration Service
DESCRIPTION:Please join us for our Sunday Celebration! Rev. Dr. Bill Salisbury is speaking on “The Substitute”. Spiritual Reading by Dee Noel\, RScP and musical inspiration provided by Michael Whitney & Tommy Cosentino. \nRecording posted by 3 pm for home viewing.
URL:https://www.religiousscifullerton.org/event/sunday-celebration-service-219/
LOCATION:Center for Spiritual Living Fullerton\, 373 Imperial Hwy\, Fullerton\, CA\, 92835-1040\, United States
CATEGORIES:LIVE MUSIC,Sunday Service
END:VEVENT
BEGIN:VEVENT
DTSTART;TZID=America/Los_Angeles:20241208T110000
DTEND;TZID=America/Los_Angeles:20241208T120000
DTSTAMP:20260424T073933
CREATED:20241021T205614Z
LAST-MODIFIED:20241213T224544Z
UID:8179-1733655600-1733659200@www.religiousscifullerton.org
SUMMARY:Sunday Celebration Service
DESCRIPTION:Please join us for our Sunday Celebration! Rev. Dr. Bill Salisbury is speaking on “When Limits Reach Their Limit”. Spiritual Reading by Carol Riseling\, RScP and musical inspiration provided by Richard Ihara & Debbi Ebert. \nRecording posted by 3 pm for home viewing.
URL:https://www.religiousscifullerton.org/event/sunday-celebration-service-220/
LOCATION:Center for Spiritual Living Fullerton\, 373 Imperial Hwy\, Fullerton\, CA\, 92835-1040\, United States
CATEGORIES:LIVE MUSIC,Sunday Service
END:VEVENT
BEGIN:VEVENT
DTSTART;TZID=America/Los_Angeles:20241215T110000
DTEND;TZID=America/Los_Angeles:20241215T120000
DTSTAMP:20260424T073933
CREATED:20241021T205752Z
LAST-MODIFIED:20241213T224708Z
UID:8181-1734260400-1734264000@www.religiousscifullerton.org
SUMMARY:Sunday Celebration Service
DESCRIPTION:Please join us for our Sunday Celebration! Rev. Dr. Bill Salisbury is speaking on “There’s More to Life Than Meets the Eye”. Spiritual Reading by Amanda Secola\, RScP and musical inspiration provided by Tommy Cosentino. \nRecording posted by 3 pm for home viewing.
URL:https://www.religiousscifullerton.org/event/sunday-celebration-service-221/
LOCATION:Center for Spiritual Living Fullerton\, 373 Imperial Hwy\, Fullerton\, CA\, 92835-1040\, United States
CATEGORIES:LIVE MUSIC,Sunday Service
END:VEVENT
BEGIN:VEVENT
DTSTART;TZID=America/Los_Angeles:20241222T110000
DTEND;TZID=America/Los_Angeles:20241222T120000
DTSTAMP:20260424T073933
CREATED:20241021T205914Z
LAST-MODIFIED:20241213T224844Z
UID:8183-1734865200-1734868800@www.religiousscifullerton.org
SUMMARY:Sunday Celebration Service
DESCRIPTION:Please join us for our Sunday Celebration! Rev. Dr. Bill Salisbury is speaking on “The Greatest Gift”. Spiritual Reading by Beverley Brezden\, RScP and musical inspiration provided by Debbi Ebert & Tommy Cosentino. \nRecording posted by 3 pm for home viewing.
URL:https://www.religiousscifullerton.org/event/8183/
LOCATION:Center for Spiritual Living Fullerton\, 373 Imperial Hwy\, Fullerton\, CA\, 92835-1040\, United States
CATEGORIES:LIVE MUSIC,Sunday Service
END:VEVENT
BEGIN:VEVENT
DTSTART;TZID=America/Los_Angeles:20241229T110000
DTEND;TZID=America/Los_Angeles:20241229T120000
DTSTAMP:20260424T073933
CREATED:20241021T210021Z
LAST-MODIFIED:20241213T225211Z
UID:8185-1735470000-1735473600@www.religiousscifullerton.org
SUMMARY:Sunday Celebration Service
DESCRIPTION:Please join us for our Sunday Celebration! Our guest speaker\, Maggie Rintala is speaking on “Radical Authentic Love”. Spiritual Reading by Sally Stredler\, RScP and musical inspiration provided by Jennifer Hart & Tommy Cosentino. \nRecording posted by 3 pm for home viewing.
URL:https://www.religiousscifullerton.org/event/sunday-celebration-service-222/
LOCATION:Center for Spiritual Living Fullerton\, 373 Imperial Hwy\, Fullerton\, CA\, 92835-1040\, United States
CATEGORIES:LIVE MUSIC,Sunday Service
END:VEVENT
END:VCALENDAR