BEGIN:VCALENDAR
VERSION:2.0
PRODID:-//CENTER FOR SPIRITUAL LIVING FULLERTON - ECPv6.15.20//NONSGML v1.0//EN
CALSCALE:GREGORIAN
METHOD:PUBLISH
X-WR-CALNAME:CENTER FOR SPIRITUAL LIVING FULLERTON
X-ORIGINAL-URL:http://www.religiousscifullerton.org
X-WR-CALDESC:Events for CENTER FOR SPIRITUAL LIVING FULLERTON
REFRESH-INTERVAL;VALUE=DURATION:PT1H
X-Robots-Tag:noindex
X-PUBLISHED-TTL:PT1H
BEGIN:VTIMEZONE
TZID:America/Los_Angeles
BEGIN:DAYLIGHT
TZOFFSETFROM:-0800
TZOFFSETTO:-0700
TZNAME:PDT
DTSTART:20240310T100000
END:DAYLIGHT
BEGIN:STANDARD
TZOFFSETFROM:-0700
TZOFFSETTO:-0800
TZNAME:PST
DTSTART:20241103T090000
END:STANDARD
BEGIN:DAYLIGHT
TZOFFSETFROM:-0800
TZOFFSETTO:-0700
TZNAME:PDT
DTSTART:20250309T100000
END:DAYLIGHT
BEGIN:STANDARD
TZOFFSETFROM:-0700
TZOFFSETTO:-0800
TZNAME:PST
DTSTART:20251102T090000
END:STANDARD
BEGIN:DAYLIGHT
TZOFFSETFROM:-0800
TZOFFSETTO:-0700
TZNAME:PDT
DTSTART:20260308T100000
END:DAYLIGHT
BEGIN:STANDARD
TZOFFSETFROM:-0700
TZOFFSETTO:-0800
TZNAME:PST
DTSTART:20261101T090000
END:STANDARD
END:VTIMEZONE
BEGIN:VEVENT
DTSTART;TZID=America/Los_Angeles:20250323T103000
DTEND;TZID=America/Los_Angeles:20250323T105000
DTSTAMP:20260425T084017
CREATED:20250205T203337Z
LAST-MODIFIED:20250205T203430Z
UID:8462-1742725800-1742727000@www.religiousscifullerton.org
SUMMARY:Guided Meditation
DESCRIPTION:Please join us for a healing meditation guided by Sally Stredler\, RScP. \nAll welcome!
URL:http://www.religiousscifullerton.org/event/8462/
LOCATION:Center for Spiritual Living Fullerton\, 373 Imperial Hwy\, Fullerton\, CA\, 92835-1040\, United States
CATEGORIES:Guided Meditation
END:VEVENT
BEGIN:VEVENT
DTSTART;TZID=America/Los_Angeles:20250323T110000
DTEND;TZID=America/Los_Angeles:20250323T120000
DTSTAMP:20260425T084017
CREATED:20250205T234315Z
LAST-MODIFIED:20250310T185729Z
UID:8475-1742727600-1742731200@www.religiousscifullerton.org
SUMMARY:Sunday Celebration Service
DESCRIPTION:Please join us for our Sunday Celebration! Rev. Dr. Bill Salisbury is speaking on “Hello! Happiness”. Spiritual Reading by Dee Noel\, RScP and musical inspiration provided by Tommy Cosentino. \nRecording posted by 3 pm for home viewing.
URL:http://www.religiousscifullerton.org/event/sunday-celebration-service-233/
LOCATION:Center for Spiritual Living Fullerton\, 373 Imperial Hwy\, Fullerton\, CA\, 92835-1040\, United States
CATEGORIES:LIVE MUSIC,Sunday Service
END:VEVENT
BEGIN:VEVENT
DTSTART;TZID=America/Los_Angeles:20250324T100000
DTEND;TZID=America/Los_Angeles:20250324T140000
DTSTAMP:20260425T084017
CREATED:20250310T184420Z
LAST-MODIFIED:20250310T184420Z
UID:8523-1742810400-1742824800@www.religiousscifullerton.org
SUMMARY:Practitioner on site
DESCRIPTION:Licensed SOM Practitioners are available during office hours to take your prayer requests. If you would like to speak to a Practitioner\, please call the office at (714) 525-1126 or email us at spiritlives@religiousscifullerton.org. \nTo schedule a Full Practitioner Session please make an appointment by calling a Practitioner directly. Click on PRACTITIONERS on the top menu for contact information.
URL:http://www.religiousscifullerton.org/event/practitioner-on-site-615/
LOCATION:Center for Spiritual Living Fullerton\, 373 Imperial Hwy\, Fullerton\, CA\, 92835-1040\, United States
CATEGORIES:Office Hours
END:VEVENT
BEGIN:VEVENT
DTSTART;VALUE=DATE:20250326
DTEND;VALUE=DATE:20250327
DTSTAMP:20260425T084017
CREATED:20250310T185211Z
LAST-MODIFIED:20250310T185211Z
UID:8529-1742947200-1743033599@www.religiousscifullerton.org
SUMMARY:Office closed
DESCRIPTION:Office closed
URL:http://www.religiousscifullerton.org/event/office-closed-25/
LOCATION:Center for Spiritual Living Fullerton\, 373 Imperial Hwy\, Fullerton\, CA\, 92835-1040\, United States
CATEGORIES:Office Hours
END:VEVENT
BEGIN:VEVENT
DTSTART;VALUE=DATE:20250326
DTEND;VALUE=DATE:20250327
DTSTAMP:20260425T084017
CREATED:20250310T185335Z
LAST-MODIFIED:20250310T185335Z
UID:8531-1742947200-1743033599@www.religiousscifullerton.org
SUMMARY:Practitioner Retreat
DESCRIPTION:Practitioner Retreat \nHoag Spirituality Conference 2025
URL:http://www.religiousscifullerton.org/event/practitioner-retreat/
LOCATION:CA
CATEGORIES:Special Event
END:VEVENT
BEGIN:VEVENT
DTSTART;TZID=America/Los_Angeles:20250328T100000
DTEND;TZID=America/Los_Angeles:20250328T140000
DTSTAMP:20260425T084017
CREATED:20250310T185003Z
LAST-MODIFIED:20250310T185003Z
UID:8525-1743156000-1743170400@www.religiousscifullerton.org
SUMMARY:Practitioner on site
DESCRIPTION:Licensed SOM Practitioners are available during office hours to take your prayer requests. If you would like to speak to a Practitioner\, please call the office at (714) 525-1126 or email us at spiritlives@religiousscifullerton.org. \nTo schedule a Full Practitioner Session please make an appointment by calling a Practitioner directly. Click on PRACTITIONERS on the top menu for contact information.
URL:http://www.religiousscifullerton.org/event/practitioner-on-site-616/
LOCATION:Center for Spiritual Living Fullerton\, 373 Imperial Hwy\, Fullerton\, CA\, 92835-1040\, United States
CATEGORIES:Office Hours
END:VEVENT
BEGIN:VEVENT
DTSTART;TZID=America/Los_Angeles:20250330T103000
DTEND;TZID=America/Los_Angeles:20250330T105000
DTSTAMP:20260425T084017
CREATED:20250205T203548Z
LAST-MODIFIED:20250324T183546Z
UID:8466-1743330600-1743331800@www.religiousscifullerton.org
SUMMARY:Guided Meditation
DESCRIPTION:Please join us for a healing meditation guided by Sally Stredler\, RScP. \nAll welcome!
URL:http://www.religiousscifullerton.org/event/guided-meditation-324/
LOCATION:Center for Spiritual Living Fullerton\, 373 Imperial Hwy\, Fullerton\, CA\, 92835-1040\, United States
CATEGORIES:Guided Meditation
END:VEVENT
BEGIN:VEVENT
DTSTART;TZID=America/Los_Angeles:20250330T110000
DTEND;TZID=America/Los_Angeles:20250330T120000
DTSTAMP:20260425T084017
CREATED:20250205T234422Z
LAST-MODIFIED:20250324T182625Z
UID:8477-1743332400-1743336000@www.religiousscifullerton.org
SUMMARY:Sunday Celebration Service
DESCRIPTION:Please join us for our Sunday Celebration! Rev. Dr. Bill Salisbury is speaking on “Forever Free”. Spiritual Reading by Carol Riseling\, RScP and musical inspiration provided by Jennifer Hart & Tommy Cosentino. \nRecording posted by 3 pm for home viewing.
URL:http://www.religiousscifullerton.org/event/sunday-celebration-service-234/
LOCATION:Center for Spiritual Living Fullerton\, 373 Imperial Hwy\, Fullerton\, CA\, 92835-1040\, United States
CATEGORIES:LIVE MUSIC,Sunday Service
END:VEVENT
BEGIN:VEVENT
DTSTART;TZID=America/Los_Angeles:20250331T100000
DTEND;TZID=America/Los_Angeles:20250331T140000
DTSTAMP:20260425T084017
CREATED:20250310T185113Z
LAST-MODIFIED:20250310T185113Z
UID:8527-1743415200-1743429600@www.religiousscifullerton.org
SUMMARY:Practitioner on site
DESCRIPTION:Licensed SOM Practitioners are available during office hours to take your prayer requests. If you would like to speak to a Practitioner\, please call the office at (714) 525-1126 or email us at spiritlives@religiousscifullerton.org. \nTo schedule a Full Practitioner Session please make an appointment by calling a Practitioner directly. Click on PRACTITIONERS on the top menu for contact information.
URL:http://www.religiousscifullerton.org/event/practitioner-on-site-617/
LOCATION:Center for Spiritual Living Fullerton\, 373 Imperial Hwy\, Fullerton\, CA\, 92835-1040\, United States
CATEGORIES:Office Hours
END:VEVENT
BEGIN:VEVENT
DTSTART;TZID=America/Los_Angeles:20250402T100000
DTEND;TZID=America/Los_Angeles:20250402T140000
DTSTAMP:20260425T084017
CREATED:20250310T185516Z
LAST-MODIFIED:20250310T185516Z
UID:8533-1743588000-1743602400@www.religiousscifullerton.org
SUMMARY:Practitioner on site
DESCRIPTION:Licensed SOM Practitioners are available during office hours to take your prayer requests. If you would like to speak to a Practitioner\, please call the office at (714) 525-1126 or email us at spiritlives@religiousscifullerton.org. \nTo schedule a Full Practitioner Session please make an appointment by calling a Practitioner directly. Click on PRACTITIONERS on the top menu for contact information.
URL:http://www.religiousscifullerton.org/event/practitioner-on-site-618/
LOCATION:Center for Spiritual Living Fullerton\, 373 Imperial Hwy\, Fullerton\, CA\, 92835-1040\, United States
CATEGORIES:Office Hours
END:VEVENT
BEGIN:VEVENT
DTSTART;TZID=America/Los_Angeles:20250402T130000
DTEND;TZID=America/Los_Angeles:20250402T143000
DTSTAMP:20260425T084017
CREATED:20250205T200349Z
LAST-MODIFIED:20250310T185417Z
UID:8453-1743598800-1743604200@www.religiousscifullerton.org
SUMMARY:"Awakening Spirit" Spiritual Growth Support Group
DESCRIPTION:“Awakening Spirit” Spiritual Growth Support Group \nWherever you are on your Spiritual Path it’s always good to have someone to talk to. If that someone is a Practitioner\, it’s even better! During our office hours\, we’re dedicating one hour each week to anyone who want to come ask questions\, connect with like-minded people\, discuss Spiritual Principles and learn practical ways to apply it in their lives. In a safe and loving group environment – like having tea with friends (bring your favorite tea or coffee with you.) Open to the public. This is a great way to introduce your friends and family to our beautiful philosophy and our church without going to “church”. \nFacilitated by Tomoko Rosas\, RScP \nNo commitment necessary. Come join us when you can. \nCost: FREE – donations gratefully accepted.  \nHighly recommended but not necessary book:\n365 Science of Mind: A Year of Daily Wisdom from Ernest Holmes
URL:http://www.religiousscifullerton.org/event/awakening-spirit-spiritual-growth-support-group-105/
LOCATION:Center for Spiritual Living Fullerton\, 373 Imperial Hwy\, Fullerton\, CA\, 92835-1040\, United States
CATEGORIES:Support Group,Workshop
END:VEVENT
BEGIN:VEVENT
DTSTART;TZID=America/Los_Angeles:20250404T100000
DTEND;TZID=America/Los_Angeles:20250404T140000
DTSTAMP:20260425T084017
CREATED:20250310T185603Z
LAST-MODIFIED:20250310T185603Z
UID:8535-1743760800-1743775200@www.religiousscifullerton.org
SUMMARY:Practitioner on site
DESCRIPTION:Licensed SOM Practitioners are available during office hours to take your prayer requests. If you would like to speak to a Practitioner\, please call the office at (714) 525-1126 or email us at spiritlives@religiousscifullerton.org. \nTo schedule a Full Practitioner Session please make an appointment by calling a Practitioner directly. Click on PRACTITIONERS on the top menu for contact information.
URL:http://www.religiousscifullerton.org/event/practitioner-on-site-619/
LOCATION:Center for Spiritual Living Fullerton\, 373 Imperial Hwy\, Fullerton\, CA\, 92835-1040\, United States
CATEGORIES:Office Hours
END:VEVENT
BEGIN:VEVENT
DTSTART;TZID=America/Los_Angeles:20250406T103000
DTEND;TZID=America/Los_Angeles:20250406T105000
DTSTAMP:20260425T084017
CREATED:20250324T183451Z
LAST-MODIFIED:20250324T183451Z
UID:8564-1743935400-1743936600@www.religiousscifullerton.org
SUMMARY:Guided Meditation
DESCRIPTION:Please join us for a healing meditation guided by Tomoko Rosas\, RScP. \nAll welcome!
URL:http://www.religiousscifullerton.org/event/guided-meditation-325/
LOCATION:Center for Spiritual Living Fullerton\, 373 Imperial Hwy\, Fullerton\, CA\, 92835-1040\, United States
CATEGORIES:Guided Meditation
END:VEVENT
BEGIN:VEVENT
DTSTART;TZID=America/Los_Angeles:20250406T110000
DTEND;TZID=America/Los_Angeles:20250406T120000
DTSTAMP:20260425T084017
CREATED:20250324T182457Z
LAST-MODIFIED:20250324T182512Z
UID:8555-1743937200-1743940800@www.religiousscifullerton.org
SUMMARY:Sunday Celebration Service
DESCRIPTION:Please join us for our Sunday Celebration! Rev. Dr. Bill Salisbury is speaking on “We’ve Always Done It That Way”. Spiritual Reading by Amanda Secola\, RScP and musical inspiration provided by Michael Whitney & Tommy Cosentino. \nRecording posted by 3 pm for home viewing.
URL:http://www.religiousscifullerton.org/event/sunday-celebration-service-235/
LOCATION:Center for Spiritual Living Fullerton\, 373 Imperial Hwy\, Fullerton\, CA\, 92835-1040\, United States
CATEGORIES:LIVE MUSIC,Sunday Service
END:VEVENT
BEGIN:VEVENT
DTSTART;TZID=America/Los_Angeles:20250407T100000
DTEND;TZID=America/Los_Angeles:20250407T140000
DTSTAMP:20260425T084017
CREATED:20250324T193512Z
LAST-MODIFIED:20250324T193512Z
UID:8586-1744020000-1744034400@www.religiousscifullerton.org
SUMMARY:Practitioner on site
DESCRIPTION:Licensed SOM Practitioners are available during office hours to take your prayer requests. If you would like to speak to a Practitioner\, please call the office at (714) 525-1126 or email us at spiritlives@religiousscifullerton.org. \nTo schedule a Full Practitioner Session please make an appointment by calling a Practitioner directly. Click on PRACTITIONERS on the top menu for contact information.
URL:http://www.religiousscifullerton.org/event/practitioner-on-site-620/
LOCATION:Center for Spiritual Living Fullerton\, 373 Imperial Hwy\, Fullerton\, CA\, 92835-1040\, United States
CATEGORIES:Office Hours
END:VEVENT
BEGIN:VEVENT
DTSTART;TZID=America/Los_Angeles:20250409T100000
DTEND;TZID=America/Los_Angeles:20250409T140000
DTSTAMP:20260425T084017
CREATED:20250324T193640Z
LAST-MODIFIED:20250324T193640Z
UID:8588-1744192800-1744207200@www.religiousscifullerton.org
SUMMARY:Practitioner on site
DESCRIPTION:Licensed SOM Practitioners are available during office hours to take your prayer requests. If you would like to speak to a Practitioner\, please call the office at (714) 525-1126 or email us at spiritlives@religiousscifullerton.org. \nTo schedule a Full Practitioner Session please make an appointment by calling a Practitioner directly. Click on PRACTITIONERS on the top menu for contact information.
URL:http://www.religiousscifullerton.org/event/practitioner-on-site-621/
LOCATION:Center for Spiritual Living Fullerton\, 373 Imperial Hwy\, Fullerton\, CA\, 92835-1040\, United States
CATEGORIES:Office Hours
END:VEVENT
BEGIN:VEVENT
DTSTART;TZID=America/Los_Angeles:20250409T130000
DTEND;TZID=America/Los_Angeles:20250409T143000
DTSTAMP:20260425T084017
CREATED:20250324T192432Z
LAST-MODIFIED:20250324T192432Z
UID:8578-1744203600-1744209000@www.religiousscifullerton.org
SUMMARY:"Awakening Spirit" Spiritual Growth Support Group
DESCRIPTION:“Awakening Spirit” Spiritual Growth Support Group \nWherever you are on your Spiritual Path it’s always good to have someone to talk to. If that someone is a Practitioner\, it’s even better! During our office hours\, we’re dedicating one hour each week to anyone who want to come ask questions\, connect with like-minded people\, discuss Spiritual Principles and learn practical ways to apply it in their lives. In a safe and loving group environment – like having tea with friends (bring your favorite tea or coffee with you.) Open to the public. This is a great way to introduce your friends and family to our beautiful philosophy and our church without going to “church”. \nFacilitated by Tomoko Rosas\, RScP \nNo commitment necessary. Come join us when you can. \nCost: FREE – donations gratefully accepted.  \nHighly recommended but not necessary book:\n365 Science of Mind: A Year of Daily Wisdom from Ernest Holmes
URL:http://www.religiousscifullerton.org/event/awakening-spirit-spiritual-growth-support-group-106/
LOCATION:Center for Spiritual Living Fullerton\, 373 Imperial Hwy\, Fullerton\, CA\, 92835-1040\, United States
CATEGORIES:Support Group,Workshop
END:VEVENT
BEGIN:VEVENT
DTSTART;TZID=America/Los_Angeles:20250411T100000
DTEND;TZID=America/Los_Angeles:20250411T140000
DTSTAMP:20260425T084017
CREATED:20240828T194704Z
LAST-MODIFIED:20250414T190350Z
UID:8007-1744365600-1744380000@www.religiousscifullerton.org
SUMMARY:Practitioner on site
DESCRIPTION:Licensed SOM Practitioners are available during office hours to take your prayer requests. If you would like to speak to a Practitioner please call the office at (714) 525-1126 or email us at spiritlives@religiousscifullerton.org. \nTo schedule a Full Practitioner Session please make an appointment by calling a Practitioner directly. Click on PRACTITIONERS on the top menu for contact information.
URL:http://www.religiousscifullerton.org/event/practitioner-on-site-539/
LOCATION:Center for Spiritual Living Fullerton\, 373 Imperial Hwy\, Fullerton\, CA\, 92835-1040\, United States
CATEGORIES:Office Hours
END:VEVENT
BEGIN:VEVENT
DTSTART;TZID=America/Los_Angeles:20250413T103000
DTEND;TZID=America/Los_Angeles:20250413T105000
DTSTAMP:20260425T084017
CREATED:20250414T183227Z
LAST-MODIFIED:20250414T183227Z
UID:8627-1744540200-1744541400@www.religiousscifullerton.org
SUMMARY:Guided Meditation
DESCRIPTION:Please join us for a healing meditation guided by Carol Riseling\, RScP. \nAll welcome!
URL:http://www.religiousscifullerton.org/event/guided-meditation/
LOCATION:Center for Spiritual Living Fullerton\, 373 Imperial Hwy\, Fullerton\, CA\, 92835-1040\, United States
CATEGORIES:Guided Meditation
END:VEVENT
BEGIN:VEVENT
DTSTART;TZID=America/Los_Angeles:20250413T110000
DTEND;TZID=America/Los_Angeles:20250413T120000
DTSTAMP:20260425T084017
CREATED:20250414T183915Z
LAST-MODIFIED:20250414T183915Z
UID:8639-1744542000-1744545600@www.religiousscifullerton.org
SUMMARY:Sunday Celebration Service
DESCRIPTION:Please join us for our Sunday Celebration! Rev. Dr. Bill Salisbury is speaking on “In God We Trust”. Spiritual Reading by Beverley Brezden\, RScP and musical inspiration provided by Michael Whitney & Tommy Cosentino. \nRecording posted by 3 pm for home viewing.
URL:http://www.religiousscifullerton.org/event/sunday-celebration-service/
LOCATION:Center for Spiritual Living Fullerton\, 373 Imperial Hwy\, Fullerton\, CA\, 92835-1040\, United States
CATEGORIES:LIVE MUSIC,Sunday Service
END:VEVENT
BEGIN:VEVENT
DTSTART;TZID=America/Los_Angeles:20250414T100000
DTEND;TZID=America/Los_Angeles:20250414T140000
DTSTAMP:20260425T084017
CREATED:20210426T211040Z
LAST-MODIFIED:20250414T190909Z
UID:4303-1744624800-1744639200@www.religiousscifullerton.org
SUMMARY:Practitioner on Site
DESCRIPTION:Licensed SOM Practitioners are available during office hours to take your prayer requests. If you would like to speak to a Practitioner please call the office at (714) 525-1126 or email us at spiritlives@religiousscifullerton.org. \nTo schedule a Full Practitioner Session please make an appointment by calling a Practitioner directly. Click on PRACTITIONERS on the top menu for contact information.
URL:http://www.religiousscifullerton.org/event/practitioner-on-site-57/
LOCATION:Center for Spiritual Living Fullerton\, 373 Imperial Hwy\, Fullerton\, CA\, 92835-1040\, United States
CATEGORIES:Office Hours
END:VEVENT
BEGIN:VEVENT
DTSTART;TZID=America/Los_Angeles:20250416T100000
DTEND;TZID=America/Los_Angeles:20250416T140000
DTSTAMP:20260425T084017
CREATED:20210426T211645Z
LAST-MODIFIED:20250414T190552Z
UID:4316-1744797600-1744812000@www.religiousscifullerton.org
SUMMARY:Practitioner on Site
DESCRIPTION:Licensed SOM Practitioners are available during office hours to take your prayer requests. If you would like to speak to a Practitioner please call the office at (714) 525-1126 or email us at spiritlives@religiousscifullerton.org. \nTo schedule a Full Practitioner Session please make an appointment by calling a Practitioner directly. Click on PRACTITIONERS on the top menu for contact information.
URL:http://www.religiousscifullerton.org/event/practitioner-on-site-63/
LOCATION:Center for Spiritual Living Fullerton\, 373 Imperial Hwy\, Fullerton\, CA\, 92835-1040\, United States
CATEGORIES:Office Hours
END:VEVENT
BEGIN:VEVENT
DTSTART;TZID=America/Los_Angeles:20250416T130000
DTEND;TZID=America/Los_Angeles:20250416T143000
DTSTAMP:20260425T084017
CREATED:20250414T192133Z
LAST-MODIFIED:20250414T192133Z
UID:8655-1744808400-1744813800@www.religiousscifullerton.org
SUMMARY:"Awakening Spirit" Spiritual Growth Support Group
DESCRIPTION:“Awakening Spirit” Spiritual Growth Support Group \nWherever you are on your Spiritual Path it’s always good to have someone to talk to. If that someone is a Practitioner\, it’s even better! During our office hours\, we’re dedicating one hour each week to anyone who want to come ask questions\, connect with like-minded people\, discuss Spiritual Principles and learn practical ways to apply it in their lives. In a safe and loving group environment – like having tea with friends (bring your favorite tea or coffee with you.) Open to the public. This is a great way to introduce your friends and family to our beautiful philosophy and our church without going to “church”. \nFacilitated by Tomoko Rosas\, RScP \nNo commitment necessary. Come join us when you can. \nCost: FREE – donations gratefully accepted.  \nHighly recommended but not necessary book:\n365 Science of Mind: A Year of Daily Wisdom from Ernest Holmes
URL:http://www.religiousscifullerton.org/event/awakening-spirit-spiritual-growth-support-group/
LOCATION:Center for Spiritual Living Fullerton\, 373 Imperial Hwy\, Fullerton\, CA\, 92835-1040\, United States
CATEGORIES:Support Group,Workshop
END:VEVENT
BEGIN:VEVENT
DTSTART;VALUE=DATE:20250418
DTEND;VALUE=DATE:20250419
DTSTAMP:20260425T084017
CREATED:20250414T192625Z
LAST-MODIFIED:20250414T192625Z
UID:8663-1744934400-1745020799@www.religiousscifullerton.org
SUMMARY:Office closed in observance of EASTER
DESCRIPTION:Office closed in observance of Easter.
URL:http://www.religiousscifullerton.org/event/office-closed-in-observance-of-easter-2/
LOCATION:Center for Spiritual Living Fullerton\, 373 Imperial Hwy\, Fullerton\, CA\, 92835-1040\, United States
CATEGORIES:Office Hours
END:VEVENT
BEGIN:VEVENT
DTSTART;TZID=America/Los_Angeles:20250420T103000
DTEND;TZID=America/Los_Angeles:20250420T105000
DTSTAMP:20260425T084017
CREATED:20250414T183331Z
LAST-MODIFIED:20250414T183331Z
UID:8629-1745145000-1745146200@www.religiousscifullerton.org
SUMMARY:Guided Meditation
DESCRIPTION:Please join us for a healing meditation guided by Beverley Brezden\, RScP. \nAll welcome!
URL:http://www.religiousscifullerton.org/event/guided-meditation-2/
LOCATION:Center for Spiritual Living Fullerton\, 373 Imperial Hwy\, Fullerton\, CA\, 92835-1040\, United States
CATEGORIES:Guided Meditation
END:VEVENT
BEGIN:VEVENT
DTSTART;TZID=America/Los_Angeles:20250421T100000
DTEND;TZID=America/Los_Angeles:20250421T140000
DTSTAMP:20260425T084017
CREATED:20210426T210951Z
LAST-MODIFIED:20250414T190806Z
UID:4301-1745229600-1745244000@www.religiousscifullerton.org
SUMMARY:Practitioner on Site
DESCRIPTION:Licensed SOM Practitioners are available during office hours to take your prayer requests. If you would like to speak to a Practitioner please call the office at (714) 525-1126 or email us at spiritlives@religiousscifullerton.org. \nTo schedule a Full Practitioner Session please make an appointment by calling a Practitioner directly. Click on PRACTITIONERS on the top menu for contact information.
URL:http://www.religiousscifullerton.org/event/practitioner-on-site-56/
LOCATION:Center for Spiritual Living Fullerton\, 373 Imperial Hwy\, Fullerton\, CA\, 92835-1040\, United States
CATEGORIES:Office Hours
END:VEVENT
BEGIN:VEVENT
DTSTART;TZID=America/Los_Angeles:20250423T100000
DTEND;TZID=America/Los_Angeles:20250423T140000
DTSTAMP:20260425T084017
CREATED:20210426T210912Z
LAST-MODIFIED:20250414T191030Z
UID:4299-1745402400-1745416800@www.religiousscifullerton.org
SUMMARY:Practitioner on Site
DESCRIPTION:Licensed SOM Practitioners are available during office hours to take your prayer requests. If you would like to speak to a Practitioner please call the office at (714) 525-1126 or email us at spiritlives@religiousscifullerton.org. \nTo schedule a Full Practitioner Session please make an appointment by calling a Practitioner directly. Click on PRACTITIONERS on the top menu for contact information.
URL:http://www.religiousscifullerton.org/event/practitioner-on-site-55/
LOCATION:Center for Spiritual Living Fullerton\, 373 Imperial Hwy\, Fullerton\, CA\, 92835-1040\, United States
CATEGORIES:Office Hours
END:VEVENT
BEGIN:VEVENT
DTSTART;TZID=America/Los_Angeles:20250423T130000
DTEND;TZID=America/Los_Angeles:20250423T143000
DTSTAMP:20260425T084017
CREATED:20250414T192241Z
LAST-MODIFIED:20250414T192241Z
UID:8657-1745413200-1745418600@www.religiousscifullerton.org
SUMMARY:"Awakening Spirit" Spiritual Growth Support Group
DESCRIPTION:“Awakening Spirit” Spiritual Growth Support Group \nWherever you are on your Spiritual Path it’s always good to have someone to talk to. If that someone is a Practitioner\, it’s even better! During our office hours\, we’re dedicating one hour each week to anyone who want to come ask questions\, connect with like-minded people\, discuss Spiritual Principles and learn practical ways to apply it in their lives. In a safe and loving group environment – like having tea with friends (bring your favorite tea or coffee with you.) Open to the public. This is a great way to introduce your friends and family to our beautiful philosophy and our church without going to “church”. \nFacilitated by Tomoko Rosas\, RScP \nNo commitment necessary. Come join us when you can. \nCost: FREE – donations gratefully accepted.  \nHighly recommended but not necessary book:\n365 Science of Mind: A Year of Daily Wisdom from Ernest Holmes
URL:http://www.religiousscifullerton.org/event/awakening-spirit-spiritual-growth-support-group-2/
LOCATION:Center for Spiritual Living Fullerton\, 373 Imperial Hwy\, Fullerton\, CA\, 92835-1040\, United States
CATEGORIES:Support Group,Workshop
END:VEVENT
BEGIN:VEVENT
DTSTART;TZID=America/Los_Angeles:20250425T100000
DTEND;TZID=America/Los_Angeles:20250425T140000
DTSTAMP:20260425T084017
CREATED:20210426T211415Z
LAST-MODIFIED:20250414T190944Z
UID:4313-1745575200-1745589600@www.religiousscifullerton.org
SUMMARY:Practitioner on Site
DESCRIPTION:Licensed SOM Practitioners are available during office hours to take your prayer requests. If you would like to speak to a Practitioner please call the office at (714) 525-1126 or email us at spiritlives@religiousscifullerton.org. \nTo schedule a Full Practitioner Session please make an appointment by calling a Practitioner directly. Click on PRACTITIONERS on the top menu for contact information.
URL:http://www.religiousscifullerton.org/event/practitioner-on-site-62/
LOCATION:Center for Spiritual Living Fullerton\, 373 Imperial Hwy\, Fullerton\, CA\, 92835-1040\, United States
CATEGORIES:Office Hours
END:VEVENT
BEGIN:VEVENT
DTSTART;TZID=America/Los_Angeles:20250427T103000
DTEND;TZID=America/Los_Angeles:20250427T105000
DTSTAMP:20260425T084017
CREATED:20250414T183423Z
LAST-MODIFIED:20250414T183423Z
UID:8631-1745749800-1745751000@www.religiousscifullerton.org
SUMMARY:Guided Meditation
DESCRIPTION:Please join us for a healing meditation guided by Sally Stredler\, RScP. \nAll welcome!
URL:http://www.religiousscifullerton.org/event/guided-meditation-3/
LOCATION:Center for Spiritual Living Fullerton\, 373 Imperial Hwy\, Fullerton\, CA\, 92835-1040\, United States
CATEGORIES:Guided Meditation
END:VEVENT
END:VCALENDAR