BEGIN:VCALENDAR
VERSION:2.0
PRODID:-//CENTER FOR SPIRITUAL LIVING FULLERTON - ECPv6.15.20//NONSGML v1.0//EN
CALSCALE:GREGORIAN
METHOD:PUBLISH
X-ORIGINAL-URL:http://www.religiousscifullerton.org
X-WR-CALDESC:Events for CENTER FOR SPIRITUAL LIVING FULLERTON
REFRESH-INTERVAL;VALUE=DURATION:PT1H
X-Robots-Tag:noindex
X-PUBLISHED-TTL:PT1H
BEGIN:VTIMEZONE
TZID:America/Los_Angeles
BEGIN:DAYLIGHT
TZOFFSETFROM:-0800
TZOFFSETTO:-0700
TZNAME:PDT
DTSTART:20230312T100000
END:DAYLIGHT
BEGIN:STANDARD
TZOFFSETFROM:-0700
TZOFFSETTO:-0800
TZNAME:PST
DTSTART:20231105T090000
END:STANDARD
BEGIN:DAYLIGHT
TZOFFSETFROM:-0800
TZOFFSETTO:-0700
TZNAME:PDT
DTSTART:20240310T100000
END:DAYLIGHT
BEGIN:STANDARD
TZOFFSETFROM:-0700
TZOFFSETTO:-0800
TZNAME:PST
DTSTART:20241103T090000
END:STANDARD
BEGIN:DAYLIGHT
TZOFFSETFROM:-0800
TZOFFSETTO:-0700
TZNAME:PDT
DTSTART:20250309T100000
END:DAYLIGHT
BEGIN:STANDARD
TZOFFSETFROM:-0700
TZOFFSETTO:-0800
TZNAME:PST
DTSTART:20251102T090000
END:STANDARD
BEGIN:DAYLIGHT
TZOFFSETFROM:-0800
TZOFFSETTO:-0700
TZNAME:PDT
DTSTART:20260308T100000
END:DAYLIGHT
BEGIN:STANDARD
TZOFFSETFROM:-0700
TZOFFSETTO:-0800
TZNAME:PST
DTSTART:20261101T090000
END:STANDARD
END:VTIMEZONE
BEGIN:VEVENT
DTSTART;TZID=America/Los_Angeles:20241201T110000
DTEND;TZID=America/Los_Angeles:20241201T120000
DTSTAMP:20260425T043147
CREATED:20241021T205444Z
LAST-MODIFIED:20241213T224438Z
UID:8177-1733050800-1733054400@www.religiousscifullerton.org
SUMMARY:Sunday Celebration Service
DESCRIPTION:Please join us for our Sunday Celebration! Rev. Dr. Bill Salisbury is speaking on “The Substitute”. Spiritual Reading by Dee Noel\, RScP and musical inspiration provided by Michael Whitney & Tommy Cosentino. \nRecording posted by 3 pm for home viewing.
URL:http://www.religiousscifullerton.org/event/sunday-celebration-service-219/
LOCATION:Center for Spiritual Living Fullerton\, 373 Imperial Hwy\, Fullerton\, CA\, 92835-1040\, United States
CATEGORIES:LIVE MUSIC,Sunday Service
END:VEVENT
BEGIN:VEVENT
DTSTART;TZID=America/Los_Angeles:20241202T100000
DTEND;TZID=America/Los_Angeles:20241202T140000
DTSTAMP:20260425T043147
CREATED:20241213T231108Z
LAST-MODIFIED:20241213T231108Z
UID:8308-1733133600-1733148000@www.religiousscifullerton.org
SUMMARY:Practitioner on site
DESCRIPTION:Licensed SOM Practitioners are available during office hours to take your prayer requests. If you would like to speak to a Practitioner please call the office at (714) 525-1126 or email us at spiritlives@religiousscifullerton.org. \nTo schedule a Full Practitioner Session please make an appointment by calling a Practitioner directly. Click on PRACTITIONERS on the top menu for contact information.
URL:http://www.religiousscifullerton.org/event/practitioner-on-site-576/
LOCATION:Center for Spiritual Living Fullerton\, 373 Imperial Hwy\, Fullerton\, CA\, 92835-1040\, United States
CATEGORIES:Office Hours
END:VEVENT
BEGIN:VEVENT
DTSTART;TZID=America/Los_Angeles:20241204T100000
DTEND;TZID=America/Los_Angeles:20241204T140000
DTSTAMP:20260425T043147
CREATED:20241213T231150Z
LAST-MODIFIED:20241213T231150Z
UID:8310-1733306400-1733320800@www.religiousscifullerton.org
SUMMARY:Practitioner on site
DESCRIPTION:Licensed SOM Practitioners are available during office hours to take your prayer requests. If you would like to speak to a Practitioner please call the office at (714) 525-1126 or email us at spiritlives@religiousscifullerton.org. \nTo schedule a Full Practitioner Session please make an appointment by calling a Practitioner directly. Click on PRACTITIONERS on the top menu for contact information.
URL:http://www.religiousscifullerton.org/event/practitioner-on-site-577/
LOCATION:Center for Spiritual Living Fullerton\, 373 Imperial Hwy\, Fullerton\, CA\, 92835-1040\, United States
CATEGORIES:Office Hours
END:VEVENT
BEGIN:VEVENT
DTSTART;TZID=America/Los_Angeles:20241206T100000
DTEND;TZID=America/Los_Angeles:20241206T140000
DTSTAMP:20260425T043147
CREATED:20241213T231409Z
LAST-MODIFIED:20241213T231409Z
UID:8312-1733479200-1733493600@www.religiousscifullerton.org
SUMMARY:Practitioner on site
DESCRIPTION:Licensed SOM Practitioners are available during office hours to take your prayer requests. If you would like to speak to a Practitioner please call the office at (714) 525-1126 or email us at spiritlives@religiousscifullerton.org. \nTo schedule a Full Practitioner Session please make an appointment by calling a Practitioner directly. Click on PRACTITIONERS on the top menu for contact information.
URL:http://www.religiousscifullerton.org/event/practitioner-on-site-578/
LOCATION:Center for Spiritual Living Fullerton\, 373 Imperial Hwy\, Fullerton\, CA\, 92835-1040\, United States
CATEGORIES:Office Hours
END:VEVENT
BEGIN:VEVENT
DTSTART;TZID=America/Los_Angeles:20241208T103000
DTEND;TZID=America/Los_Angeles:20241208T105000
DTSTAMP:20260425T043147
CREATED:20241021T202754Z
LAST-MODIFIED:20241021T202754Z
UID:8147-1733653800-1733655000@www.religiousscifullerton.org
SUMMARY:Guided Meditation
DESCRIPTION:Please join us for a healing meditation guided by Tomoko Rosas\, RScP. \nAll welcome!
URL:http://www.religiousscifullerton.org/event/guided-meditation-57/
LOCATION:Center for Spiritual Living Fullerton\, 373 Imperial Hwy\, Fullerton\, CA\, 92835-1040\, United States
CATEGORIES:Guided Meditation
END:VEVENT
BEGIN:VEVENT
DTSTART;TZID=America/Los_Angeles:20241208T110000
DTEND;TZID=America/Los_Angeles:20241208T120000
DTSTAMP:20260425T043147
CREATED:20241021T205614Z
LAST-MODIFIED:20241213T224544Z
UID:8179-1733655600-1733659200@www.religiousscifullerton.org
SUMMARY:Sunday Celebration Service
DESCRIPTION:Please join us for our Sunday Celebration! Rev. Dr. Bill Salisbury is speaking on “When Limits Reach Their Limit”. Spiritual Reading by Carol Riseling\, RScP and musical inspiration provided by Richard Ihara & Debbi Ebert. \nRecording posted by 3 pm for home viewing.
URL:http://www.religiousscifullerton.org/event/sunday-celebration-service-220/
LOCATION:Center for Spiritual Living Fullerton\, 373 Imperial Hwy\, Fullerton\, CA\, 92835-1040\, United States
CATEGORIES:LIVE MUSIC,Sunday Service
END:VEVENT
BEGIN:VEVENT
DTSTART;TZID=America/Los_Angeles:20241209T100000
DTEND;TZID=America/Los_Angeles:20241209T140000
DTSTAMP:20260425T043147
CREATED:20241213T231731Z
LAST-MODIFIED:20241213T231731Z
UID:8314-1733738400-1733752800@www.religiousscifullerton.org
SUMMARY:Practitioner on site
DESCRIPTION:Licensed SOM Practitioners are available during office hours to take your prayer requests. If you would like to speak to a Practitioner please call the office at (714) 525-1126 or email us at spiritlives@religiousscifullerton.org. \nTo schedule a Full Practitioner Session please make an appointment by calling a Practitioner directly. Click on PRACTITIONERS on the top menu for contact information.
URL:http://www.religiousscifullerton.org/event/practitioner-on-site-579/
LOCATION:Center for Spiritual Living Fullerton\, 373 Imperial Hwy\, Fullerton\, CA\, 92835-1040\, United States
CATEGORIES:Office Hours
END:VEVENT
BEGIN:VEVENT
DTSTART;TZID=America/Los_Angeles:20241211T100000
DTEND;TZID=America/Los_Angeles:20241211T140000
DTSTAMP:20260425T043147
CREATED:20241213T231840Z
LAST-MODIFIED:20241213T231840Z
UID:8316-1733911200-1733925600@www.religiousscifullerton.org
SUMMARY:Practitioner on site
DESCRIPTION:Licensed SOM Practitioners are available during office hours to take your prayer requests. If you would like to speak to a Practitioner please call the office at (714) 525-1126 or email us at spiritlives@religiousscifullerton.org. \nTo schedule a Full Practitioner Session please make an appointment by calling a Practitioner directly. Click on PRACTITIONERS on the top menu for contact information.
URL:http://www.religiousscifullerton.org/event/practitioner-on-site-580/
LOCATION:Center for Spiritual Living Fullerton\, 373 Imperial Hwy\, Fullerton\, CA\, 92835-1040\, United States
CATEGORIES:Office Hours
END:VEVENT
BEGIN:VEVENT
DTSTART;TZID=America/Los_Angeles:20241213T100000
DTEND;TZID=America/Los_Angeles:20241213T140000
DTSTAMP:20260425T043147
CREATED:20241213T231947Z
LAST-MODIFIED:20241213T231947Z
UID:8318-1734084000-1734098400@www.religiousscifullerton.org
SUMMARY:Practitioner on site
DESCRIPTION:Licensed SOM Practitioners are available during office hours to take your prayer requests. If you would like to speak to a Practitioner please call the office at (714) 525-1126 or email us at spiritlives@religiousscifullerton.org. \nTo schedule a Full Practitioner Session please make an appointment by calling a Practitioner directly. Click on PRACTITIONERS on the top menu for contact information.
URL:http://www.religiousscifullerton.org/event/practitioner-on-site-581/
LOCATION:Center for Spiritual Living Fullerton\, 373 Imperial Hwy\, Fullerton\, CA\, 92835-1040\, United States
CATEGORIES:Office Hours
END:VEVENT
BEGIN:VEVENT
DTSTART;TZID=America/Los_Angeles:20241215T103000
DTEND;TZID=America/Los_Angeles:20241215T105000
DTSTAMP:20260425T043147
CREATED:20241021T202858Z
LAST-MODIFIED:20241213T224623Z
UID:8149-1734258600-1734259800@www.religiousscifullerton.org
SUMMARY:Guided Meditation
DESCRIPTION:Please join us for a healing meditation guided by Beverley Brezden\, RScP. \nAll welcome!
URL:http://www.religiousscifullerton.org/event/guided-meditation-58/
LOCATION:Center for Spiritual Living Fullerton\, 373 Imperial Hwy\, Fullerton\, CA\, 92835-1040\, United States
CATEGORIES:Guided Meditation
END:VEVENT
BEGIN:VEVENT
DTSTART;TZID=America/Los_Angeles:20241215T110000
DTEND;TZID=America/Los_Angeles:20241215T120000
DTSTAMP:20260425T043147
CREATED:20241021T205752Z
LAST-MODIFIED:20241213T224708Z
UID:8181-1734260400-1734264000@www.religiousscifullerton.org
SUMMARY:Sunday Celebration Service
DESCRIPTION:Please join us for our Sunday Celebration! Rev. Dr. Bill Salisbury is speaking on “There’s More to Life Than Meets the Eye”. Spiritual Reading by Amanda Secola\, RScP and musical inspiration provided by Tommy Cosentino. \nRecording posted by 3 pm for home viewing.
URL:http://www.religiousscifullerton.org/event/sunday-celebration-service-221/
LOCATION:Center for Spiritual Living Fullerton\, 373 Imperial Hwy\, Fullerton\, CA\, 92835-1040\, United States
CATEGORIES:LIVE MUSIC,Sunday Service
END:VEVENT
BEGIN:VEVENT
DTSTART;TZID=America/Los_Angeles:20241216T100000
DTEND;TZID=America/Los_Angeles:20241216T140000
DTSTAMP:20260425T043147
CREATED:20241213T232046Z
LAST-MODIFIED:20241213T232046Z
UID:8320-1734343200-1734357600@www.religiousscifullerton.org
SUMMARY:Practitioner on site
DESCRIPTION:Licensed SOM Practitioners are available during office hours to take your prayer requests. If you would like to speak to a Practitioner please call the office at (714) 525-1126 or email us at spiritlives@religiousscifullerton.org. \nTo schedule a Full Practitioner Session please make an appointment by calling a Practitioner directly. Click on PRACTITIONERS on the top menu for contact information.
URL:http://www.religiousscifullerton.org/event/practitioner-on-site-582/
LOCATION:Center for Spiritual Living Fullerton\, 373 Imperial Hwy\, Fullerton\, CA\, 92835-1040\, United States
CATEGORIES:Office Hours
END:VEVENT
BEGIN:VEVENT
DTSTART;TZID=America/Los_Angeles:20241218T100000
DTEND;TZID=America/Los_Angeles:20241218T140000
DTSTAMP:20260425T043147
CREATED:20241213T232135Z
LAST-MODIFIED:20241213T232135Z
UID:8322-1734516000-1734530400@www.religiousscifullerton.org
SUMMARY:Practitioner on site
DESCRIPTION:Licensed SOM Practitioners are available during office hours to take your prayer requests. If you would like to speak to a Practitioner please call the office at (714) 525-1126 or email us at spiritlives@religiousscifullerton.org. \nTo schedule a Full Practitioner Session please make an appointment by calling a Practitioner directly. Click on PRACTITIONERS on the top menu for contact information.
URL:http://www.religiousscifullerton.org/event/practitioner-on-site-583/
LOCATION:Center for Spiritual Living Fullerton\, 373 Imperial Hwy\, Fullerton\, CA\, 92835-1040\, United States
CATEGORIES:Office Hours
END:VEVENT
BEGIN:VEVENT
DTSTART;TZID=America/Los_Angeles:20241220T100000
DTEND;TZID=America/Los_Angeles:20241220T140000
DTSTAMP:20260425T043147
CREATED:20241213T232232Z
LAST-MODIFIED:20241213T232232Z
UID:8324-1734688800-1734703200@www.religiousscifullerton.org
SUMMARY:Practitioner on site
DESCRIPTION:Licensed SOM Practitioners are available during office hours to take your prayer requests. If you would like to speak to a Practitioner please call the office at (714) 525-1126 or email us at spiritlives@religiousscifullerton.org. \nTo schedule a Full Practitioner Session please make an appointment by calling a Practitioner directly. Click on PRACTITIONERS on the top menu for contact information.
URL:http://www.religiousscifullerton.org/event/practitioner-on-site-584/
LOCATION:Center for Spiritual Living Fullerton\, 373 Imperial Hwy\, Fullerton\, CA\, 92835-1040\, United States
CATEGORIES:Office Hours
END:VEVENT
BEGIN:VEVENT
DTSTART;TZID=America/Los_Angeles:20241222T103000
DTEND;TZID=America/Los_Angeles:20241222T105000
DTSTAMP:20260425T043147
CREATED:20241021T203011Z
LAST-MODIFIED:20241213T224747Z
UID:8151-1734863400-1734864600@www.religiousscifullerton.org
SUMMARY:Guided Meditation
DESCRIPTION:Please join us for a healing meditation guided by Sally Stredler\, RScP. \nAll welcome!
URL:http://www.religiousscifullerton.org/event/guided-meditation-59/
LOCATION:Center for Spiritual Living Fullerton\, 373 Imperial Hwy\, Fullerton\, CA\, 92835-1040\, United States
CATEGORIES:Guided Meditation
END:VEVENT
BEGIN:VEVENT
DTSTART;TZID=America/Los_Angeles:20241222T110000
DTEND;TZID=America/Los_Angeles:20241222T120000
DTSTAMP:20260425T043147
CREATED:20241021T205914Z
LAST-MODIFIED:20241213T224844Z
UID:8183-1734865200-1734868800@www.religiousscifullerton.org
SUMMARY:Sunday Celebration Service
DESCRIPTION:Please join us for our Sunday Celebration! Rev. Dr. Bill Salisbury is speaking on “The Greatest Gift”. Spiritual Reading by Beverley Brezden\, RScP and musical inspiration provided by Debbi Ebert & Tommy Cosentino. \nRecording posted by 3 pm for home viewing.
URL:http://www.religiousscifullerton.org/event/8183/
LOCATION:Center for Spiritual Living Fullerton\, 373 Imperial Hwy\, Fullerton\, CA\, 92835-1040\, United States
CATEGORIES:LIVE MUSIC,Sunday Service
END:VEVENT
BEGIN:VEVENT
DTSTART;VALUE=DATE:20241223
DTEND;VALUE=DATE:20241224
DTSTAMP:20260425T043147
CREATED:20241213T230202Z
LAST-MODIFIED:20241213T230202Z
UID:8294-1734912000-1734998399@www.religiousscifullerton.org
SUMMARY:Office closed
DESCRIPTION:Office closed
URL:http://www.religiousscifullerton.org/event/office-closed-21/
LOCATION:Center for Spiritual Living Fullerton\, 373 Imperial Hwy\, Fullerton\, CA\, 92835-1040\, United States
CATEGORIES:Office Hours
END:VEVENT
BEGIN:VEVENT
DTSTART;VALUE=DATE:20241225
DTEND;VALUE=DATE:20241226
DTSTAMP:20260425T043147
CREATED:20241213T230344Z
LAST-MODIFIED:20241213T230344Z
UID:8298-1735084800-1735171199@www.religiousscifullerton.org
SUMMARY:Merry Christmas! Office closed
DESCRIPTION:Merry Christmas! Office closed
URL:http://www.religiousscifullerton.org/event/merry-christmas-office-closed-2/
LOCATION:Center for Spiritual Living Fullerton\, 373 Imperial Hwy\, Fullerton\, CA\, 92835-1040\, United States
CATEGORIES:Office Hours
END:VEVENT
BEGIN:VEVENT
DTSTART;VALUE=DATE:20241227
DTEND;VALUE=DATE:20241228
DTSTAMP:20260425T043147
CREATED:20241213T230247Z
LAST-MODIFIED:20241213T230247Z
UID:8296-1735257600-1735343999@www.religiousscifullerton.org
SUMMARY:Office closed
DESCRIPTION:Office closed
URL:http://www.religiousscifullerton.org/event/office-closed-22/
LOCATION:Center for Spiritual Living Fullerton\, 373 Imperial Hwy\, Fullerton\, CA\, 92835-1040\, United States
CATEGORIES:Office Hours
END:VEVENT
BEGIN:VEVENT
DTSTART;TZID=America/Los_Angeles:20241229T103000
DTEND;TZID=America/Los_Angeles:20241229T105000
DTSTAMP:20260425T043147
CREATED:20241213T225056Z
LAST-MODIFIED:20241213T225056Z
UID:8285-1735468200-1735469400@www.religiousscifullerton.org
SUMMARY:Guided Meditation
DESCRIPTION:Please join us for a healing meditation guided by Tomoko Rosas\, RScP. \nAll welcome!
URL:http://www.religiousscifullerton.org/event/guided-meditation-64/
LOCATION:Center for Spiritual Living Fullerton\, 373 Imperial Hwy\, Fullerton\, CA\, 92835-1040\, United States
CATEGORIES:Guided Meditation
END:VEVENT
BEGIN:VEVENT
DTSTART;TZID=America/Los_Angeles:20241229T110000
DTEND;TZID=America/Los_Angeles:20241229T120000
DTSTAMP:20260425T043147
CREATED:20241021T210021Z
LAST-MODIFIED:20241213T225211Z
UID:8185-1735470000-1735473600@www.religiousscifullerton.org
SUMMARY:Sunday Celebration Service
DESCRIPTION:Please join us for our Sunday Celebration! Our guest speaker\, Maggie Rintala is speaking on “Radical Authentic Love”. Spiritual Reading by Sally Stredler\, RScP and musical inspiration provided by Jennifer Hart & Tommy Cosentino. \nRecording posted by 3 pm for home viewing.
URL:http://www.religiousscifullerton.org/event/sunday-celebration-service-222/
LOCATION:Center for Spiritual Living Fullerton\, 373 Imperial Hwy\, Fullerton\, CA\, 92835-1040\, United States
CATEGORIES:LIVE MUSIC,Sunday Service
END:VEVENT
BEGIN:VEVENT
DTSTART;VALUE=DATE:20241230
DTEND;VALUE=DATE:20241231
DTSTAMP:20260425T043147
CREATED:20241213T230423Z
LAST-MODIFIED:20241213T230423Z
UID:8300-1735516800-1735603199@www.religiousscifullerton.org
SUMMARY:Office closed
DESCRIPTION:Office closed
URL:http://www.religiousscifullerton.org/event/office-closed-23/
LOCATION:Center for Spiritual Living Fullerton\, 373 Imperial Hwy\, Fullerton\, CA\, 92835-1040\, United States
CATEGORIES:Office Hours
END:VEVENT
BEGIN:VEVENT
DTSTART;VALUE=DATE:20250101
DTEND;VALUE=DATE:20250102
DTSTAMP:20260425T043147
CREATED:20241213T230543Z
LAST-MODIFIED:20241213T230543Z
UID:8302-1735689600-1735775999@www.religiousscifullerton.org
SUMMARY:Happy New Year! Office closed
DESCRIPTION:Happy New Year! Office closed
URL:http://www.religiousscifullerton.org/event/happy-new-year-office-closed-3/
LOCATION:Center for Spiritual Living Fullerton\, 373 Imperial Hwy\, Fullerton\, CA\, 92835-1040\, United States
CATEGORIES:Office Hours
END:VEVENT
BEGIN:VEVENT
DTSTART;TZID=America/Los_Angeles:20250103T100000
DTEND;TZID=America/Los_Angeles:20250103T140000
DTSTAMP:20260425T043147
CREATED:20241213T231001Z
LAST-MODIFIED:20241213T231001Z
UID:8306-1735898400-1735912800@www.religiousscifullerton.org
SUMMARY:Practitioner on site
DESCRIPTION:Licensed SOM Practitioners are available during office hours to take your prayer requests. If you would like to speak to a Practitioner please call the office at (714) 525-1126 or email us at spiritlives@religiousscifullerton.org. \nTo schedule a Full Practitioner Session please make an appointment by calling a Practitioner directly. Click on PRACTITIONERS on the top menu for contact information.
URL:http://www.religiousscifullerton.org/event/practitioner-on-site-568/
LOCATION:Center for Spiritual Living Fullerton\, 373 Imperial Hwy\, Fullerton\, CA\, 92835-1040\, United States
CATEGORIES:Office Hours
END:VEVENT
BEGIN:VEVENT
DTSTART;TZID=America/Los_Angeles:20250105T103000
DTEND;TZID=America/Los_Angeles:20250105T105000
DTSTAMP:20260425T043147
CREATED:20241021T203157Z
LAST-MODIFIED:20241213T225315Z
UID:8154-1736073000-1736074200@www.religiousscifullerton.org
SUMMARY:Guided Meditation
DESCRIPTION:Please join us for a healing meditation guided by Tomoko Rosas\, RScP. \nAll welcome!
URL:http://www.religiousscifullerton.org/event/guided-meditation-60/
LOCATION:Center for Spiritual Living Fullerton\, 373 Imperial Hwy\, Fullerton\, CA\, 92835-1040\, United States
CATEGORIES:Guided Meditation
END:VEVENT
BEGIN:VEVENT
DTSTART;TZID=America/Los_Angeles:20250105T110000
DTEND;TZID=America/Los_Angeles:20250105T120000
DTSTAMP:20260425T043147
CREATED:20241021T210151Z
LAST-MODIFIED:20241213T225525Z
UID:8187-1736074800-1736078400@www.religiousscifullerton.org
SUMMARY:Sunday Celebration Service
DESCRIPTION:Please join us for our Sunday Celebration! Our guest speaker\, Maggie Rintala\, is speaking on “Set Your Algorhythm of Life”. Spiritual Reading by Debra McMurry\, RScP and musical inspiration provided by Michael Whitney & Tommy Cosentino. \nRecording posted by 3 pm for home viewing.
URL:http://www.religiousscifullerton.org/event/8187/
LOCATION:Center for Spiritual Living Fullerton\, 373 Imperial Hwy\, Fullerton\, CA\, 92835-1040\, United States
CATEGORIES:LIVE MUSIC,Sunday Service
END:VEVENT
BEGIN:VEVENT
DTSTART;TZID=America/Los_Angeles:20250106T100000
DTEND;TZID=America/Los_Angeles:20250106T140000
DTSTAMP:20260425T043147
CREATED:20250108T195601Z
LAST-MODIFIED:20250108T195623Z
UID:8343-1736157600-1736172000@www.religiousscifullerton.org
SUMMARY:Practitioner on site
DESCRIPTION:Licensed SOM Practitioners are available during office hours to take your prayer requests. If you would like to speak to a Practitioner please call the office at (714) 525-1126 or email us at spiritlives@religiousscifullerton.org. \nTo schedule a Full Practitioner Session please make an appointment by calling a Practitioner directly. Click on PRACTITIONERS on the top menu for contact information.
URL:http://www.religiousscifullerton.org/event/practitioner-in-office/
LOCATION:Center for Spiritual Living Fullerton\, 373 Imperial Hwy\, Fullerton\, CA\, 92835-1040\, United States
CATEGORIES:Office Hours
END:VEVENT
BEGIN:VEVENT
DTSTART;TZID=America/Los_Angeles:20250108T100000
DTEND;TZID=America/Los_Angeles:20250108T140000
DTSTAMP:20260425T043147
CREATED:20250108T195717Z
LAST-MODIFIED:20250108T201404Z
UID:8346-1736330400-1736344800@www.religiousscifullerton.org
SUMMARY:Practitioner on site
DESCRIPTION:Licensed SOM Practitioners are available during office hours to take your prayer requests. If you would like to speak to a Practitioner please call the office at (714) 525-1126 or email us at spiritlives@religiousscifullerton.org. \nTo schedule a Full Practitioner Session please make an appointment by calling a Practitioner directly. Click on PRACTITIONERS on the top menu for contact information.
URL:http://www.religiousscifullerton.org/event/practitioner-on-site-585/
LOCATION:Center for Spiritual Living Fullerton\, 373 Imperial Hwy\, Fullerton\, CA\, 92835-1040\, United States
CATEGORIES:Office Hours
END:VEVENT
BEGIN:VEVENT
DTSTART;TZID=America/Los_Angeles:20250110T100000
DTEND;TZID=America/Los_Angeles:20250110T140000
DTSTAMP:20260425T043147
CREATED:20250108T195801Z
LAST-MODIFIED:20250108T201307Z
UID:8348-1736503200-1736517600@www.religiousscifullerton.org
SUMMARY:Practitioner on site
DESCRIPTION:Licensed SOM Practitioners are available during office hours to take your prayer requests. If you would like to speak to a Practitioner please call the office at (714) 525-1126 or email us at spiritlives@religiousscifullerton.org. \nTo schedule a Full Practitioner Session please make an appointment by calling a Practitioner directly. Click on PRACTITIONERS on the top menu for contact information.
URL:http://www.religiousscifullerton.org/event/practitioner-on-site-586/
LOCATION:Center for Spiritual Living Fullerton\, 373 Imperial Hwy\, Fullerton\, CA\, 92835-1040\, United States
CATEGORIES:Office Hours
END:VEVENT
BEGIN:VEVENT
DTSTART;TZID=America/Los_Angeles:20250111T140000
DTEND;TZID=America/Los_Angeles:20250111T160000
DTSTAMP:20260425T043147
CREATED:20250108T202032Z
LAST-MODIFIED:20250108T202157Z
UID:8370-1736604000-1736611200@www.religiousscifullerton.org
SUMMARY:Soroptimist Fullerton Meeting
DESCRIPTION:Soroptimist Fullerton Meeting
URL:http://www.religiousscifullerton.org/event/soroptimist-fullerton-meeting/
LOCATION:Center for Spiritual Living Fullerton\, 373 Imperial Hwy\, Fullerton\, CA\, 92835-1040\, United States
CATEGORIES:Meeting,Private Event
END:VEVENT
END:VCALENDAR