BEGIN:VCALENDAR
VERSION:2.0
PRODID:-//CENTER FOR SPIRITUAL LIVING FULLERTON - ECPv6.15.20//NONSGML v1.0//EN
CALSCALE:GREGORIAN
METHOD:PUBLISH
X-WR-CALNAME:CENTER FOR SPIRITUAL LIVING FULLERTON
X-ORIGINAL-URL:http://www.religiousscifullerton.org
X-WR-CALDESC:Events for CENTER FOR SPIRITUAL LIVING FULLERTON
REFRESH-INTERVAL;VALUE=DURATION:PT1H
X-Robots-Tag:noindex
X-PUBLISHED-TTL:PT1H
BEGIN:VTIMEZONE
TZID:America/Los_Angeles
BEGIN:DAYLIGHT
TZOFFSETFROM:-0800
TZOFFSETTO:-0700
TZNAME:PDT
DTSTART:20230312T100000
END:DAYLIGHT
BEGIN:STANDARD
TZOFFSETFROM:-0700
TZOFFSETTO:-0800
TZNAME:PST
DTSTART:20231105T090000
END:STANDARD
BEGIN:DAYLIGHT
TZOFFSETFROM:-0800
TZOFFSETTO:-0700
TZNAME:PDT
DTSTART:20240310T100000
END:DAYLIGHT
BEGIN:STANDARD
TZOFFSETFROM:-0700
TZOFFSETTO:-0800
TZNAME:PST
DTSTART:20241103T090000
END:STANDARD
BEGIN:DAYLIGHT
TZOFFSETFROM:-0800
TZOFFSETTO:-0700
TZNAME:PDT
DTSTART:20250309T100000
END:DAYLIGHT
BEGIN:STANDARD
TZOFFSETFROM:-0700
TZOFFSETTO:-0800
TZNAME:PST
DTSTART:20251102T090000
END:STANDARD
END:VTIMEZONE
BEGIN:VEVENT
DTSTART;TZID=America/Los_Angeles:20240804T110000
DTEND;TZID=America/Los_Angeles:20240804T120000
DTSTAMP:20260425T083531
CREATED:20240708T212748Z
LAST-MODIFIED:20240802T213007Z
UID:7892-1722769200-1722772800@www.religiousscifullerton.org
SUMMARY:Sunday Celebration Service
DESCRIPTION:Please join us for our Sunday Celebration! Our Guest Speaker\, Rev. Donna Baranyay is speaking on “3 Strikes and You’re Not Out”. Spiritual Reading by Eva Castelo\, RScP and musical inspiration provided by Michael Whitney & Tommy Cosentino. \nRecording posted by 3 pm for home viewing.
URL:http://www.religiousscifullerton.org/event/sunday-celebration-service-202/
LOCATION:Center for Spiritual Living Fullerton\, 373 Imperial Hwy\, Fullerton\, CA\, 92835-1040\, United States
CATEGORIES:LIVE MUSIC,Sunday Service
END:VEVENT
BEGIN:VEVENT
DTSTART;TZID=America/Los_Angeles:20240728T110000
DTEND;TZID=America/Los_Angeles:20240728T120000
DTSTAMP:20260425T083531
CREATED:20240619T193444Z
LAST-MODIFIED:20240722T200843Z
UID:7812-1722164400-1722168000@www.religiousscifullerton.org
SUMMARY:Sunday Celebration Service
DESCRIPTION:Please join us for our Sunday Celebration! Our Guest Speaker: Rev. Sunshine Daye will be speaking on “Who is Driving the Bus?”. Spiritual Reading by Debra McMurry\, RScP and musical inspiration provided Tommy Cosentino. \nRecording posted by 3 pm for home viewing.
URL:http://www.religiousscifullerton.org/event/sunday-celebration-service-201/
LOCATION:Center for Spiritual Living Fullerton\, 373 Imperial Hwy\, Fullerton\, CA\, 92835-1040\, United States
CATEGORIES:LIVE MUSIC,Sunday Service
END:VEVENT
BEGIN:VEVENT
DTSTART;TZID=America/Los_Angeles:20240721T123000
DTEND;TZID=America/Los_Angeles:20240721T140000
DTSTAMP:20260425T083531
CREATED:20240619T192344Z
LAST-MODIFIED:20240701T190926Z
UID:7804-1721565000-1721570400@www.religiousscifullerton.org
SUMMARY:"Open at the Top" Workshop Series: Sound Healing Experience with Mark Romero
DESCRIPTION:“Open at the Top” Workshop Series: Sound Healing Experience with Mark Romero\n \nGet ready to heal your life (both physically and emotionally) as Mark Romero takes you one a one-of-a-kind sound healing experience. Through this program you’ll release all negativity\, and experience true inner peace\, happiness and radical self-love. For more info. visit:  www.markromeromusic.com
URL:http://www.religiousscifullerton.org/event/open-at-the-top-workshop-series-sound-healing-experience-with-mark-romero/
LOCATION:Center for Spiritual Living Fullerton\, 373 Imperial Hwy\, Fullerton\, CA\, 92835-1040\, United States
CATEGORIES:Fundraiser,Guided Meditation,LIVE MUSIC,Special Event,Workshop
END:VEVENT
BEGIN:VEVENT
DTSTART;VALUE=DATE:20240719
DTEND;VALUE=DATE:20240720
DTSTAMP:20260425T083531
CREATED:20240605T184929Z
LAST-MODIFIED:20240605T184929Z
UID:7762-1721347200-1721433599@www.religiousscifullerton.org
SUMMARY:Office closed
DESCRIPTION:Office closed
URL:http://www.religiousscifullerton.org/event/office-closed-20/
LOCATION:Center for Spiritual Living Fullerton\, 373 Imperial Hwy\, Fullerton\, CA\, 92835-1040\, United States
CATEGORIES:Office Hours
END:VEVENT
BEGIN:VEVENT
DTSTART;TZID=America/Los_Angeles:20240713T100000
DTEND;TZID=America/Los_Angeles:20240713T120000
DTSTAMP:20260425T083531
CREATED:20240708T193828Z
LAST-MODIFIED:20240708T193828Z
UID:7856-1720864800-1720872000@www.religiousscifullerton.org
SUMMARY:QHHT Past Life Regression Group Session
DESCRIPTION:QHHT® Past Life Regression Meditation \nGroup Session  with Tomoko Rosas\, RScP\, QHHTP \nSaturday 7/13\, 10 am to 12 pm\, Fee: $20.00 for CSL Members\, $30.00 for MeetUp.com Members \nThis is a general group regression session based on the teachings of Dolores Cannon who developed Quantum Healing Hypnosis Technique. \nThis session will consist of a short discussion\, visualization warm up exercise\, guided regression meditation\, and cool down period (silent writing & sharing). No need to believe in reincarnation to participate but please keep an open mind for your highest benefit. Sessions can be repeated\, each session will yield different results. This is an easy\, safe\, and affordable way to experience this healing technique. All proceeds donated to the Center. We’re looking for up to 10 people per session. Please sign up to reserve your space.  \nWhat is QHHT? This method of hypnosis involves inducing an individual into the Somnambulistic state of trance through visualization. A state which under ordinary circumstances\nis experienced only twice daily: the moment just before you become consciously awake and the moment just before you fall asleep. Historically\, hypnotists have avoided conducting research with subjects in this state because of the often strange and inexplicable results that are recorded. Dolores Cannon begun her research of lost knowledge and reincarnation in the late 1960s by developing QHHT® for past life regression sessions with her subjects. For more information on QHHT\, got to www.dolorescannon.com.
URL:http://www.religiousscifullerton.org/event/qhht-past-life-regression-group-session-2/
LOCATION:Center for Spiritual Living Fullerton\, 373 Imperial Hwy\, Fullerton\, CA\, 92835-1040\, United States
CATEGORIES:Fundraiser,Guided Meditation,Workshop
END:VEVENT
BEGIN:VEVENT
DTSTART;VALUE=DATE:20240705
DTEND;VALUE=DATE:20240706
DTSTAMP:20260425T083531
CREATED:20240619T192551Z
LAST-MODIFIED:20240619T192551Z
UID:7806-1720137600-1720223999@www.religiousscifullerton.org
SUMMARY:Office closed in observance of Independence Day
DESCRIPTION:Office closed in observance of Independence Day
URL:http://www.religiousscifullerton.org/event/office-closed-in-observance-of-independence-day/
LOCATION:Center for Spiritual Living Fullerton\, 373 Imperial Hwy\, Fullerton\, CA\, 92835-1040\, United States
CATEGORIES:Office Hours
END:VEVENT
BEGIN:VEVENT
DTSTART;TZID=America/Los_Angeles:20240630T123000
DTEND;TZID=America/Los_Angeles:20240630T140000
DTSTAMP:20260425T083531
CREATED:20240531T225002Z
LAST-MODIFIED:20240531T225002Z
UID:7703-1719750600-1719756000@www.religiousscifullerton.org
SUMMARY:Reiki Healing Circle: The Power of Forgiveness Meditation
DESCRIPTION:“Open at the Top” Workshop Series! \nReiki Healing Circle: The Power of Forgiveness Meditation  \n \nSunday\, 6/30\, 12:30 to 2:00 pm    Cost: Love Donation   \nFacilitated by Tomoko Rosas\, RScP\, Reiki Master \nPlease join us for a deep guided meditation using the healing modality of Reiki. Calling all local Reiki Practitioners! This is a great way to receive\, ground\, and rejuvenate. \nForgiveness work is one of the most important and transformative spiritual work one can do. We’ll have a short discussion about Reiki\, what it means to “forgive” from a spiritual point of view and how Reiki works with this practice. Followed by a sitting meditation for about 30 minutes.\n \nPlease sign up at the Welcome Table  \n 
URL:http://www.religiousscifullerton.org/event/reiki-healing-circle-the-power-of-forgiveness-meditation/
LOCATION:Center for Spiritual Living Fullerton\, 373 Imperial Hwy\, Fullerton\, CA\, 92835-1040\, United States
CATEGORIES:Guided Meditation,Workshop
END:VEVENT
BEGIN:VEVENT
DTSTART;TZID=America/Los_Angeles:20240622T130000
DTEND;TZID=America/Los_Angeles:20240622T150000
DTSTAMP:20260425T083531
CREATED:20240531T225951Z
LAST-MODIFIED:20240531T230605Z
UID:7705-1719061200-1719068400@www.religiousscifullerton.org
SUMMARY:Memorial Service for Aidan Greaney
DESCRIPTION:Memorial Service for … \nAidan Greaney \nJuly 12\, 1956 – Feb. 21\, 2024 \nIt is with heavy hearts that we announce the passing of our beloved friend\, Aidan Greaney. He passed away from a heart complication at Mission Hospital Wednesday\, February 21st. His ex-wife\, Sandy\, was by his side. Aidan was a kind\, gentle and wise friend to everyone he met. He will be dearly missed but never forgotten.  \nA memorial service will be held on Saturday\, June 22nd\, at 1 pm\,\nat Center for Spiritual Living Capistrano Valley. 1201 Puerta Del Sol\, Ste 100\, San Clemente CA 92673. \nOfficiated by Rev. Dr. Bill Salisbury & Rev. Karyn Allen
URL:http://www.religiousscifullerton.org/event/memorial-service-for-aidan-greaney/
LOCATION:Center for Spiritual Living Capistrano Valley\, 1201 Puerta Del Sol\, Ste. 100\, San Clemente\, CA\, 92673\, United States
CATEGORIES:Church Event,Special Event
END:VEVENT
END:VCALENDAR