BEGIN:VCALENDAR
VERSION:2.0
PRODID:-//CENTER FOR SPIRITUAL LIVING FULLERTON - ECPv6.15.20//NONSGML v1.0//EN
CALSCALE:GREGORIAN
METHOD:PUBLISH
X-WR-CALNAME:CENTER FOR SPIRITUAL LIVING FULLERTON
X-ORIGINAL-URL:http://www.religiousscifullerton.org
X-WR-CALDESC:Events for CENTER FOR SPIRITUAL LIVING FULLERTON
REFRESH-INTERVAL;VALUE=DURATION:PT1H
X-Robots-Tag:noindex
X-PUBLISHED-TTL:PT1H
BEGIN:VTIMEZONE
TZID:America/Los_Angeles
BEGIN:DAYLIGHT
TZOFFSETFROM:-0800
TZOFFSETTO:-0700
TZNAME:PDT
DTSTART:20240310T100000
END:DAYLIGHT
BEGIN:STANDARD
TZOFFSETFROM:-0700
TZOFFSETTO:-0800
TZNAME:PST
DTSTART:20241103T090000
END:STANDARD
BEGIN:DAYLIGHT
TZOFFSETFROM:-0800
TZOFFSETTO:-0700
TZNAME:PDT
DTSTART:20250309T100000
END:DAYLIGHT
BEGIN:STANDARD
TZOFFSETFROM:-0700
TZOFFSETTO:-0800
TZNAME:PST
DTSTART:20251102T090000
END:STANDARD
BEGIN:DAYLIGHT
TZOFFSETFROM:-0800
TZOFFSETTO:-0700
TZNAME:PDT
DTSTART:20260308T100000
END:DAYLIGHT
BEGIN:STANDARD
TZOFFSETFROM:-0700
TZOFFSETTO:-0800
TZNAME:PST
DTSTART:20261101T090000
END:STANDARD
END:VTIMEZONE
BEGIN:VEVENT
DTSTART;TZID=America/Los_Angeles:20250928T110000
DTEND;TZID=America/Los_Angeles:20250928T120000
DTSTAMP:20260424T080624
CREATED:20230123T204209Z
LAST-MODIFIED:20250904T225157Z
UID:6230-1759057200-1759060800@www.religiousscifullerton.org
SUMMARY:Sunday Celebration Service
DESCRIPTION:Please join us for our Sunday Celebration! Our minister\, Rev. Dr. Bill Salisbury\, is speaking on “One Mind Common to All”. Spiritual Reading by Beverley Brezden\, RScP and musical inspiration provided by Tommy Cosentino. \nRecording posted by 3 pm for home viewing.
URL:http://www.religiousscifullerton.org/event/sunday-celebration-service-127/
LOCATION:Center for Spiritual Living Fullerton\, 373 Imperial Hwy\, Fullerton\, CA\, 92835-1040\, United States
CATEGORIES:LIVE MUSIC,Sunday Service
END:VEVENT
BEGIN:VEVENT
DTSTART;TZID=America/Los_Angeles:20250928T103000
DTEND;TZID=America/Los_Angeles:20250928T105000
DTSTAMP:20260424T080624
CREATED:20220404T210731Z
LAST-MODIFIED:20250630T195759Z
UID:5294-1759055400-1759056600@www.religiousscifullerton.org
SUMMARY:Guided Meditation
DESCRIPTION:Please join us for a healing meditation guided by Sally Stredler\, RScP. \nAll welcome!
URL:http://www.religiousscifullerton.org/event/guided-meditation-227/
LOCATION:Center for Spiritual Living Fullerton\, 373 Imperial Hwy\, Fullerton\, CA\, 92835-1040\, United States
CATEGORIES:Guided Meditation
END:VEVENT
BEGIN:VEVENT
DTSTART;TZID=America/Los_Angeles:20250926T100000
DTEND;TZID=America/Los_Angeles:20250926T140000
DTSTAMP:20260424T080624
CREATED:20230125T195744Z
LAST-MODIFIED:20250827T190608Z
UID:6269-1758880800-1758895200@www.religiousscifullerton.org
SUMMARY:Practitioner on Site
DESCRIPTION:Licensed SOM Practitioners are available during office hours to take your prayer requests. If you would like to speak to a Practitioner please call the office at (714) 525-1126 or email us at spiritlives@religiousscifullerton.org. \nTo schedule a Full Practitioner Session please make an appointment by calling a Practitioner directly. Click on PRACTITIONERS on the top menu for contact information.
URL:http://www.religiousscifullerton.org/event/practitioner-on-site-309/
LOCATION:Center for Spiritual Living Fullerton\, 373 Imperial Hwy\, Fullerton\, CA\, 92835-1040\, United States
CATEGORIES:Office Hours
END:VEVENT
BEGIN:VEVENT
DTSTART;TZID=America/Los_Angeles:20250924T130000
DTEND;TZID=America/Los_Angeles:20250924T143000
DTSTAMP:20260424T080624
CREATED:20250827T192309Z
LAST-MODIFIED:20250827T192309Z
UID:8926-1758718800-1758724200@www.religiousscifullerton.org
SUMMARY:"Awakening Spirit" Spiritual Growth Support Group
DESCRIPTION:“Awakening Spirit” Spiritual Growth Support Group \nWherever you are on your Spiritual Path it’s always good to have someone to talk to. If that someone is a Practitioner\, it’s even better! During our office hours\, we’re dedicating one hour each week to anyone who want to come ask questions\, connect with like-minded people\, discuss Spiritual Principles and learn practical ways to apply it in their lives. In a safe and loving group environment – like having tea with friends (bring your favorite tea or coffee with you.) Open to the public. This is a great way to introduce your friends and family to our beautiful philosophy and our church without going to “church”. \nFacilitated by Tomoko Rosas\, RScP \nNo commitment necessary. Come join us when you can. \nCost: FREE – donations gratefully accepted.  \nHighly recommended but not necessary book:\n365 Science of Mind: A Year of Daily Wisdom from Ernest Holmes
URL:http://www.religiousscifullerton.org/event/awakening-spirit-spiritual-growth-support-group-24/
LOCATION:Center for Spiritual Living Fullerton\, 373 Imperial Hwy\, Fullerton\, CA\, 92835-1040\, United States
CATEGORIES:Support Group,Workshop
END:VEVENT
BEGIN:VEVENT
DTSTART;TZID=America/Los_Angeles:20250924T100000
DTEND;TZID=America/Los_Angeles:20250924T140000
DTSTAMP:20260424T080624
CREATED:20230125T195706Z
LAST-MODIFIED:20250827T190518Z
UID:6267-1758708000-1758722400@www.religiousscifullerton.org
SUMMARY:Practitioner on Site
DESCRIPTION:Licensed SOM Practitioners are available during office hours to take your prayer requests. If you would like to speak to a Practitioner please call the office at (714) 525-1126 or email us at spiritlives@religiousscifullerton.org. \nTo schedule a Full Practitioner Session please make an appointment by calling a Practitioner directly. Click on PRACTITIONERS on the top menu for contact information.
URL:http://www.religiousscifullerton.org/event/practitioner-on-site-308/
LOCATION:Center for Spiritual Living Fullerton\, 373 Imperial Hwy\, Fullerton\, CA\, 92835-1040\, United States
CATEGORIES:Office Hours
END:VEVENT
BEGIN:VEVENT
DTSTART;TZID=America/Los_Angeles:20250922T100000
DTEND;TZID=America/Los_Angeles:20250922T140000
DTSTAMP:20260424T080624
CREATED:20221216T214232Z
LAST-MODIFIED:20250827T190327Z
UID:6180-1758535200-1758549600@www.religiousscifullerton.org
SUMMARY:Practitioner on Site
DESCRIPTION:Licensed SOM Practitioners are available during office hours to take your prayer requests. If you would like to speak to a Practitioner please call the office at (714) 525-1126 or email us at spiritlives@religiousscifullerton.org. \nTo schedule a Full Practitioner Session please make an appointment by calling a Practitioner directly. Click on PRACTITIONERS on the top menu for contact information.
URL:http://www.religiousscifullerton.org/event/practitioner-on-site-305/
LOCATION:Center for Spiritual Living Fullerton\, 373 Imperial Hwy\, Fullerton\, CA\, 92835-1040\, United States
CATEGORIES:Office Hours
END:VEVENT
BEGIN:VEVENT
DTSTART;TZID=America/Los_Angeles:20250921T110000
DTEND;TZID=America/Los_Angeles:20250921T120000
DTSTAMP:20260424T080624
CREATED:20221216T210848Z
LAST-MODIFIED:20250904T225113Z
UID:6128-1758452400-1758456000@www.religiousscifullerton.org
SUMMARY:Sunday Celebration Service
DESCRIPTION:Please join us for our Sunday Celebration! Our guest speaker\, Terah Short\, RScP\, is speaking on “Unwrapping Your Gifts”. Spiritual Reading by Amanda Secola\, RScP and musical inspiration provided by Debbi Ebert & Tommy Cosentino. \nRecording posted by 3 pm for home viewing.
URL:http://www.religiousscifullerton.org/event/sunday-celebration-service-125/
LOCATION:Center for Spiritual Living Fullerton\, 373 Imperial Hwy\, Fullerton\, CA\, 92835-1040\, United States
CATEGORIES:LIVE MUSIC,Sunday Service
END:VEVENT
BEGIN:VEVENT
DTSTART;TZID=America/Los_Angeles:20250921T103000
DTEND;TZID=America/Los_Angeles:20250921T105000
DTSTAMP:20260424T080624
CREATED:20220404T210631Z
LAST-MODIFIED:20250904T224957Z
UID:5292-1758450600-1758451800@www.religiousscifullerton.org
SUMMARY:Guided Meditation
DESCRIPTION:Please join us for a healing meditation guided by Tomoko Rosas\, RScP. \nAll welcome!
URL:http://www.religiousscifullerton.org/event/guided-meditation-226/
LOCATION:Center for Spiritual Living Fullerton\, 373 Imperial Hwy\, Fullerton\, CA\, 92835-1040\, United States
CATEGORIES:Guided Meditation
END:VEVENT
BEGIN:VEVENT
DTSTART;TZID=America/Los_Angeles:20250919T100000
DTEND;TZID=America/Los_Angeles:20250919T140000
DTSTAMP:20260424T080624
CREATED:20221216T214102Z
LAST-MODIFIED:20250827T190240Z
UID:6176-1758276000-1758290400@www.religiousscifullerton.org
SUMMARY:Practitioner on Site
DESCRIPTION:Licensed SOM Practitioners are available during office hours to take your prayer requests. If you would like to speak to a Practitioner please call the office at (714) 525-1126 or email us at spiritlives@religiousscifullerton.org. \nTo schedule a Full Practitioner Session please make an appointment by calling a Practitioner directly. Click on PRACTITIONERS on the top menu for contact information.
URL:http://www.religiousscifullerton.org/event/practitioner-on-site-303/
LOCATION:Center for Spiritual Living Fullerton\, 373 Imperial Hwy\, Fullerton\, CA\, 92835-1040\, United States
CATEGORIES:Office Hours
END:VEVENT
BEGIN:VEVENT
DTSTART;TZID=America/Los_Angeles:20250917T130000
DTEND;TZID=America/Los_Angeles:20250917T143000
DTSTAMP:20260424T080624
CREATED:20250827T192214Z
LAST-MODIFIED:20250827T192214Z
UID:8924-1758114000-1758119400@www.religiousscifullerton.org
SUMMARY:"Awakening Spirit" Spiritual Growth Support Group
DESCRIPTION:“Awakening Spirit” Spiritual Growth Support Group \nWherever you are on your Spiritual Path it’s always good to have someone to talk to. If that someone is a Practitioner\, it’s even better! During our office hours\, we’re dedicating one hour each week to anyone who want to come ask questions\, connect with like-minded people\, discuss Spiritual Principles and learn practical ways to apply it in their lives. In a safe and loving group environment – like having tea with friends (bring your favorite tea or coffee with you.) Open to the public. This is a great way to introduce your friends and family to our beautiful philosophy and our church without going to “church”. \nFacilitated by Tomoko Rosas\, RScP \nNo commitment necessary. Come join us when you can. \nCost: FREE – donations gratefully accepted.  \nHighly recommended but not necessary book:\n365 Science of Mind: A Year of Daily Wisdom from Ernest Holmes
URL:http://www.religiousscifullerton.org/event/awakening-spirit-spiritual-growth-support-group-23/
LOCATION:Center for Spiritual Living Fullerton\, 373 Imperial Hwy\, Fullerton\, CA\, 92835-1040\, United States
CATEGORIES:Support Group,Workshop
END:VEVENT
BEGIN:VEVENT
DTSTART;TZID=America/Los_Angeles:20250917T100000
DTEND;TZID=America/Los_Angeles:20250917T140000
DTSTAMP:20260424T080624
CREATED:20221216T213939Z
LAST-MODIFIED:20250827T190131Z
UID:6174-1758103200-1758117600@www.religiousscifullerton.org
SUMMARY:Practitioner on Site
DESCRIPTION:Licensed SOM Practitioners are available during office hours to take your prayer requests. If you would like to speak to a Practitioner please call the office at (714) 525-1126 or email us at spiritlives@religiousscifullerton.org. \nTo schedule a Full Practitioner Session please make an appointment by calling a Practitioner directly. Click on PRACTITIONERS on the top menu for contact information.
URL:http://www.religiousscifullerton.org/event/practitioner-on-site-302/
LOCATION:Center for Spiritual Living Fullerton\, 373 Imperial Hwy\, Fullerton\, CA\, 92835-1040\, United States
CATEGORIES:Office Hours
END:VEVENT
BEGIN:VEVENT
DTSTART;TZID=America/Los_Angeles:20250915T100000
DTEND;TZID=America/Los_Angeles:20250915T140000
DTSTAMP:20260424T080624
CREATED:20221216T213832Z
LAST-MODIFIED:20250827T190045Z
UID:6172-1757930400-1757944800@www.religiousscifullerton.org
SUMMARY:Practitioner on Site
DESCRIPTION:Licensed SOM Practitioners are available during office hours to take your prayer requests. If you would like to speak to a Practitioner please call the office at (714) 525-1126 or email us at spiritlives@religiousscifullerton.org. \nTo schedule a Full Practitioner Session please make an appointment by calling a Practitioner directly. Click on PRACTITIONERS on the top menu for contact information.
URL:http://www.religiousscifullerton.org/event/practitioner-on-site-301/
LOCATION:Center for Spiritual Living Fullerton\, 373 Imperial Hwy\, Fullerton\, CA\, 92835-1040\, United States
CATEGORIES:Office Hours
END:VEVENT
BEGIN:VEVENT
DTSTART;TZID=America/Los_Angeles:20250914T110000
DTEND;TZID=America/Los_Angeles:20250914T120000
DTSTAMP:20260424T080624
CREATED:20221216T211022Z
LAST-MODIFIED:20250904T224917Z
UID:6130-1757847600-1757851200@www.religiousscifullerton.org
SUMMARY:Sunday Celebration Service
DESCRIPTION:Please join us for our Sunday Celebration! Our minister\, Rev. Dr. Bill Salisbury\, is speaking on “One For All and All For One”. Spiritual Reading by Sally Stredler\, RScP and musical inspiration provided by Tommy Cosentino. \nRecording posted by 3 pm for home viewing.
URL:http://www.religiousscifullerton.org/event/sunday-celebration-service-126/
LOCATION:Center for Spiritual Living Fullerton\, 373 Imperial Hwy\, Fullerton\, CA\, 92835-1040\, United States
CATEGORIES:LIVE MUSIC,Sunday Service
END:VEVENT
BEGIN:VEVENT
DTSTART;TZID=America/Los_Angeles:20250914T103000
DTEND;TZID=America/Los_Angeles:20250914T105000
DTSTAMP:20260424T080624
CREATED:20220404T210515Z
LAST-MODIFIED:20250904T224820Z
UID:5290-1757845800-1757847000@www.religiousscifullerton.org
SUMMARY:Guided Meditation
DESCRIPTION:Please join us for a healing meditation guided by Tomoko Rosas\, RScP. \nAll welcome!
URL:http://www.religiousscifullerton.org/event/guided-meditation-225/
LOCATION:Center for Spiritual Living Fullerton\, 373 Imperial Hwy\, Fullerton\, CA\, 92835-1040\, United States
CATEGORIES:Guided Meditation
END:VEVENT
BEGIN:VEVENT
DTSTART;TZID=America/Los_Angeles:20250912T100000
DTEND;TZID=America/Los_Angeles:20250912T140000
DTSTAMP:20260424T080624
CREATED:20221216T212736Z
LAST-MODIFIED:20250827T185951Z
UID:6158-1757671200-1757685600@www.religiousscifullerton.org
SUMMARY:Practitioner on Site
DESCRIPTION:Licensed SOM Practitioners are available during office hours to take your prayer requests. If you would like to speak to a Practitioner please call the office at (714) 525-1126 or email us at spiritlives@religiousscifullerton.org. \nTo schedule a Full Practitioner Session please make an appointment by calling a Practitioner directly. Click on PRACTITIONERS on the top menu for contact information.
URL:http://www.religiousscifullerton.org/event/practitioner-on-site-299/
LOCATION:Center for Spiritual Living Fullerton\, 373 Imperial Hwy\, Fullerton\, CA\, 92835-1040\, United States
CATEGORIES:Office Hours
END:VEVENT
BEGIN:VEVENT
DTSTART;TZID=America/Los_Angeles:20250910T130000
DTEND;TZID=America/Los_Angeles:20250910T143000
DTSTAMP:20260424T080624
CREATED:20250827T192111Z
LAST-MODIFIED:20250827T192111Z
UID:8922-1757509200-1757514600@www.religiousscifullerton.org
SUMMARY:"Awakening Spirit" Spiritual Growth Support Group
DESCRIPTION:“Awakening Spirit” Spiritual Growth Support Group \nWherever you are on your Spiritual Path it’s always good to have someone to talk to. If that someone is a Practitioner\, it’s even better! During our office hours\, we’re dedicating one hour each week to anyone who want to come ask questions\, connect with like-minded people\, discuss Spiritual Principles and learn practical ways to apply it in their lives. In a safe and loving group environment – like having tea with friends (bring your favorite tea or coffee with you.) Open to the public. This is a great way to introduce your friends and family to our beautiful philosophy and our church without going to “church”. \nFacilitated by Tomoko Rosas\, RScP \nNo commitment necessary. Come join us when you can. \nCost: FREE – donations gratefully accepted.  \nHighly recommended but not necessary book:\n365 Science of Mind: A Year of Daily Wisdom from Ernest Holmes
URL:http://www.religiousscifullerton.org/event/awakening-spirit-spiritual-growth-support-group-22/
LOCATION:Center for Spiritual Living Fullerton\, 373 Imperial Hwy\, Fullerton\, CA\, 92835-1040\, United States
CATEGORIES:Support Group,Workshop
END:VEVENT
BEGIN:VEVENT
DTSTART;TZID=America/Los_Angeles:20250910T100000
DTEND;TZID=America/Los_Angeles:20250910T140000
DTSTAMP:20260424T080624
CREATED:20221216T212649Z
LAST-MODIFIED:20250827T185901Z
UID:6156-1757498400-1757512800@www.religiousscifullerton.org
SUMMARY:Practitioner on Site
DESCRIPTION:Licensed SOM Practitioners are available during office hours to take your prayer requests. If you would like to speak to a Practitioner please call the office at (714) 525-1126 or email us at spiritlives@religiousscifullerton.org. \nTo schedule a Full Practitioner Session please make an appointment by calling a Practitioner directly. Click on PRACTITIONERS on the top menu for contact information.
URL:http://www.religiousscifullerton.org/event/practitioner-on-site-298/
LOCATION:Center for Spiritual Living Fullerton\, 373 Imperial Hwy\, Fullerton\, CA\, 92835-1040\, United States
CATEGORIES:Office Hours
END:VEVENT
BEGIN:VEVENT
DTSTART;TZID=America/Los_Angeles:20250908T100000
DTEND;TZID=America/Los_Angeles:20250908T140000
DTSTAMP:20260424T080624
CREATED:20220615T190402Z
LAST-MODIFIED:20250825T191833Z
UID:5471-1757325600-1757340000@www.religiousscifullerton.org
SUMMARY:Practitioner on Site
DESCRIPTION:Licensed SOM Practitioners are available during office hours to take your prayer requests. If you would like to speak to a Practitioner please call the office at (714) 525-1126 or email us at spiritlives@religiousscifullerton.org. \nTo schedule a Full Practitioner Session please make an appointment by calling a Practitioner directly. Click on PRACTITIONERS on the top menu for contact information.
URL:http://www.religiousscifullerton.org/event/practitioner-on-site-220/
LOCATION:Center for Spiritual Living Fullerton\, 373 Imperial Hwy\, Fullerton\, CA\, 92835-1040\, United States
CATEGORIES:Office Hours
END:VEVENT
BEGIN:VEVENT
DTSTART;TZID=America/Los_Angeles:20250907T110000
DTEND;TZID=America/Los_Angeles:20250907T120000
DTSTAMP:20260424T080624
CREATED:20221216T210516Z
LAST-MODIFIED:20250904T224722Z
UID:6124-1757242800-1757246400@www.religiousscifullerton.org
SUMMARY:Sunday Celebration Service
DESCRIPTION:Please join us for our Sunday Celebration! Our minister\, Rev. Dr. Bill Salisbury is speaking on “One. Loneliness? Or Limitless?”. Spiritual Reading by Dee Noel\, RScP\, and musical inspiration provided by Tommy Cosentino & Michael Whitney. \nRecording posted by 3 pm for home viewing.
URL:http://www.religiousscifullerton.org/event/sunday-celebration-service-123/
LOCATION:Center for Spiritual Living Fullerton\, 373 Imperial Hwy\, Fullerton\, CA\, 92835-1040\, United States
CATEGORIES:LIVE MUSIC,Sunday Service
END:VEVENT
BEGIN:VEVENT
DTSTART;TZID=America/Los_Angeles:20250907T103000
DTEND;TZID=America/Los_Angeles:20250907T105000
DTSTAMP:20260424T080624
CREATED:20220404T210415Z
LAST-MODIFIED:20250904T224609Z
UID:5288-1757241000-1757242200@www.religiousscifullerton.org
SUMMARY:Guided Meditation
DESCRIPTION:Please join us for a healing meditation guided by Carol Riseling\, RScP. \nAll welcome!
URL:http://www.religiousscifullerton.org/event/guided-meditation-224/
LOCATION:Center for Spiritual Living Fullerton\, 373 Imperial Hwy\, Fullerton\, CA\, 92835-1040\, United States
CATEGORIES:Guided Meditation
END:VEVENT
BEGIN:VEVENT
DTSTART;TZID=America/Los_Angeles:20250905T100000
DTEND;TZID=America/Los_Angeles:20250905T140000
DTSTAMP:20260424T080624
CREATED:20220615T190548Z
LAST-MODIFIED:20250630T201459Z
UID:5475-1757066400-1757080800@www.religiousscifullerton.org
SUMMARY:Practitioner on Site
DESCRIPTION:Licensed SOM Practitioners are available during office hours to take your prayer requests. If you would like to speak to a Practitioner please call the office at (714) 525-1126 or email us at spiritlives@religiousscifullerton.org. \nTo schedule a Full Practitioner Session please make an appointment by calling a Practitioner directly. Click on PRACTITIONERS on the top menu for contact information.
URL:http://www.religiousscifullerton.org/event/practitioner-on-site-222/
LOCATION:Center for Spiritual Living Fullerton\, 373 Imperial Hwy\, Fullerton\, CA\, 92835-1040\, United States
CATEGORIES:Office Hours
END:VEVENT
BEGIN:VEVENT
DTSTART;TZID=America/Los_Angeles:20250903T130000
DTEND;TZID=America/Los_Angeles:20250903T143000
DTSTAMP:20260424T080624
CREATED:20250630T203532Z
LAST-MODIFIED:20250630T203532Z
UID:8858-1756904400-1756909800@www.religiousscifullerton.org
SUMMARY:"Awakening Spirit" Spiritual Growth Support Group
DESCRIPTION:“Awakening Spirit” Spiritual Growth Support Group \nWherever you are on your Spiritual Path it’s always good to have someone to talk to. If that someone is a Practitioner\, it’s even better! During our office hours\, we’re dedicating one hour each week to anyone who want to come ask questions\, connect with like-minded people\, discuss Spiritual Principles and learn practical ways to apply it in their lives. In a safe and loving group environment – like having tea with friends (bring your favorite tea or coffee with you.) Open to the public. This is a great way to introduce your friends and family to our beautiful philosophy and our church without going to “church”. \nFacilitated by Tomoko Rosas\, RScP \nNo commitment necessary. Come join us when you can. \nCost: FREE – donations gratefully accepted.  \nHighly recommended but not necessary book:\n365 Science of Mind: A Year of Daily Wisdom from Ernest Holmes
URL:http://www.religiousscifullerton.org/event/awakening-spirit-spiritual-growth-support-group-21/
LOCATION:Center for Spiritual Living Fullerton\, 373 Imperial Hwy\, Fullerton\, CA\, 92835-1040\, United States
CATEGORIES:Class,Support Group
END:VEVENT
BEGIN:VEVENT
DTSTART;TZID=America/Los_Angeles:20250903T100000
DTEND;TZID=America/Los_Angeles:20250903T140000
DTSTAMP:20260424T080624
CREATED:20220615T190446Z
LAST-MODIFIED:20250630T201207Z
UID:5473-1756893600-1756908000@www.religiousscifullerton.org
SUMMARY:Practitioner on Site
DESCRIPTION:Licensed SOM Practitioners are available during office hours to take your prayer requests. If you would like to speak to a Practitioner please call the office at (714) 525-1126 or email us at spiritlives@religiousscifullerton.org. \nTo schedule a Full Practitioner Session please make an appointment by calling a Practitioner directly. Click on PRACTITIONERS on the top menu for contact information.
URL:http://www.religiousscifullerton.org/event/practitioner-on-site-221/
LOCATION:Center for Spiritual Living Fullerton\, 373 Imperial Hwy\, Fullerton\, CA\, 92835-1040\, United States
CATEGORIES:Office Hours
END:VEVENT
BEGIN:VEVENT
DTSTART;VALUE=DATE:20250901
DTEND;VALUE=DATE:20250902
DTSTAMP:20260424T080624
CREATED:20250825T191935Z
LAST-MODIFIED:20250825T191935Z
UID:8915-1756684800-1756771199@www.religiousscifullerton.org
SUMMARY:Office closed in observance of Labor Day
DESCRIPTION:Office closed in observance of Labor Day
URL:http://www.religiousscifullerton.org/event/office-closed-in-observance-of-labor-day-2/
LOCATION:Center for Spiritual Living Fullerton\, 373 Imperial Hwy\, Fullerton\, CA\, 92835-1040\, United States
CATEGORIES:Office Hours
END:VEVENT
BEGIN:VEVENT
DTSTART;TZID=America/Los_Angeles:20250831T110000
DTEND;TZID=America/Los_Angeles:20250831T120000
DTSTAMP:20260424T080624
CREATED:20250630T193932Z
LAST-MODIFIED:20250630T193932Z
UID:8830-1756638000-1756641600@www.religiousscifullerton.org
SUMMARY:Sunday Celebration Service
DESCRIPTION:Please join us for our Sunday Celebration! Our Minister\, Rev. Dr. Bill Salisbury\, will be speaking on “TBA”. Spiritual Reading by Beverley Brezden\, RScP. Musical inspiration will be provided by Tommy Cosentino. \nRecording posted by 3 pm for home viewing.
URL:http://www.religiousscifullerton.org/event/sunday-celebration-service-15/
LOCATION:Center for Spiritual Living Fullerton\, 373 Imperial Hwy\, Fullerton\, CA\, 92835-1040\, United States
CATEGORIES:LIVE MUSIC,Sunday Service
END:VEVENT
BEGIN:VEVENT
DTSTART;TZID=America/Los_Angeles:20250831T103000
DTEND;TZID=America/Los_Angeles:20250831T105000
DTSTAMP:20260424T080624
CREATED:20250630T194141Z
LAST-MODIFIED:20250630T194141Z
UID:8832-1756636200-1756637400@www.religiousscifullerton.org
SUMMARY:Guided Meditation
DESCRIPTION:Please join us for a healing meditation guided by Tomoko Rosas\, RScP. \nAll welcome!
URL:http://www.religiousscifullerton.org/event/guided-meditation-15/
LOCATION:Center for Spiritual Living Fullerton\, 373 Imperial Hwy\, Fullerton\, CA\, 92835-1040\, United States
CATEGORIES:Guided Meditation
END:VEVENT
BEGIN:VEVENT
DTSTART;TZID=America/Los_Angeles:20250829T100000
DTEND;TZID=America/Los_Angeles:20250829T140000
DTSTAMP:20260424T080624
CREATED:20220615T195155Z
LAST-MODIFIED:20250630T200844Z
UID:5523-1756461600-1756476000@www.religiousscifullerton.org
SUMMARY:Practitioner on Site
DESCRIPTION:Licensed SOM Practitioners are available during office hours to take your prayer requests. If you would like to speak to a Practitioner please call the office at (714) 525-1126 or email us at spiritlives@religiousscifullerton.org. \nTo schedule a Full Practitioner Session please make an appointment by calling a Practitioner directly. Click on PRACTITIONERS on the top menu for contact information.
URL:http://www.religiousscifullerton.org/event/practitioner-on-site-226/
LOCATION:Center for Spiritual Living Fullerton\, 373 Imperial Hwy\, Fullerton\, CA\, 92835-1040\, United States
CATEGORIES:Office Hours
END:VEVENT
BEGIN:VEVENT
DTSTART;TZID=America/Los_Angeles:20250827T100000
DTEND;TZID=America/Los_Angeles:20250827T140000
DTSTAMP:20260424T080624
CREATED:20220615T190645Z
LAST-MODIFIED:20250630T200803Z
UID:5477-1756288800-1756303200@www.religiousscifullerton.org
SUMMARY:Practitioner on Site
DESCRIPTION:Licensed SOM Practitioners are available during office hours to take your prayer requests. If you would like to speak to a Practitioner please call the office at (714) 525-1126 or email us at spiritlives@religiousscifullerton.org. \nTo schedule a Full Practitioner Session please make an appointment by calling a Practitioner directly. Click on PRACTITIONERS on the top menu for contact information.
URL:http://www.religiousscifullerton.org/event/practitioner-on-site-223/
LOCATION:Center for Spiritual Living Fullerton\, 373 Imperial Hwy\, Fullerton\, CA\, 92835-1040\, United States
CATEGORIES:Office Hours
END:VEVENT
BEGIN:VEVENT
DTSTART;TZID=America/Los_Angeles:20250827T080000
DTEND;TZID=America/Los_Angeles:20250827T143000
DTSTAMP:20260424T080624
CREATED:20250630T203428Z
LAST-MODIFIED:20250630T203428Z
UID:8856-1756281600-1756305000@www.religiousscifullerton.org
SUMMARY:"Awakening Spirit" Spiritual Growth Support Group
DESCRIPTION:“Awakening Spirit” Spiritual Growth Support Group \nWherever you are on your Spiritual Path it’s always good to have someone to talk to. If that someone is a Practitioner\, it’s even better! During our office hours\, we’re dedicating one hour each week to anyone who want to come ask questions\, connect with like-minded people\, discuss Spiritual Principles and learn practical ways to apply it in their lives. In a safe and loving group environment – like having tea with friends (bring your favorite tea or coffee with you.) Open to the public. This is a great way to introduce your friends and family to our beautiful philosophy and our church without going to “church”. \nFacilitated by Tomoko Rosas\, RScP \nNo commitment necessary. Come join us when you can. \nCost: FREE – donations gratefully accepted.  \nHighly recommended but not necessary book:\n365 Science of Mind: A Year of Daily Wisdom from Ernest Holmes
URL:http://www.religiousscifullerton.org/event/awakening-spirit-spiritual-growth-support-group-20/
LOCATION:Center for Spiritual Living Fullerton\, 373 Imperial Hwy\, Fullerton\, CA\, 92835-1040\, United States
CATEGORIES:Class,Support Group
END:VEVENT
BEGIN:VEVENT
DTSTART;TZID=America/Los_Angeles:20250825T100000
DTEND;TZID=America/Los_Angeles:20250825T140000
DTSTAMP:20260424T080624
CREATED:20220615T190158Z
LAST-MODIFIED:20250630T200733Z
UID:5469-1756116000-1756130400@www.religiousscifullerton.org
SUMMARY:Practitioner on Site
DESCRIPTION:Licensed SOM Practitioners are available during office hours to take your prayer requests. If you would like to speak to a Practitioner please call the office at (714) 525-1126 or email us at spiritlives@religiousscifullerton.org. \nTo schedule a Full Practitioner Session please make an appointment by calling a Practitioner directly. Click on PRACTITIONERS on the top menu for contact information.
URL:http://www.religiousscifullerton.org/event/practitioner-on-site-219/
LOCATION:Center for Spiritual Living Fullerton\, 373 Imperial Hwy\, Fullerton\, CA\, 92835-1040\, United States
CATEGORIES:Office Hours
END:VEVENT
END:VCALENDAR