BEGIN:VCALENDAR
VERSION:2.0
PRODID:-//CENTER FOR SPIRITUAL LIVING FULLERTON - ECPv6.15.20//NONSGML v1.0//EN
CALSCALE:GREGORIAN
METHOD:PUBLISH
X-WR-CALNAME:CENTER FOR SPIRITUAL LIVING FULLERTON
X-ORIGINAL-URL:http://www.religiousscifullerton.org
X-WR-CALDESC:Events for CENTER FOR SPIRITUAL LIVING FULLERTON
REFRESH-INTERVAL;VALUE=DURATION:PT1H
X-Robots-Tag:noindex
X-PUBLISHED-TTL:PT1H
BEGIN:VTIMEZONE
TZID:America/Los_Angeles
BEGIN:DAYLIGHT
TZOFFSETFROM:-0800
TZOFFSETTO:-0700
TZNAME:PDT
DTSTART:20240310T100000
END:DAYLIGHT
BEGIN:STANDARD
TZOFFSETFROM:-0700
TZOFFSETTO:-0800
TZNAME:PST
DTSTART:20241103T090000
END:STANDARD
BEGIN:DAYLIGHT
TZOFFSETFROM:-0800
TZOFFSETTO:-0700
TZNAME:PDT
DTSTART:20250309T100000
END:DAYLIGHT
BEGIN:STANDARD
TZOFFSETFROM:-0700
TZOFFSETTO:-0800
TZNAME:PST
DTSTART:20251102T090000
END:STANDARD
BEGIN:DAYLIGHT
TZOFFSETFROM:-0800
TZOFFSETTO:-0700
TZNAME:PDT
DTSTART:20260308T100000
END:DAYLIGHT
BEGIN:STANDARD
TZOFFSETFROM:-0700
TZOFFSETTO:-0800
TZNAME:PST
DTSTART:20261101T090000
END:STANDARD
END:VTIMEZONE
BEGIN:VEVENT
DTSTART;TZID=America/Los_Angeles:20250811T100000
DTEND;TZID=America/Los_Angeles:20250811T140000
DTSTAMP:20260424T050408
CREATED:20220523T211255Z
LAST-MODIFIED:20250630T200344Z
UID:5449-1754906400-1754920800@www.religiousscifullerton.org
SUMMARY:Practitioner on Site
DESCRIPTION:Licensed SOM Practitioners are available during office hours to take your prayer requests. If you would like to speak to a Practitioner please call the office at (714) 525-1126 or email us at spiritlives@religiousscifullerton.org. \nTo schedule a Full Practitioner Session please make an appointment by calling a Practitioner directly. Click on PRACTITIONERS on the top menu for contact information.
URL:http://www.religiousscifullerton.org/event/practitioner-on-site-214/
LOCATION:Center for Spiritual Living Fullerton\, 373 Imperial Hwy\, Fullerton\, CA\, 92835-1040\, United States
CATEGORIES:Office Hours
END:VEVENT
BEGIN:VEVENT
DTSTART;TZID=America/Los_Angeles:20250810T110000
DTEND;TZID=America/Los_Angeles:20250810T120000
DTSTAMP:20260424T050408
CREATED:20250630T193533Z
LAST-MODIFIED:20250730T174954Z
UID:8824-1754823600-1754827200@www.religiousscifullerton.org
SUMMARY:Sunday Celebration Service
DESCRIPTION:Please join us for our Sunday Celebration! Our Minister\, Rev. Dr. Bill Salisbury\, will be speaking on “I’ll Give You What I Want”. Spiritual Reading by Sally Stredler\, RScP. Musical inspiration will be provided by Tommy Cosentino. \nRecording posted by 3 pm for home viewing.
URL:http://www.religiousscifullerton.org/event/sunday-celebration-service-12/
LOCATION:Center for Spiritual Living Fullerton\, 373 Imperial Hwy\, Fullerton\, CA\, 92835-1040\, United States
CATEGORIES:LIVE MUSIC,Sunday Service
END:VEVENT
BEGIN:VEVENT
DTSTART;TZID=America/Los_Angeles:20250810T103000
DTEND;TZID=America/Los_Angeles:20250810T105000
DTSTAMP:20260424T050408
CREATED:20250623T204233Z
LAST-MODIFIED:20250623T204259Z
UID:8789-1754821800-1754823000@www.religiousscifullerton.org
SUMMARY:Guided Meditation
DESCRIPTION:Please join us for a healing meditation guided by Carol Riseling\, RScP. \nAll welcome!
URL:http://www.religiousscifullerton.org/event/guided-meditation-12/
LOCATION:Center for Spiritual Living Fullerton\, 373 Imperial Hwy\, Fullerton\, CA\, 92835-1040\, United States
CATEGORIES:Guided Meditation
END:VEVENT
BEGIN:VEVENT
DTSTART;TZID=America/Los_Angeles:20250808T100000
DTEND;TZID=America/Los_Angeles:20250808T140000
DTSTAMP:20260424T050408
CREATED:20220523T211210Z
LAST-MODIFIED:20250630T200218Z
UID:5447-1754647200-1754661600@www.religiousscifullerton.org
SUMMARY:Practitioner on Site
DESCRIPTION:Licensed SOM Practitioners are available during office hours to take your prayer requests. If you would like to speak to a Practitioner please call the office at (714) 525-1126 or email us at spiritlives@religiousscifullerton.org. \nTo schedule a Full Practitioner Session please make an appointment by calling a Practitioner directly. Click on PRACTITIONERS on the top menu for contact information.
URL:http://www.religiousscifullerton.org/event/practitioner-on-site-213/
LOCATION:Center for Spiritual Living Fullerton\, 373 Imperial Hwy\, Fullerton\, CA\, 92835-1040\, United States
CATEGORIES:Office Hours
END:VEVENT
BEGIN:VEVENT
DTSTART;TZID=America/Los_Angeles:20250806T130000
DTEND;TZID=America/Los_Angeles:20250806T143000
DTSTAMP:20260424T050408
CREATED:20250630T202759Z
LAST-MODIFIED:20250630T202759Z
UID:8850-1754485200-1754490600@www.religiousscifullerton.org
SUMMARY:"Awakening Spirit" Spiritual Growth Support Group
DESCRIPTION:“Awakening Spirit” Spiritual Growth Support Group \nWherever you are on your Spiritual Path it’s always good to have someone to talk to. If that someone is a Practitioner\, it’s even better! During our office hours\, we’re dedicating one hour each week to anyone who want to come ask questions\, connect with like-minded people\, discuss Spiritual Principles and learn practical ways to apply it in their lives. In a safe and loving group environment – like having tea with friends (bring your favorite tea or coffee with you.) Open to the public. This is a great way to introduce your friends and family to our beautiful philosophy and our church without going to “church”. \nFacilitated by Tomoko Rosas\, RScP \nNo commitment necessary. Come join us when you can. \nCost: FREE – donations gratefully accepted.  \nHighly recommended but not necessary book:\n365 Science of Mind: A Year of Daily Wisdom from Ernest Holmes
URL:http://www.religiousscifullerton.org/event/awakening-spirit-spiritual-growth-support-group-17/
LOCATION:Center for Spiritual Living Fullerton\, 373 Imperial Hwy\, Fullerton\, CA\, 92835-1040\, United States
CATEGORIES:Class,Support Group
END:VEVENT
BEGIN:VEVENT
DTSTART;TZID=America/Los_Angeles:20250806T100000
DTEND;TZID=America/Los_Angeles:20250806T140000
DTSTAMP:20260424T050408
CREATED:20220523T211103Z
LAST-MODIFIED:20250630T200148Z
UID:5445-1754474400-1754488800@www.religiousscifullerton.org
SUMMARY:Practitioner on Site
DESCRIPTION:Licensed SOM Practitioners are available during office hours to take your prayer requests. If you would like to speak to a Practitioner please call the office at (714) 525-1126 or email us at spiritlives@religiousscifullerton.org. \nTo schedule a Full Practitioner Session please make an appointment by calling a Practitioner directly. Click on PRACTITIONERS on the top menu for contact information.
URL:http://www.religiousscifullerton.org/event/practitioner-on-site-212/
LOCATION:Center for Spiritual Living Fullerton\, 373 Imperial Hwy\, Fullerton\, CA\, 92835-1040\, United States
CATEGORIES:Office Hours
END:VEVENT
BEGIN:VEVENT
DTSTART;TZID=America/Los_Angeles:20250804T100000
DTEND;TZID=America/Los_Angeles:20250804T140000
DTSTAMP:20260424T050408
CREATED:20220404T213813Z
LAST-MODIFIED:20250630T200032Z
UID:5334-1754301600-1754316000@www.religiousscifullerton.org
SUMMARY:Practitioner on Site
DESCRIPTION:Licensed SOM Practitioners are available during office hours to take your prayer requests. If you would like to speak to a Practitioner please call the office at (714) 525-1126 or email us at spiritlives@religiousscifullerton.org. \nTo schedule a Full Practitioner Session please make an appointment by calling a Practitioner directly. Click on PRACTITIONERS on the top menu for contact information.
URL:http://www.religiousscifullerton.org/event/practitioner-on-site-210/
LOCATION:Center for Spiritual Living Fullerton\, 373 Imperial Hwy\, Fullerton\, CA\, 92835-1040\, United States
CATEGORIES:Office Hours
END:VEVENT
BEGIN:VEVENT
DTSTART;TZID=America/Los_Angeles:20250803T120000
DTEND;TZID=America/Los_Angeles:20250803T130000
DTSTAMP:20260424T050408
CREATED:20250728T204458Z
LAST-MODIFIED:20250728T204458Z
UID:8887-1754222400-1754226000@www.religiousscifullerton.org
SUMMARY:Rev. Bill's Birthday Celebration & Potluck Lunch
DESCRIPTION:Rev. Bill’s Birthday Celebration & Potluck Lunch \n \nCome join in celebrating Rev. Bill’s birthday with a Cake and a Potluck Lunch. All welcome!
URL:http://www.religiousscifullerton.org/event/rev-bills-birthday-celebration-potluck-lunch/
LOCATION:Center for Spiritual Living Fullerton\, 373 Imperial Hwy\, Fullerton\, CA\, 92835-1040\, United States
CATEGORIES:Church Event,Special Event
END:VEVENT
BEGIN:VEVENT
DTSTART;TZID=America/Los_Angeles:20250803T110000
DTEND;TZID=America/Los_Angeles:20250803T120000
DTSTAMP:20260424T050408
CREATED:20250630T193431Z
LAST-MODIFIED:20250730T174906Z
UID:8822-1754218800-1754222400@www.religiousscifullerton.org
SUMMARY:Sunday Celebration Service
DESCRIPTION:Please join us for our Sunday Celebration! Our Minister\, Rev. Dr. Bill Salisbury\, will be speaking on “Take It and/or Leave It”. Spiritual Reading by Eva Castelo\, RScP. Musical inspiration will be provided by Michael Whitney & Tommy Cosentino. \nRecording posted by 3 pm for home viewing.
URL:http://www.religiousscifullerton.org/event/sunday-celebration-service-11/
LOCATION:Center for Spiritual Living Fullerton\, 373 Imperial Hwy\, Fullerton\, CA\, 92835-1040\, United States
CATEGORIES:LIVE MUSIC,Sunday Service
END:VEVENT
BEGIN:VEVENT
DTSTART;TZID=America/Los_Angeles:20250803T103000
DTEND;TZID=America/Los_Angeles:20250803T105000
DTSTAMP:20260424T050408
CREATED:20250623T204120Z
LAST-MODIFIED:20250623T204120Z
UID:8787-1754217000-1754218200@www.religiousscifullerton.org
SUMMARY:Guided Meditation
DESCRIPTION:Please join us for a healing meditation guided by Tomoko Rosas\, RScP. \nAll welcome!
URL:http://www.religiousscifullerton.org/event/guided-meditation-11/
LOCATION:Center for Spiritual Living Fullerton\, 373 Imperial Hwy\, Fullerton\, CA\, 92835-1040\, United States
CATEGORIES:Guided Meditation
END:VEVENT
BEGIN:VEVENT
DTSTART;TZID=America/Los_Angeles:20250801T100000
DTEND;TZID=America/Los_Angeles:20250801T140000
DTSTAMP:20260424T050408
CREATED:20220404T213902Z
LAST-MODIFIED:20250630T195846Z
UID:5336-1754042400-1754056800@www.religiousscifullerton.org
SUMMARY:Practitioner on Site
DESCRIPTION:Licensed SOM Practitioners are available during office hours to take your prayer requests. If you would like to speak to a Practitioner please call the office at (714) 525-1126 or email us at spiritlives@religiousscifullerton.org. \nTo schedule a Full Practitioner Session please make an appointment by calling a Practitioner directly. Click on PRACTITIONERS on the top menu for contact information.
URL:http://www.religiousscifullerton.org/event/practitioner-on-site-211/
LOCATION:Center for Spiritual Living Fullerton\, 373 Imperial Hwy\, Fullerton\, CA\, 92835-1040\, United States
CATEGORIES:Office Hours
END:VEVENT
BEGIN:VEVENT
DTSTART;TZID=America/Los_Angeles:20250730T130000
DTEND;TZID=America/Los_Angeles:20250730T143000
DTSTAMP:20260424T050408
CREATED:20250630T202705Z
LAST-MODIFIED:20250630T202705Z
UID:8848-1753880400-1753885800@www.religiousscifullerton.org
SUMMARY:"Awakening Spirit" Spiritual Growth Support Group
DESCRIPTION:“Awakening Spirit” Spiritual Growth Support Group \nWherever you are on your Spiritual Path it’s always good to have someone to talk to. If that someone is a Practitioner\, it’s even better! During our office hours\, we’re dedicating one hour each week to anyone who want to come ask questions\, connect with like-minded people\, discuss Spiritual Principles and learn practical ways to apply it in their lives. In a safe and loving group environment – like having tea with friends (bring your favorite tea or coffee with you.) Open to the public. This is a great way to introduce your friends and family to our beautiful philosophy and our church without going to “church”. \nFacilitated by Tomoko Rosas\, RScP \nNo commitment necessary. Come join us when you can. \nCost: FREE – donations gratefully accepted.  \nHighly recommended but not necessary book:\n365 Science of Mind: A Year of Daily Wisdom from Ernest Holmes
URL:http://www.religiousscifullerton.org/event/awakening-spirit-spiritual-growth-support-group-16/
LOCATION:Center for Spiritual Living Fullerton\, 373 Imperial Hwy\, Fullerton\, CA\, 92835-1040\, United States
CATEGORIES:Class,Support Group
END:VEVENT
BEGIN:VEVENT
DTSTART;TZID=America/Los_Angeles:20250730T100000
DTEND;TZID=America/Los_Angeles:20250730T140000
DTSTAMP:20260424T050408
CREATED:20220404T213702Z
LAST-MODIFIED:20250630T195656Z
UID:5332-1753869600-1753884000@www.religiousscifullerton.org
SUMMARY:Practitioner on Site
DESCRIPTION:Licensed SOM Practitioners are available during office hours to take your prayer requests. If you would like to speak to a Practitioner please call the office at (714) 525-1126 or email us at spiritlives@religiousscifullerton.org. \nTo schedule a Full Practitioner Session please make an appointment by calling a Practitioner directly. Click on PRACTITIONERS on the top menu for contact information.
URL:http://www.religiousscifullerton.org/event/practitioner-on-site-209/
LOCATION:Center for Spiritual Living Fullerton\, 373 Imperial Hwy\, Fullerton\, CA\, 92835-1040\, United States
CATEGORIES:Office Hours
END:VEVENT
BEGIN:VEVENT
DTSTART;TZID=America/Los_Angeles:20250728T100000
DTEND;TZID=America/Los_Angeles:20250728T140000
DTSTAMP:20260424T050408
CREATED:20220404T213534Z
LAST-MODIFIED:20250630T195623Z
UID:5328-1753696800-1753711200@www.religiousscifullerton.org
SUMMARY:Practitioner on Site
DESCRIPTION:Licensed SOM Practitioners are available during office hours to take your prayer requests. If you would like to speak to a Practitioner please call the office at (714) 525-1126 or email us at spiritlives@religiousscifullerton.org. \nTo schedule a Full Practitioner Session please make an appointment by calling a Practitioner directly. Click on PRACTITIONERS on the top menu for contact information.
URL:http://www.religiousscifullerton.org/event/practitioner-on-site-207/
LOCATION:Center for Spiritual Living Fullerton\, 373 Imperial Hwy\, Fullerton\, CA\, 92835-1040\, United States
CATEGORIES:Office Hours
END:VEVENT
BEGIN:VEVENT
DTSTART;TZID=America/Los_Angeles:20250727T123000
DTEND;TZID=America/Los_Angeles:20250727T140000
DTSTAMP:20260424T050408
CREATED:20250707T193121Z
LAST-MODIFIED:20250707T193121Z
UID:8866-1753619400-1753624800@www.religiousscifullerton.org
SUMMARY:Summertime Fun! Lunch & Paint with Karon Thomas
DESCRIPTION:Summertime Fun Lunch & Paint with Karon Thomas \nSunday\, July 27th\, after service\, 12:30 to 2:30 pm \nCost: $20.00 (lunch & supplies included) \nPlease join us as we explore our creative side with our resident artist\,\nKaron Thomas! You don’t need to be an artist or any art experience necessary to join. Karon will guide us through every step of the way. Did you know that painting can be a spiritual and meditative practice? After all creativity comes from the Creator right? Come have fun with us as we “FUN”raise for our Center!\nOur subject this Session: Still Life of Quince\, Apples and Pears by Paul Cezanne. Please sign up at the Welcome Table.
URL:http://www.religiousscifullerton.org/event/summertime-fun-lunch-paint-with-karon-thomas-4/
LOCATION:Center for Spiritual Living Fullerton\, 373 Imperial Hwy\, Fullerton\, CA\, 92835-1040\, United States
CATEGORIES:Class,Workshop
END:VEVENT
BEGIN:VEVENT
DTSTART;TZID=America/Los_Angeles:20250727T110000
DTEND;TZID=America/Los_Angeles:20250727T120000
DTSTAMP:20260424T050408
CREATED:20250630T193250Z
LAST-MODIFIED:20250707T191631Z
UID:8820-1753614000-1753617600@www.religiousscifullerton.org
SUMMARY:Sunday Celebration Service
DESCRIPTION:Please join us for our Sunday Celebration! Our Minister\, Rev. Dr. Bill Salisbury\, will be speaking on “It’s Your Call”. Spiritual Reading by Amanda Secola\, RScP. Musical inspiration will be provided by Tommy Cosentino. \nRecording posted by 3 pm for home viewing.
URL:http://www.religiousscifullerton.org/event/sunday-celebration-service-10/
LOCATION:Center for Spiritual Living Fullerton\, 373 Imperial Hwy\, Fullerton\, CA\, 92835-1040\, United States
CATEGORIES:LIVE MUSIC,Sunday Service
END:VEVENT
BEGIN:VEVENT
DTSTART;TZID=America/Los_Angeles:20250727T103000
DTEND;TZID=America/Los_Angeles:20250727T105000
DTSTAMP:20260424T050408
CREATED:20250623T203910Z
LAST-MODIFIED:20250623T203910Z
UID:8785-1753612200-1753613400@www.religiousscifullerton.org
SUMMARY:Guided Meditation
DESCRIPTION:Please join us for a healing meditation guided by Sally Stredler\, RScP. \nAll welcome!
URL:http://www.religiousscifullerton.org/event/guided-meditation-10/
LOCATION:Center for Spiritual Living Fullerton\, 373 Imperial Hwy\, Fullerton\, CA\, 92835-1040\, United States
CATEGORIES:Guided Meditation
END:VEVENT
BEGIN:VEVENT
DTSTART;TZID=America/Los_Angeles:20250725T100000
DTEND;TZID=America/Los_Angeles:20250725T140000
DTSTAMP:20260424T050408
CREATED:20220404T213615Z
LAST-MODIFIED:20250630T195140Z
UID:5330-1753437600-1753452000@www.religiousscifullerton.org
SUMMARY:Practitioner on Site
DESCRIPTION:Licensed SOM Practitioners are available during office hours to take your prayer requests. If you would like to speak to a Practitioner please call the office at (714) 525-1126 or email us at spiritlives@religiousscifullerton.org. \nTo schedule a Full Practitioner Session please make an appointment by calling a Practitioner directly. Click on PRACTITIONERS on the top menu for contact information.
URL:http://www.religiousscifullerton.org/event/practitioner-on-site-208/
LOCATION:Center for Spiritual Living Fullerton\, 373 Imperial Hwy\, Fullerton\, CA\, 92835-1040\, United States
CATEGORIES:Office Hours
END:VEVENT
BEGIN:VEVENT
DTSTART;TZID=America/Los_Angeles:20250723T130000
DTEND;TZID=America/Los_Angeles:20250723T143000
DTSTAMP:20260424T050408
CREATED:20250630T202615Z
LAST-MODIFIED:20250630T203218Z
UID:8846-1753275600-1753281000@www.religiousscifullerton.org
SUMMARY:"Awakening Spirit" Spiritual Growth Support Group
DESCRIPTION:“Awakening Spirit” Spiritual Growth Support Group \nWherever you are on your Spiritual Path it’s always good to have someone to talk to. If that someone is a Practitioner\, it’s even better! During our office hours\, we’re dedicating one hour each week to anyone who want to come ask questions\, connect with like-minded people\, discuss Spiritual Principles and learn practical ways to apply it in their lives. In a safe and loving group environment – like having tea with friends (bring your favorite tea or coffee with you.) Open to the public. This is a great way to introduce your friends and family to our beautiful philosophy and our church without going to “church”. \nFacilitated by Tomoko Rosas\, RScP \nNo commitment necessary. Come join us when you can. \nCost: FREE – donations gratefully accepted.  \nHighly recommended but not necessary book:\n365 Science of Mind: A Year of Daily Wisdom from Ernest Holmes
URL:http://www.religiousscifullerton.org/event/awakening-spirit-spiritual-growth-support-group-15/
LOCATION:Center for Spiritual Living Fullerton\, 373 Imperial Hwy\, Fullerton\, CA\, 92835-1040\, United States
CATEGORIES:Class,Support Group
END:VEVENT
BEGIN:VEVENT
DTSTART;TZID=America/Los_Angeles:20250723T100000
DTEND;TZID=America/Los_Angeles:20250723T140000
DTSTAMP:20260424T050408
CREATED:20220404T213501Z
LAST-MODIFIED:20250630T195114Z
UID:5326-1753264800-1753279200@www.religiousscifullerton.org
SUMMARY:Practitioner on Site
DESCRIPTION:Licensed SOM Practitioners are available during office hours to take your prayer requests. If you would like to speak to a Practitioner please call the office at (714) 525-1126 or email us at spiritlives@religiousscifullerton.org. \nTo schedule a Full Practitioner Session please make an appointment by calling a Practitioner directly. Click on PRACTITIONERS on the top menu for contact information.
URL:http://www.religiousscifullerton.org/event/practitioner-on-site-206/
LOCATION:Center for Spiritual Living Fullerton\, 373 Imperial Hwy\, Fullerton\, CA\, 92835-1040\, United States
CATEGORIES:Office Hours
END:VEVENT
BEGIN:VEVENT
DTSTART;TZID=America/Los_Angeles:20250721T100000
DTEND;TZID=America/Los_Angeles:20250721T140000
DTSTAMP:20260424T050408
CREATED:20220404T195608Z
LAST-MODIFIED:20250630T195040Z
UID:5225-1753092000-1753106400@www.religiousscifullerton.org
SUMMARY:Practitioner on Site
DESCRIPTION:Licensed SOM Practitioners are available during office hours to take your prayer requests. If you would like to speak to a Practitioner please call the office at (714) 525-1126 or email us at spiritlives@religiousscifullerton.org. \nTo schedule a Full Practitioner Session please make an appointment by calling a Practitioner directly. Click on PRACTITIONERS on the top menu for contact information.
URL:http://www.religiousscifullerton.org/event/practitioner-on-site-203/
LOCATION:Center for Spiritual Living Fullerton\, 373 Imperial Hwy\, Fullerton\, CA\, 92835-1040\, United States
CATEGORIES:Office Hours
END:VEVENT
BEGIN:VEVENT
DTSTART;TZID=America/Los_Angeles:20250720T123000
DTEND;TZID=America/Los_Angeles:20250720T140000
DTSTAMP:20260424T050408
CREATED:20220404T205425Z
LAST-MODIFIED:20250630T195933Z
UID:5276-1753014600-1753020000@www.religiousscifullerton.org
SUMMARY:Practitioner Meeting
DESCRIPTION:Practitioner Meeting.
URL:http://www.religiousscifullerton.org/event/practitioner-meeting-7/
LOCATION:Center for Spiritual Living Fullerton\, 373 Imperial Hwy\, Fullerton\, CA\, 92835-1040\, United States
CATEGORIES:Meeting
END:VEVENT
BEGIN:VEVENT
DTSTART;TZID=America/Los_Angeles:20250720T110000
DTEND;TZID=America/Los_Angeles:20250720T120000
DTSTAMP:20260424T050408
CREATED:20250630T193017Z
LAST-MODIFIED:20250707T191530Z
UID:8818-1753009200-1753012800@www.religiousscifullerton.org
SUMMARY:Sunday Celebration Service
DESCRIPTION:Please join us for our Sunday Celebration! Our Minister\, Rev. Dr. Bill Salisbury\, will be speaking on “Bitter or Better”. Spiritual Reading by Carol Riseling\, RScP. Musical inspiration will be provided by Tommy Cosentino. \nRecording posted by 3 pm for home viewing.
URL:http://www.religiousscifullerton.org/event/sunday-celebration-service-9/
LOCATION:Center for Spiritual Living Fullerton\, 373 Imperial Hwy\, Fullerton\, CA\, 92835-1040\, United States
CATEGORIES:LIVE MUSIC,Sunday Service
END:VEVENT
BEGIN:VEVENT
DTSTART;TZID=America/Los_Angeles:20250720T103000
DTEND;TZID=America/Los_Angeles:20250720T105000
DTSTAMP:20260424T050408
CREATED:20250623T203817Z
LAST-MODIFIED:20250623T203817Z
UID:8783-1753007400-1753008600@www.religiousscifullerton.org
SUMMARY:Guided Meditation
DESCRIPTION:Please join us for a healing meditation guided by Beverley Brezden\, RScP. \nAll welcome!
URL:http://www.religiousscifullerton.org/event/guided-meditation-9/
LOCATION:Center for Spiritual Living Fullerton\, 373 Imperial Hwy\, Fullerton\, CA\, 92835-1040\, United States
CATEGORIES:Guided Meditation
END:VEVENT
BEGIN:VEVENT
DTSTART;VALUE=DATE:20250718
DTEND;VALUE=DATE:20250719
DTSTAMP:20260424T050408
CREATED:20250630T194948Z
LAST-MODIFIED:20250630T194948Z
UID:8834-1752796800-1752883199@www.religiousscifullerton.org
SUMMARY:Office Closed
DESCRIPTION:Office Closed
URL:http://www.religiousscifullerton.org/event/office-closed-2/
LOCATION:Center for Spiritual Living Fullerton\, 373 Imperial Hwy\, Fullerton\, CA\, 92835-1040\, United States
CATEGORIES:Office Hours
END:VEVENT
BEGIN:VEVENT
DTSTART;TZID=America/Los_Angeles:20250716T130000
DTEND;TZID=America/Los_Angeles:20250716T143000
DTSTAMP:20260424T050408
CREATED:20250630T202520Z
LAST-MODIFIED:20250630T202533Z
UID:8844-1752670800-1752676200@www.religiousscifullerton.org
SUMMARY:"Awakening Spirit" Spiritual Growth Support Group
DESCRIPTION:“Awakening Spirit” Spiritual Growth Support Group \nWherever you are on your Spiritual Path it’s always good to have someone to talk to. If that someone is a Practitioner\, it’s even better! During our office hours\, we’re dedicating one hour each week to anyone who want to come ask questions\, connect with like-minded people\, discuss Spiritual Principles and learn practical ways to apply it in their lives. In a safe and loving group environment – like having tea with friends (bring your favorite tea or coffee with you.) Open to the public. This is a great way to introduce your friends and family to our beautiful philosophy and our church without going to “church”. \nFacilitated by Tomoko Rosas\, RScP \nNo commitment necessary. Come join us when you can. \nCost: FREE – donations gratefully accepted.  \nHighly recommended but not necessary book:\n365 Science of Mind: A Year of Daily Wisdom from Ernest Holmes
URL:http://www.religiousscifullerton.org/event/awakening-spirit-spiritual-growth-support-group-14/
LOCATION:Center for Spiritual Living Fullerton\, 373 Imperial Hwy\, Fullerton\, CA\, 92835-1040\, United States
CATEGORIES:Class,Support Group
END:VEVENT
BEGIN:VEVENT
DTSTART;TZID=America/Los_Angeles:20250716T100000
DTEND;TZID=America/Los_Angeles:20250716T140000
DTSTAMP:20260424T050408
CREATED:20220404T195503Z
LAST-MODIFIED:20250630T194857Z
UID:5223-1752660000-1752674400@www.religiousscifullerton.org
SUMMARY:Practitioner on Site
DESCRIPTION:Licensed SOM Practitioners are available during office hours to take your prayer requests. If you would like to speak to a Practitioner please call the office at (714) 525-1126 or email us at spiritlives@religiousscifullerton.org. \nTo schedule a Full Practitioner Session please make an appointment by calling a Practitioner directly. Click on PRACTITIONERS on the top menu for contact information.
URL:http://www.religiousscifullerton.org/event/practitioner-on-site-202/
LOCATION:Center for Spiritual Living Fullerton\, 373 Imperial Hwy\, Fullerton\, CA\, 92835-1040\, United States
CATEGORIES:Office Hours
END:VEVENT
BEGIN:VEVENT
DTSTART;TZID=America/Los_Angeles:20250714T100000
DTEND;TZID=America/Los_Angeles:20250714T140000
DTSTAMP:20260424T050408
CREATED:20220404T195340Z
LAST-MODIFIED:20250630T194830Z
UID:5221-1752487200-1752501600@www.religiousscifullerton.org
SUMMARY:Practitioner on Site
DESCRIPTION:Licensed SOM Practitioners are available during office hours to take your prayer requests. If you would like to speak to a Practitioner please call the office at (714) 525-1126 or email us at spiritlives@religiousscifullerton.org. \nTo schedule a Full Practitioner Session please make an appointment by calling a Practitioner directly. Click on PRACTITIONERS on the top menu for contact information.
URL:http://www.religiousscifullerton.org/event/practitioner-on-site-201/
LOCATION:Center for Spiritual Living Fullerton\, 373 Imperial Hwy\, Fullerton\, CA\, 92835-1040\, United States
CATEGORIES:Office Hours
END:VEVENT
BEGIN:VEVENT
DTSTART;TZID=America/Los_Angeles:20250713T110000
DTEND;TZID=America/Los_Angeles:20250713T120000
DTSTAMP:20260424T050408
CREATED:20250630T192854Z
LAST-MODIFIED:20250707T191428Z
UID:8815-1752404400-1752408000@www.religiousscifullerton.org
SUMMARY:Sunday Celebration Service
DESCRIPTION:Please join us for our Sunday Celebration! Our Minister\, Rev. Dr. Bill Salisbury\, will be speaking on “Woulda\, Shoulda\, Coulda”. Spiritual Reading by Dee Noel\, RScP. Musical inspiration will be provided by Debbi Ebert & Tommy Cosentino. \nRecording posted by 3 pm for home viewing.
URL:http://www.religiousscifullerton.org/event/sunday-celebration-service-8/
LOCATION:Center for Spiritual Living Fullerton\, 373 Imperial Hwy\, Fullerton\, CA\, 92835-1040\, United States
CATEGORIES:LIVE MUSIC,Sunday Service
END:VEVENT
BEGIN:VEVENT
DTSTART;TZID=America/Los_Angeles:20250713T103000
DTEND;TZID=America/Los_Angeles:20250713T105000
DTSTAMP:20260424T050408
CREATED:20250623T203705Z
LAST-MODIFIED:20250623T203705Z
UID:8781-1752402600-1752403800@www.religiousscifullerton.org
SUMMARY:Guided Meditation
DESCRIPTION:Please join us for a healing meditation guided by Carol Riseling\, RScP. \nAll welcome!
URL:http://www.religiousscifullerton.org/event/guided-meditation-8/
LOCATION:Center for Spiritual Living Fullerton\, 373 Imperial Hwy\, Fullerton\, CA\, 92835-1040\, United States
CATEGORIES:Guided Meditation
END:VEVENT
END:VCALENDAR