BEGIN:VCALENDAR
VERSION:2.0
PRODID:-//CENTER FOR SPIRITUAL LIVING FULLERTON - ECPv6.15.20//NONSGML v1.0//EN
CALSCALE:GREGORIAN
METHOD:PUBLISH
X-WR-CALNAME:CENTER FOR SPIRITUAL LIVING FULLERTON
X-ORIGINAL-URL:http://www.religiousscifullerton.org
X-WR-CALDESC:Events for CENTER FOR SPIRITUAL LIVING FULLERTON
REFRESH-INTERVAL;VALUE=DURATION:PT1H
X-Robots-Tag:noindex
X-PUBLISHED-TTL:PT1H
BEGIN:VTIMEZONE
TZID:America/Los_Angeles
BEGIN:DAYLIGHT
TZOFFSETFROM:-0800
TZOFFSETTO:-0700
TZNAME:PDT
DTSTART:20240310T100000
END:DAYLIGHT
BEGIN:STANDARD
TZOFFSETFROM:-0700
TZOFFSETTO:-0800
TZNAME:PST
DTSTART:20241103T090000
END:STANDARD
BEGIN:DAYLIGHT
TZOFFSETFROM:-0800
TZOFFSETTO:-0700
TZNAME:PDT
DTSTART:20250309T100000
END:DAYLIGHT
BEGIN:STANDARD
TZOFFSETFROM:-0700
TZOFFSETTO:-0800
TZNAME:PST
DTSTART:20251102T090000
END:STANDARD
BEGIN:DAYLIGHT
TZOFFSETFROM:-0800
TZOFFSETTO:-0700
TZNAME:PDT
DTSTART:20260308T100000
END:DAYLIGHT
BEGIN:STANDARD
TZOFFSETFROM:-0700
TZOFFSETTO:-0800
TZNAME:PST
DTSTART:20261101T090000
END:STANDARD
BEGIN:DAYLIGHT
TZOFFSETFROM:-0800
TZOFFSETTO:-0700
TZNAME:PDT
DTSTART:20270314T100000
END:DAYLIGHT
BEGIN:STANDARD
TZOFFSETFROM:-0700
TZOFFSETTO:-0800
TZNAME:PST
DTSTART:20271107T090000
END:STANDARD
END:VTIMEZONE
BEGIN:VEVENT
DTSTART;TZID=America/Los_Angeles:20260125T123000
DTEND;TZID=America/Los_Angeles:20260125T140000
DTSTAMP:20260423T153523
CREATED:20251215T192026Z
LAST-MODIFIED:20251215T192026Z
UID:9158-1769344200-1769349600@www.religiousscifullerton.org
SUMMARY:Annual Membership Meeting & Potluck
DESCRIPTION:Annual Membership Meeting for 2026 \nThis is a business meeting for the Voting Members of our Center. \nContact us if you need to verify your Membership status by calling the office.
URL:http://www.religiousscifullerton.org/event/annual-membership-meeting-potluck/
LOCATION:Center for Spiritual Living Fullerton\, 373 Imperial Hwy\, Fullerton\, CA\, 92835-1040\, United States
CATEGORIES:Church Event,Meeting
END:VEVENT
BEGIN:VEVENT
DTSTART;TZID=America/Los_Angeles:20260125T110000
DTEND;TZID=America/Los_Angeles:20260125T120000
DTSTAMP:20260423T153523
CREATED:20251215T185954Z
LAST-MODIFIED:20251231T193207Z
UID:9151-1769338800-1769342400@www.religiousscifullerton.org
SUMMARY:Sunday Celebration Service
DESCRIPTION:Please join us for our Sunday Celebration! Rev. Dr. Bill Salisbury is speaking on “What’s That Vibration?” Spiritual Reading by Sally Stredler\, RScP and musical inspiration provided by Tommy Cosentino. \nThe recording will be posted by 3 pm for home viewing.
URL:http://www.religiousscifullerton.org/event/sunday-celebration-service-32/
LOCATION:Center for Spiritual Living Fullerton\, 373 Imperial Hwy\, Fullerton\, CA\, 92835-1040\, United States
CATEGORIES:LIVE MUSIC,Sunday Service
END:VEVENT
BEGIN:VEVENT
DTSTART;TZID=America/Los_Angeles:20260125T103000
DTEND;TZID=America/Los_Angeles:20260125T105000
DTSTAMP:20260423T153523
CREATED:20251215T185325Z
LAST-MODIFIED:20251215T185325Z
UID:9142-1769337000-1769338200@www.religiousscifullerton.org
SUMMARY:Guided Meditation
DESCRIPTION:Please join us for a healing meditation guided by Beverley Brezden\, RScP. \nAll welcome!
URL:http://www.religiousscifullerton.org/event/guided-meditation-19/
LOCATION:Center for Spiritual Living Fullerton\, 373 Imperial Hwy\, Fullerton\, CA\, 92835-1040\, United States
CATEGORIES:Guided Meditation
END:VEVENT
BEGIN:VEVENT
DTSTART;TZID=America/Los_Angeles:20260123T100000
DTEND;TZID=America/Los_Angeles:20260123T140000
DTSTAMP:20260423T153523
CREATED:20240415T184817Z
LAST-MODIFIED:20251215T191603Z
UID:7625-1769162400-1769176800@www.religiousscifullerton.org
SUMMARY:Practitioner on site
DESCRIPTION:Licensed SOM Practitioners are available during office hours to take your prayer requests. If you would like to speak to a Practitioner please call the office at (714) 525-1126 or email us at spiritlives@religiousscifullerton.org. \nTo schedule a Full Practitioner Session please make an appointment by calling a Practitioner directly. Click on PRACTITIONERS on the top menu for contact information.
URL:http://www.religiousscifullerton.org/event/practitioner-on-site-496/
LOCATION:Center for Spiritual Living Fullerton\, 373 Imperial Hwy\, Fullerton\, CA\, 92835-1040\, United States
CATEGORIES:Office Hours
END:VEVENT
BEGIN:VEVENT
DTSTART;TZID=America/Los_Angeles:20260121T130000
DTEND;TZID=America/Los_Angeles:20260121T143000
DTSTAMP:20260423T153523
CREATED:20251103T202214Z
LAST-MODIFIED:20251103T202214Z
UID:9079-1769000400-1769005800@www.religiousscifullerton.org
SUMMARY:"Awakening Spirit" Spiritual Growth Support Group
DESCRIPTION:“Awakening Spirit” Spiritual Growth Support Group \nWherever you are on your Spiritual Path it’s always good to have someone to talk to. If that someone is a Practitioner\, it’s even better! During our office hours\, we’re dedicating one hour each week to anyone who wants to come ask questions\, connect with like-minded people\, discuss Spiritual Principles and learn practical ways to apply it in their lives. In a safe and loving group environment – like having tea with friends (bring your favorite tea or coffee with you.) Open to the public. This is a great way to introduce your friends and family to our beautiful philosophy and our church without going to “church”. \nFacilitated by Tomoko Hanamure Rosas\, RScP \nNo commitment necessary. Come join us when you can. \nCost: FREE – donations gratefully accepted.  \nHighly recommended but not necessary book:\n365 Science of Mind: A Year of Daily Wisdom from Ernest Holmes
URL:http://www.religiousscifullerton.org/event/awakening-spirit-spiritual-growth-support-group-38/
LOCATION:Center for Spiritual Living Fullerton\, 373 Imperial Hwy\, Fullerton\, CA\, 92835-1040\, United States
CATEGORIES:Support Group
END:VEVENT
BEGIN:VEVENT
DTSTART;TZID=America/Los_Angeles:20260121T100000
DTEND;TZID=America/Los_Angeles:20260121T140000
DTSTAMP:20260423T153523
CREATED:20240415T184738Z
LAST-MODIFIED:20251215T191315Z
UID:7623-1768989600-1769004000@www.religiousscifullerton.org
SUMMARY:Practitioner on site
DESCRIPTION:Licensed SOM Practitioners are available during office hours to take your prayer requests. If you would like to speak to a Practitioner please call the office at (714) 525-1126 or email us at spiritlives@religiousscifullerton.org. \nTo schedule a Full Practitioner Session please make an appointment by calling a Practitioner directly. Click on PRACTITIONERS on the top menu for contact information.
URL:http://www.religiousscifullerton.org/event/practitioner-on-site-495/
LOCATION:Center for Spiritual Living Fullerton\, 373 Imperial Hwy\, Fullerton\, CA\, 92835-1040\, United States
CATEGORIES:Office Hours
END:VEVENT
BEGIN:VEVENT
DTSTART;VALUE=DATE:20260119
DTEND;VALUE=DATE:20260120
DTSTAMP:20260423T153523
CREATED:20251215T191407Z
LAST-MODIFIED:20251215T191407Z
UID:9155-1768780800-1768867199@www.religiousscifullerton.org
SUMMARY:Office closed in observance of Martin Luther King Jr. Day
DESCRIPTION:Office closed in observance of Martin Luther King Jr. Day
URL:http://www.religiousscifullerton.org/event/office-closed-in-observance-of-martin-luther-king-jr-day/
LOCATION:Center for Spiritual Living Fullerton\, 373 Imperial Hwy\, Fullerton\, CA\, 92835-1040\, United States
CATEGORIES:Office Hours
END:VEVENT
BEGIN:VEVENT
DTSTART;TZID=America/Los_Angeles:20260118T110000
DTEND;TZID=America/Los_Angeles:20260118T120000
DTSTAMP:20260423T153523
CREATED:20251215T185817Z
LAST-MODIFIED:20251231T193308Z
UID:9149-1768734000-1768737600@www.religiousscifullerton.org
SUMMARY:Sunday Celebration Service
DESCRIPTION:Please join us for our Sunday Celebration! Rev. Dr. Bill Salisbury is speaking on “The Ultimate Success.” Spiritual Reading by Beverley Brezden\, RScP and musical inspiration provided by Tommy Cosentino. \nThe recording will be posted by 3 pm for home viewing.
URL:http://www.religiousscifullerton.org/event/sunday-celebration-service-31/
LOCATION:Center for Spiritual Living Fullerton\, 373 Imperial Hwy\, Fullerton\, CA\, 92835-1040\, United States
CATEGORIES:LIVE MUSIC,Sunday Service
END:VEVENT
BEGIN:VEVENT
DTSTART;TZID=America/Los_Angeles:20260118T103000
DTEND;TZID=America/Los_Angeles:20260118T105000
DTSTAMP:20260423T153523
CREATED:20251215T185206Z
LAST-MODIFIED:20251215T185404Z
UID:9140-1768732200-1768733400@www.religiousscifullerton.org
SUMMARY:Guided Mediatation
DESCRIPTION:Please join us for a healing meditation guided by Sally Stredler\, RScP. \nAll welcome!
URL:http://www.religiousscifullerton.org/event/guided-mediatation/
LOCATION:Center for Spiritual Living Fullerton\, 373 Imperial Hwy\, Fullerton\, CA\, 92835-1040\, United States
CATEGORIES:Guided Meditation
END:VEVENT
BEGIN:VEVENT
DTSTART;TZID=America/Los_Angeles:20260116T100000
DTEND;TZID=America/Los_Angeles:20260116T140000
DTSTAMP:20260423T153523
CREATED:20240327T193943Z
LAST-MODIFIED:20251215T191221Z
UID:7575-1768557600-1768572000@www.religiousscifullerton.org
SUMMARY:Practitioner on site
DESCRIPTION:Licensed SOM Practitioners are available during office hours to take your prayer requests. If you would like to speak to a Practitioner please call the office at (714) 525-1126 or email us at spiritlives@religiousscifullerton.org. \nTo schedule a Full Practitioner Session please make an appointment by calling a Practitioner directly. Click on PRACTITIONERS on the top menu for contact information.
URL:http://www.religiousscifullerton.org/event/practitioner-on-site-494/
LOCATION:Center for Spiritual Living Fullerton\, 373 Imperial Hwy\, Fullerton\, CA\, 92835-1040\, United States
CATEGORIES:Office Hours
END:VEVENT
BEGIN:VEVENT
DTSTART;TZID=America/Los_Angeles:20260114T130000
DTEND;TZID=America/Los_Angeles:20260114T143000
DTSTAMP:20260423T153523
CREATED:20251103T202101Z
LAST-MODIFIED:20251103T202101Z
UID:9077-1768395600-1768401000@www.religiousscifullerton.org
SUMMARY:"Awakening Spirit" Spiritual Growth Support Group
DESCRIPTION:“Awakening Spirit” Spiritual Growth Support Group \nWherever you are on your Spiritual Path it’s always good to have someone to talk to. If that someone is a Practitioner\, it’s even better! During our office hours\, we’re dedicating one hour each week to anyone who wants to come ask questions\, connect with like-minded people\, discuss Spiritual Principles and learn practical ways to apply it in their lives. In a safe and loving group environment – like having tea with friends (bring your favorite tea or coffee with you.) Open to the public. This is a great way to introduce your friends and family to our beautiful philosophy and our church without going to “church”. \nFacilitated by Tomoko Hanamure Rosas\, RScP \nNo commitment necessary. Come join us when you can. \nCost: FREE – donations gratefully accepted.  \nHighly recommended but not necessary book:\n365 Science of Mind: A Year of Daily Wisdom from Ernest Holmes
URL:http://www.religiousscifullerton.org/event/awakening-spirit-spiritual-growth-support-group-37/
LOCATION:Center for Spiritual Living Fullerton\, 373 Imperial Hwy\, Fullerton\, CA\, 92835-1040\, United States
CATEGORIES:Support Group
END:VEVENT
BEGIN:VEVENT
DTSTART;TZID=America/Los_Angeles:20260114T100000
DTEND;TZID=America/Los_Angeles:20260114T140000
DTSTAMP:20260423T153523
CREATED:20240327T193907Z
LAST-MODIFIED:20251215T191145Z
UID:7573-1768384800-1768399200@www.religiousscifullerton.org
SUMMARY:Practitioner on site
DESCRIPTION:Licensed SOM Practitioners are available during office hours to take your prayer requests. If you would like to speak to a Practitioner please call the office at (714) 525-1126 or email us at spiritlives@religiousscifullerton.org. \nTo schedule a Full Practitioner Session please make an appointment by calling a Practitioner directly. Click on PRACTITIONERS on the top menu for contact information.
URL:http://www.religiousscifullerton.org/event/practitioner-on-site-493/
LOCATION:Center for Spiritual Living Fullerton\, 373 Imperial Hwy\, Fullerton\, CA\, 92835-1040\, United States
CATEGORIES:Office Hours
END:VEVENT
BEGIN:VEVENT
DTSTART;TZID=America/Los_Angeles:20260112T100000
DTEND;TZID=America/Los_Angeles:20260112T140000
DTSTAMP:20260423T153523
CREATED:20240327T193826Z
LAST-MODIFIED:20251215T191055Z
UID:7571-1768212000-1768226400@www.religiousscifullerton.org
SUMMARY:Practitioner on site
DESCRIPTION:Licensed SOM Practitioners are available during office hours to take your prayer requests. If you would like to speak to a Practitioner please call the office at (714) 525-1126 or email us at spiritlives@religiousscifullerton.org. \nTo schedule a Full Practitioner Session please make an appointment by calling a Practitioner directly. Click on PRACTITIONERS on the top menu for contact information.
URL:http://www.religiousscifullerton.org/event/practitioner-on-site-492/
LOCATION:Center for Spiritual Living Fullerton\, 373 Imperial Hwy\, Fullerton\, CA\, 92835-1040\, United States
CATEGORIES:Office Hours
END:VEVENT
BEGIN:VEVENT
DTSTART;TZID=America/Los_Angeles:20260111T123000
DTEND;TZID=America/Los_Angeles:20260111T140000
DTSTAMP:20260423T153523
CREATED:20251215T190045Z
LAST-MODIFIED:20251215T190136Z
UID:9153-1768134600-1768140000@www.religiousscifullerton.org
SUMMARY:Board Meeting
DESCRIPTION:Monthly Board of Trustees Meeting
URL:http://www.religiousscifullerton.org/event/board-meeting-4/
LOCATION:Center for Spiritual Living Fullerton\, 373 Imperial Hwy\, Fullerton\, CA\, 92835-1040\, United States
CATEGORIES:Meeting
END:VEVENT
BEGIN:VEVENT
DTSTART;TZID=America/Los_Angeles:20260111T110000
DTEND;TZID=America/Los_Angeles:20260111T120000
DTSTAMP:20260423T153523
CREATED:20251215T185707Z
LAST-MODIFIED:20251231T193406Z
UID:9147-1768129200-1768132800@www.religiousscifullerton.org
SUMMARY:Sunday Celebration Service
DESCRIPTION:Please join us for our Sunday Celebration! Rev. Dr. Bill Salisbury is speaking on “Getting Around To It.” Spiritual Reading by Amanda Secola\, RScP and musical inspiration provided by Debbi Ebert & Tommy Cosentino. \nThe recording will be posted by 3 pm for home viewing.
URL:http://www.religiousscifullerton.org/event/sunday-celebration-service-30/
LOCATION:Center for Spiritual Living Fullerton\, 373 Imperial Hwy\, Fullerton\, CA\, 92835-1040\, United States
CATEGORIES:LIVE MUSIC,Sunday Service
END:VEVENT
BEGIN:VEVENT
DTSTART;TZID=America/Los_Angeles:20260111T103000
DTEND;TZID=America/Los_Angeles:20260111T105000
DTSTAMP:20260423T153523
CREATED:20251215T185059Z
LAST-MODIFIED:20251215T185059Z
UID:9138-1768127400-1768128600@www.religiousscifullerton.org
SUMMARY:Guided Meditation
DESCRIPTION:Please join us for a healing meditation guided by Carol Riseling\, RScP. \nAll welcome!
URL:http://www.religiousscifullerton.org/event/guided-meditation-18/
LOCATION:Center for Spiritual Living Fullerton\, 373 Imperial Hwy\, Fullerton\, CA\, 92835-1040\, United States
CATEGORIES:Guided Meditation
END:VEVENT
BEGIN:VEVENT
DTSTART;TZID=America/Los_Angeles:20260109T100000
DTEND;TZID=America/Los_Angeles:20260109T140000
DTSTAMP:20260423T153523
CREATED:20251103T200919Z
LAST-MODIFIED:20251103T200919Z
UID:9061-1767952800-1767967200@www.religiousscifullerton.org
SUMMARY:Practitioner on site
DESCRIPTION:Licensed SOM Practitioners are available during office hours to take your prayer requests. If you would like to speak to a Practitioner please call the office at (714) 525-1126 or email us at spiritlives@religiousscifullerton.org. \nTo schedule a full practitioner session\, please make an appointment by calling a Practitioner directly. Click on PRACTITIONERS on the top menu for contact information.
URL:http://www.religiousscifullerton.org/event/practitioner-on-site-13/
LOCATION:Center for Spiritual Living Fullerton\, 373 Imperial Hwy\, Fullerton\, CA\, 92835-1040\, United States
CATEGORIES:Office Hours
END:VEVENT
BEGIN:VEVENT
DTSTART;TZID=America/Los_Angeles:20260107T130000
DTEND;TZID=America/Los_Angeles:20260107T143000
DTSTAMP:20260423T153523
CREATED:20251103T201955Z
LAST-MODIFIED:20251103T201955Z
UID:9075-1767790800-1767796200@www.religiousscifullerton.org
SUMMARY:"Awakening Spirit" Spiritual Growth Support Group
DESCRIPTION:“Awakening Spirit” Spiritual Growth Support Group \nWherever you are on your Spiritual Path it’s always good to have someone to talk to. If that someone is a Practitioner\, it’s even better! During our office hours\, we’re dedicating one hour each week to anyone who wants to come ask questions\, connect with like-minded people\, discuss Spiritual Principles and learn practical ways to apply it in their lives. In a safe and loving group environment – like having tea with friends (bring your favorite tea or coffee with you.) Open to the public. This is a great way to introduce your friends and family to our beautiful philosophy and our church without going to “church”. \nFacilitated by Tomoko Hanamure Rosas\, RScP \nNo commitment necessary. Come join us when you can. \nCost: FREE – donations gratefully accepted.  \nHighly recommended but not necessary book:\n365 Science of Mind: A Year of Daily Wisdom from Ernest Holmes
URL:http://www.religiousscifullerton.org/event/awakening-spirit-spiritual-growth-support-group-36/
LOCATION:Center for Spiritual Living Fullerton\, 373 Imperial Hwy\, Fullerton\, CA\, 92835-1040\, United States
CATEGORIES:Support Group
END:VEVENT
BEGIN:VEVENT
DTSTART;TZID=America/Los_Angeles:20260107T100000
DTEND;TZID=America/Los_Angeles:20260107T140000
DTSTAMP:20260423T153523
CREATED:20251103T200840Z
LAST-MODIFIED:20251103T200840Z
UID:9059-1767780000-1767794400@www.religiousscifullerton.org
SUMMARY:Practitioner on site
DESCRIPTION:Licensed SOM Practitioners are available during office hours to take your prayer requests. If you would like to speak to a Practitioner please call the office at (714) 525-1126 or email us at spiritlives@religiousscifullerton.org. \nTo schedule a full practitioner session\, please make an appointment by calling a Practitioner directly. Click on PRACTITIONERS on the top menu for contact information.
URL:http://www.religiousscifullerton.org/event/practitioner-on-site-12/
LOCATION:Center for Spiritual Living Fullerton\, 373 Imperial Hwy\, Fullerton\, CA\, 92835-1040\, United States
CATEGORIES:Office Hours
END:VEVENT
BEGIN:VEVENT
DTSTART;TZID=America/Los_Angeles:20260105T100000
DTEND;TZID=America/Los_Angeles:20260105T140000
DTSTAMP:20260423T153523
CREATED:20251103T200759Z
LAST-MODIFIED:20251103T200759Z
UID:9057-1767607200-1767621600@www.religiousscifullerton.org
SUMMARY:Practitioner on site
DESCRIPTION:Licensed SOM Practitioners are available during office hours to take your prayer requests. If you would like to speak to a Practitioner please call the office at (714) 525-1126 or email us at spiritlives@religiousscifullerton.org. \nTo schedule a full practitioner session\, please make an appointment by calling a Practitioner directly. Click on PRACTITIONERS on the top menu for contact information.
URL:http://www.religiousscifullerton.org/event/practitioner-on-site-11/
LOCATION:Center for Spiritual Living Fullerton\, 373 Imperial Hwy\, Fullerton\, CA\, 92835-1040\, United States
CATEGORIES:Office Hours
END:VEVENT
BEGIN:VEVENT
DTSTART;TZID=America/Los_Angeles:20260104T110000
DTEND;TZID=America/Los_Angeles:20260104T120000
DTSTAMP:20260423T153523
CREATED:20251215T185550Z
LAST-MODIFIED:20251231T193440Z
UID:9145-1767524400-1767528000@www.religiousscifullerton.org
SUMMARY:Sunday Celebration Service
DESCRIPTION:Please join us for our Sunday Celebration! Rev. Dr. Bill Salisbury is speaking on “Christmas Consciousness\, Continued.” Spiritual Reading by Carol Riseling\, RScP and musical inspiration provided by Tommy Cosentino. \nThe recording will be posted by 3 pm for home viewing.
URL:http://www.religiousscifullerton.org/event/sunday-celebration-service-29/
LOCATION:Center for Spiritual Living Fullerton\, 373 Imperial Hwy\, Fullerton\, CA\, 92835-1040\, United States
CATEGORIES:LIVE MUSIC,Sunday Service
END:VEVENT
BEGIN:VEVENT
DTSTART;TZID=America/Los_Angeles:20260104T103000
DTEND;TZID=America/Los_Angeles:20260104T105000
DTSTAMP:20260423T153523
CREATED:20251215T184955Z
LAST-MODIFIED:20251215T184955Z
UID:9136-1767522600-1767523800@www.religiousscifullerton.org
SUMMARY:Guided Meditation
DESCRIPTION:Please join us for a healing meditation guided by Tomoko Hanamure Rosas\, RScP. \nAll welcome!
URL:http://www.religiousscifullerton.org/event/guided-meditation-17/
LOCATION:Center for Spiritual Living Fullerton\, 373 Imperial Hwy\, Fullerton\, CA\, 92835-1040\, United States
CATEGORIES:Guided Meditation
END:VEVENT
BEGIN:VEVENT
DTSTART;VALUE=DATE:20260102
DTEND;VALUE=DATE:20260103
DTSTAMP:20260423T153523
CREATED:20251103T201402Z
LAST-MODIFIED:20251103T201402Z
UID:9071-1767312000-1767398399@www.religiousscifullerton.org
SUMMARY:Office closed
DESCRIPTION:Office closed
URL:http://www.religiousscifullerton.org/event/office-closed-6/
LOCATION:Center for Spiritual Living Fullerton\, 373 Imperial Hwy\, Fullerton\, CA\, 92835-1040\, United States
CATEGORIES:Office Hours
END:VEVENT
BEGIN:VEVENT
DTSTART;VALUE=DATE:20260101
DTEND;VALUE=DATE:20260102
DTSTAMP:20260423T153523
CREATED:20251103T201446Z
LAST-MODIFIED:20251103T201446Z
UID:9073-1767225600-1767311999@www.religiousscifullerton.org
SUMMARY:Happy New Year 2026!
DESCRIPTION:Happy New Year 2026!
URL:http://www.religiousscifullerton.org/event/happy-new-year-2026/
LOCATION:Center for Spiritual Living Fullerton\, 373 Imperial Hwy\, Fullerton\, CA\, 92835-1040\, United States
CATEGORIES:Office Hours
END:VEVENT
BEGIN:VEVENT
DTSTART;VALUE=DATE:20251231
DTEND;VALUE=DATE:20260101
DTSTAMP:20260423T153523
CREATED:20251103T201258Z
LAST-MODIFIED:20251103T201258Z
UID:9069-1767139200-1767225599@www.religiousscifullerton.org
SUMMARY:Office closed
DESCRIPTION:Office closed
URL:http://www.religiousscifullerton.org/event/office-closed-5/
LOCATION:Center for Spiritual Living Fullerton\, 373 Imperial Hwy\, Fullerton\, CA\, 92835-1040\, United States
CATEGORIES:Office Hours
END:VEVENT
BEGIN:VEVENT
DTSTART;VALUE=DATE:20251229
DTEND;VALUE=DATE:20251230
DTSTAMP:20260423T153523
CREATED:20251103T201216Z
LAST-MODIFIED:20251103T201216Z
UID:9067-1766966400-1767052799@www.religiousscifullerton.org
SUMMARY:Office closed
DESCRIPTION:Office closed
URL:http://www.religiousscifullerton.org/event/office-closed-4/
LOCATION:Center for Spiritual Living Fullerton\, 373 Imperial Hwy\, Fullerton\, CA\, 92835-1040\, United States
CATEGORIES:Office Hours
END:VEVENT
BEGIN:VEVENT
DTSTART;TZID=America/Los_Angeles:20251228T110000
DTEND;TZID=America/Los_Angeles:20251228T120000
DTSTAMP:20260423T153523
CREATED:20251110T202207Z
LAST-MODIFIED:20251215T184415Z
UID:9091-1766919600-1766923200@www.religiousscifullerton.org
SUMMARY:Sunday Celebration Service
DESCRIPTION:Please join us for our Sunday Celebration! Rev. Dr. Bill Salisbury is speaking on “The Ultimate Consciousness.” Spiritual Reading by Dee Noel\, RScP and musical inspiration provided by Tommy Cosentino. \nThe recording will be posted by 3 pm for home viewing.
URL:http://www.religiousscifullerton.org/event/sunday-celebration-service-28/
LOCATION:Center for Spiritual Living Fullerton\, 373 Imperial Hwy\, Fullerton\, CA\, 92835-1040\, United States
CATEGORIES:LIVE MUSIC,Sunday Service
END:VEVENT
BEGIN:VEVENT
DTSTART;TZID=America/Los_Angeles:20251228T103000
DTEND;TZID=America/Los_Angeles:20251228T105000
DTSTAMP:20260423T153523
CREATED:20230522T195519Z
LAST-MODIFIED:20250929T222605Z
UID:6686-1766917800-1766919000@www.religiousscifullerton.org
SUMMARY:Guided Meditation
DESCRIPTION:Please join us for a healing meditation guided by Sally Stredler\, RScP. \nAll welcome!
URL:http://www.religiousscifullerton.org/event/guided-meditation-260/
LOCATION:Center for Spiritual Living Fullerton\, 373 Imperial Hwy\, Fullerton\, CA\, 92835-1040\, United States
CATEGORIES:Guided Meditation
END:VEVENT
BEGIN:VEVENT
DTSTART;VALUE=DATE:20251226
DTEND;VALUE=DATE:20251227
DTSTAMP:20260423T153523
CREATED:20251103T201139Z
LAST-MODIFIED:20251103T201139Z
UID:9065-1766707200-1766793599@www.religiousscifullerton.org
SUMMARY:Office closed
DESCRIPTION:Office closed
URL:http://www.religiousscifullerton.org/event/office-closed-3/
LOCATION:Center for Spiritual Living Fullerton\, 373 Imperial Hwy\, Fullerton\, CA\, 92835-1040\, United States
CATEGORIES:Office Hours
END:VEVENT
BEGIN:VEVENT
DTSTART;VALUE=DATE:20251225
DTEND;VALUE=DATE:20251226
DTSTAMP:20260423T153523
CREATED:20251103T195443Z
LAST-MODIFIED:20251103T195443Z
UID:9033-1766620800-1766707199@www.religiousscifullerton.org
SUMMARY:Merry Christmas!
DESCRIPTION:Merry Christmas!
URL:http://www.religiousscifullerton.org/event/merry-christmas/
LOCATION:CA
END:VEVENT
END:VCALENDAR