BEGIN:VCALENDAR
VERSION:2.0
PRODID:-//CENTER FOR SPIRITUAL LIVING FULLERTON - ECPv6.15.20//NONSGML v1.0//EN
CALSCALE:GREGORIAN
METHOD:PUBLISH
X-ORIGINAL-URL:http://www.religiousscifullerton.org
X-WR-CALDESC:Events for CENTER FOR SPIRITUAL LIVING FULLERTON
REFRESH-INTERVAL;VALUE=DURATION:PT1H
X-Robots-Tag:noindex
X-PUBLISHED-TTL:PT1H
BEGIN:VTIMEZONE
TZID:America/Los_Angeles
BEGIN:DAYLIGHT
TZOFFSETFROM:-0800
TZOFFSETTO:-0700
TZNAME:PDT
DTSTART:20230312T100000
END:DAYLIGHT
BEGIN:STANDARD
TZOFFSETFROM:-0700
TZOFFSETTO:-0800
TZNAME:PST
DTSTART:20231105T090000
END:STANDARD
BEGIN:DAYLIGHT
TZOFFSETFROM:-0800
TZOFFSETTO:-0700
TZNAME:PDT
DTSTART:20240310T100000
END:DAYLIGHT
BEGIN:STANDARD
TZOFFSETFROM:-0700
TZOFFSETTO:-0800
TZNAME:PST
DTSTART:20241103T090000
END:STANDARD
BEGIN:DAYLIGHT
TZOFFSETFROM:-0800
TZOFFSETTO:-0700
TZNAME:PDT
DTSTART:20250309T100000
END:DAYLIGHT
BEGIN:STANDARD
TZOFFSETFROM:-0700
TZOFFSETTO:-0800
TZNAME:PST
DTSTART:20251102T090000
END:STANDARD
END:VTIMEZONE
BEGIN:VEVENT
DTSTART;TZID=America/Los_Angeles:20241103T123000
DTEND;TZID=America/Los_Angeles:20241103T140000
DTSTAMP:20260423T153438
CREATED:20241021T211922Z
LAST-MODIFIED:20241021T211922Z
UID:8204-1730637000-1730642400@www.religiousscifullerton.org
SUMMARY:Board Meeting
DESCRIPTION:Monthly Board Meeting
URL:http://www.religiousscifullerton.org/event/board-meeting-24/
LOCATION:Center for Spiritual Living Fullerton\, 373 Imperial Hwy\, Fullerton\, CA\, 92835-1040\, United States
CATEGORIES:Meeting
END:VEVENT
BEGIN:VEVENT
DTSTART;TZID=America/Los_Angeles:20241006T123000
DTEND;TZID=America/Los_Angeles:20241006T140000
DTSTAMP:20260423T153438
CREATED:20240918T193854Z
LAST-MODIFIED:20240918T193854Z
UID:8076-1728217800-1728223200@www.religiousscifullerton.org
SUMMARY:Board Meeting
DESCRIPTION:Board Meeting\, after service
URL:http://www.religiousscifullerton.org/event/board-meeting-10/
LOCATION:Center for Spiritual Living Fullerton\, 373 Imperial Hwy\, Fullerton\, CA\, 92835-1040\, United States
CATEGORIES:Meeting
END:VEVENT
BEGIN:VEVENT
DTSTART;TZID=America/Los_Angeles:20240929T123000
DTEND;TZID=America/Los_Angeles:20240929T140000
DTSTAMP:20260423T153438
CREATED:20240918T195515Z
LAST-MODIFIED:20240918T195515Z
UID:8107-1727613000-1727618400@www.religiousscifullerton.org
SUMMARY:Practitioner Meeting
DESCRIPTION:Practitioner Meeting\, after service
URL:http://www.religiousscifullerton.org/event/practitioner-meeting-18/
LOCATION:Center for Spiritual Living Fullerton\, 373 Imperial Hwy\, Fullerton\, CA\, 92835-1040\, United States
CATEGORIES:Meeting
END:VEVENT
BEGIN:VEVENT
DTSTART;TZID=America/Los_Angeles:20240901T123000
DTEND;TZID=America/Los_Angeles:20240901T140000
DTSTAMP:20260423T153438
CREATED:20240828T193533Z
LAST-MODIFIED:20240828T193533Z
UID:7990-1725193800-1725199200@www.religiousscifullerton.org
SUMMARY:Board Meeting
DESCRIPTION:Board Meeting\, after service
URL:http://www.religiousscifullerton.org/event/board-meeting-9/
LOCATION:Center for Spiritual Living Fullerton\, 373 Imperial Hwy\, Fullerton\, CA\, 92835-1040\, United States
CATEGORIES:Meeting
END:VEVENT
END:VCALENDAR