BEGIN:VCALENDAR
VERSION:2.0
PRODID:-//CENTER FOR SPIRITUAL LIVING FULLERTON - ECPv6.15.20//NONSGML v1.0//EN
CALSCALE:GREGORIAN
METHOD:PUBLISH
X-ORIGINAL-URL:http://www.religiousscifullerton.org
X-WR-CALDESC:Events for CENTER FOR SPIRITUAL LIVING FULLERTON
REFRESH-INTERVAL;VALUE=DURATION:PT1H
X-Robots-Tag:noindex
X-PUBLISHED-TTL:PT1H
BEGIN:VTIMEZONE
TZID:America/Los_Angeles
BEGIN:DAYLIGHT
TZOFFSETFROM:-0800
TZOFFSETTO:-0700
TZNAME:PDT
DTSTART:20240310T100000
END:DAYLIGHT
BEGIN:STANDARD
TZOFFSETFROM:-0700
TZOFFSETTO:-0800
TZNAME:PST
DTSTART:20241103T090000
END:STANDARD
BEGIN:DAYLIGHT
TZOFFSETFROM:-0800
TZOFFSETTO:-0700
TZNAME:PDT
DTSTART:20250309T100000
END:DAYLIGHT
BEGIN:STANDARD
TZOFFSETFROM:-0700
TZOFFSETTO:-0800
TZNAME:PST
DTSTART:20251102T090000
END:STANDARD
BEGIN:DAYLIGHT
TZOFFSETFROM:-0800
TZOFFSETTO:-0700
TZNAME:PDT
DTSTART:20260308T100000
END:DAYLIGHT
BEGIN:STANDARD
TZOFFSETFROM:-0700
TZOFFSETTO:-0800
TZNAME:PST
DTSTART:20261101T090000
END:STANDARD
BEGIN:DAYLIGHT
TZOFFSETFROM:-0800
TZOFFSETTO:-0700
TZNAME:PDT
DTSTART:20270314T100000
END:DAYLIGHT
BEGIN:STANDARD
TZOFFSETFROM:-0700
TZOFFSETTO:-0800
TZNAME:PST
DTSTART:20271107T090000
END:STANDARD
END:VTIMEZONE
BEGIN:VEVENT
DTSTART;TZID=America/Los_Angeles:20251005T123000
DTEND;TZID=America/Los_Angeles:20251005T140000
DTSTAMP:20260424T172045
CREATED:20230403T192822Z
LAST-MODIFIED:20250929T220402Z
UID:6537-1759667400-1759672800@www.religiousscifullerton.org
SUMMARY:Board Meeting
DESCRIPTION:Monthly Board Meeting.
URL:http://www.religiousscifullerton.org/event/board-meeting-11/
LOCATION:Center for Spiritual Living Fullerton\, 373 Imperial Hwy\, Fullerton\, CA\, 92835-1040\, United States
CATEGORIES:Meeting
END:VEVENT
BEGIN:VEVENT
DTSTART;TZID=America/Los_Angeles:20251102T123000
DTEND;TZID=America/Los_Angeles:20251102T140000
DTSTAMP:20260424T172045
CREATED:20251103T193715Z
LAST-MODIFIED:20251103T193715Z
UID:9017-1762086600-1762092000@www.religiousscifullerton.org
SUMMARY:Board Meeting
DESCRIPTION:Monthly Board Meeting
URL:http://www.religiousscifullerton.org/event/board-meeting-3/
LOCATION:Center for Spiritual Living Fullerton\, 373 Imperial Hwy\, Fullerton\, CA\, 92835-1040\, United States
CATEGORIES:Meeting
END:VEVENT
BEGIN:VEVENT
DTSTART;TZID=America/Los_Angeles:20260111T123000
DTEND;TZID=America/Los_Angeles:20260111T140000
DTSTAMP:20260424T172045
CREATED:20251215T190045Z
LAST-MODIFIED:20251215T190136Z
UID:9153-1768134600-1768140000@www.religiousscifullerton.org
SUMMARY:Board Meeting
DESCRIPTION:Monthly Board of Trustees Meeting
URL:http://www.religiousscifullerton.org/event/board-meeting-4/
LOCATION:Center for Spiritual Living Fullerton\, 373 Imperial Hwy\, Fullerton\, CA\, 92835-1040\, United States
CATEGORIES:Meeting
END:VEVENT
BEGIN:VEVENT
DTSTART;TZID=America/Los_Angeles:20260125T123000
DTEND;TZID=America/Los_Angeles:20260125T140000
DTSTAMP:20260424T172045
CREATED:20251215T192026Z
LAST-MODIFIED:20251215T192026Z
UID:9158-1769344200-1769349600@www.religiousscifullerton.org
SUMMARY:Annual Membership Meeting & Potluck
DESCRIPTION:Annual Membership Meeting for 2026 \nThis is a business meeting for the Voting Members of our Center. \nContact us if you need to verify your Membership status by calling the office.
URL:http://www.religiousscifullerton.org/event/annual-membership-meeting-potluck/
LOCATION:Center for Spiritual Living Fullerton\, 373 Imperial Hwy\, Fullerton\, CA\, 92835-1040\, United States
CATEGORIES:Church Event,Meeting
END:VEVENT
BEGIN:VEVENT
DTSTART;TZID=America/Los_Angeles:20260201T123000
DTEND;TZID=America/Los_Angeles:20260201T140000
DTSTAMP:20260424T172045
CREATED:20260202T193438Z
LAST-MODIFIED:20260202T193438Z
UID:9209-1769949000-1769954400@www.religiousscifullerton.org
SUMMARY:Board Meeting
DESCRIPTION:Monthly Board of Trustees meeting
URL:http://www.religiousscifullerton.org/event/board-meeting-6/
LOCATION:Center for Spiritual Living Fullerton\, 373 Imperial Hwy\, Fullerton\, CA\, 92835-1040\, United States
CATEGORIES:Meeting
END:VEVENT
BEGIN:VEVENT
DTSTART;TZID=America/Los_Angeles:20260222T123000
DTEND;TZID=America/Los_Angeles:20260222T140000
DTSTAMP:20260424T172045
CREATED:20260202T193532Z
LAST-MODIFIED:20260202T193532Z
UID:9211-1771763400-1771768800@www.religiousscifullerton.org
SUMMARY:Practitioner Meeting
DESCRIPTION:Practitioner Meeting
URL:http://www.religiousscifullerton.org/event/practitioner-meeting-2/
LOCATION:Center for Spiritual Living Fullerton\, 373 Imperial Hwy\, Fullerton\, CA\, 92835-1040\, United States
CATEGORIES:Meeting
END:VEVENT
BEGIN:VEVENT
DTSTART;TZID=America/Los_Angeles:20260301T123000
DTEND;TZID=America/Los_Angeles:20260301T140000
DTSTAMP:20260424T172045
CREATED:20240708T213544Z
LAST-MODIFIED:20260206T194638Z
UID:7902-1772368200-1772373600@www.religiousscifullerton.org
SUMMARY:Board Meeting
DESCRIPTION:Monthly Board Meeting
URL:http://www.religiousscifullerton.org/event/board-meeting-23/
LOCATION:CSL Fullerton Office\, 411 E. Imperial Hwy\, Fullerton\, CA\, 92835\, United States
CATEGORIES:Meeting
END:VEVENT
BEGIN:VEVENT
DTSTART;TZID=America/Los_Angeles:20260412T123000
DTEND;TZID=America/Los_Angeles:20260412T140000
DTSTAMP:20260424T172045
CREATED:20240605T185839Z
LAST-MODIFIED:20260309T185506Z
UID:7776-1775997000-1776002400@www.religiousscifullerton.org
SUMMARY:Board Meeting
DESCRIPTION:Board Meeting
URL:http://www.religiousscifullerton.org/event/board-meeting-22/
LOCATION:Center for Spiritual Living Fullerton\, 373 Imperial Hwy\, Fullerton\, CA\, 92835-1040\, United States
CATEGORIES:Meeting
END:VEVENT
BEGIN:VEVENT
DTSTART;TZID=America/Los_Angeles:20260531T123000
DTEND;TZID=America/Los_Angeles:20260531T140000
DTSTAMP:20260424T172045
CREATED:20240918T195515Z
LAST-MODIFIED:20260424T210405Z
UID:8107-1780230600-1780236000@www.religiousscifullerton.org
SUMMARY:Practitioner Meeting
DESCRIPTION:Practitioner Meeting\, after service
URL:http://www.religiousscifullerton.org/event/practitioner-meeting-18/
LOCATION:Center for Spiritual Living Fullerton\, 373 Imperial Hwy\, Fullerton\, CA\, 92835-1040\, United States
CATEGORIES:Meeting
END:VEVENT
BEGIN:VEVENT
DTSTART;TZID=America/Los_Angeles:20260607T123000
DTEND;TZID=America/Los_Angeles:20260607T140000
DTSTAMP:20260424T172045
CREATED:20240918T193854Z
LAST-MODIFIED:20260424T210452Z
UID:8076-1780835400-1780840800@www.religiousscifullerton.org
SUMMARY:Board Meeting
DESCRIPTION:Board Meeting\, after service
URL:http://www.religiousscifullerton.org/event/board-meeting-10/
LOCATION:Center for Spiritual Living Fullerton\, 373 Imperial Hwy\, Fullerton\, CA\, 92835-1040\, United States
CATEGORIES:Meeting
END:VEVENT
END:VCALENDAR