BEGIN:VCALENDAR
VERSION:2.0
PRODID:-//CENTER FOR SPIRITUAL LIVING FULLERTON - ECPv6.15.20//NONSGML v1.0//EN
CALSCALE:GREGORIAN
METHOD:PUBLISH
X-ORIGINAL-URL:http://www.religiousscifullerton.org
X-WR-CALDESC:Events for CENTER FOR SPIRITUAL LIVING FULLERTON
REFRESH-INTERVAL;VALUE=DURATION:PT1H
X-Robots-Tag:noindex
X-PUBLISHED-TTL:PT1H
BEGIN:VTIMEZONE
TZID:America/Los_Angeles
BEGIN:DAYLIGHT
TZOFFSETFROM:-0800
TZOFFSETTO:-0700
TZNAME:PDT
DTSTART:20240310T100000
END:DAYLIGHT
BEGIN:STANDARD
TZOFFSETFROM:-0700
TZOFFSETTO:-0800
TZNAME:PST
DTSTART:20241103T090000
END:STANDARD
BEGIN:DAYLIGHT
TZOFFSETFROM:-0800
TZOFFSETTO:-0700
TZNAME:PDT
DTSTART:20250309T100000
END:DAYLIGHT
BEGIN:STANDARD
TZOFFSETFROM:-0700
TZOFFSETTO:-0800
TZNAME:PST
DTSTART:20251102T090000
END:STANDARD
BEGIN:DAYLIGHT
TZOFFSETFROM:-0800
TZOFFSETTO:-0700
TZNAME:PDT
DTSTART:20260308T100000
END:DAYLIGHT
BEGIN:STANDARD
TZOFFSETFROM:-0700
TZOFFSETTO:-0800
TZNAME:PST
DTSTART:20261101T090000
END:STANDARD
BEGIN:DAYLIGHT
TZOFFSETFROM:-0800
TZOFFSETTO:-0700
TZNAME:PDT
DTSTART:20270314T100000
END:DAYLIGHT
BEGIN:STANDARD
TZOFFSETFROM:-0700
TZOFFSETTO:-0800
TZNAME:PST
DTSTART:20271107T090000
END:STANDARD
END:VTIMEZONE
BEGIN:VEVENT
DTSTART;TZID=America/Los_Angeles:20251214T103000
DTEND;TZID=America/Los_Angeles:20251214T105000
DTSTAMP:20260424T051200
CREATED:20230222T223349Z
LAST-MODIFIED:20250929T221042Z
UID:6373-1765708200-1765709400@www.religiousscifullerton.org
SUMMARY:Guided Meditation
DESCRIPTION:Please join us for a healing meditation guided by Carol Riseling\, RScP. \nAll welcome!
URL:http://www.religiousscifullerton.org/event/guided-meditation-251/
LOCATION:Center for Spiritual Living Fullerton\, 373 Imperial Hwy\, Fullerton\, CA\, 92835-1040\, United States
CATEGORIES:Guided Meditation
END:VEVENT
BEGIN:VEVENT
DTSTART;TZID=America/Los_Angeles:20251221T103000
DTEND;TZID=America/Los_Angeles:20251221T105000
DTSTAMP:20260424T051200
CREATED:20230331T204736Z
LAST-MODIFIED:20250929T221927Z
UID:6517-1766313000-1766314200@www.religiousscifullerton.org
SUMMARY:Guided Meditation
DESCRIPTION:Please join us for a healing meditation guided by Beverley Brezden\, RScP. \nAll welcome!
URL:http://www.religiousscifullerton.org/event/guided-meditation-253/
LOCATION:Center for Spiritual Living Fullerton\, 373 Imperial Hwy\, Fullerton\, CA\, 92835-1040\, United States
CATEGORIES:Guided Meditation
END:VEVENT
BEGIN:VEVENT
DTSTART;TZID=America/Los_Angeles:20251228T103000
DTEND;TZID=America/Los_Angeles:20251228T105000
DTSTAMP:20260424T051200
CREATED:20230522T195519Z
LAST-MODIFIED:20250929T222605Z
UID:6686-1766917800-1766919000@www.religiousscifullerton.org
SUMMARY:Guided Meditation
DESCRIPTION:Please join us for a healing meditation guided by Sally Stredler\, RScP. \nAll welcome!
URL:http://www.religiousscifullerton.org/event/guided-meditation-260/
LOCATION:Center for Spiritual Living Fullerton\, 373 Imperial Hwy\, Fullerton\, CA\, 92835-1040\, United States
CATEGORIES:Guided Meditation
END:VEVENT
BEGIN:VEVENT
DTSTART;TZID=America/Los_Angeles:20260104T103000
DTEND;TZID=America/Los_Angeles:20260104T105000
DTSTAMP:20260424T051200
CREATED:20251215T184955Z
LAST-MODIFIED:20251215T184955Z
UID:9136-1767522600-1767523800@www.religiousscifullerton.org
SUMMARY:Guided Meditation
DESCRIPTION:Please join us for a healing meditation guided by Tomoko Hanamure Rosas\, RScP. \nAll welcome!
URL:http://www.religiousscifullerton.org/event/guided-meditation-17/
LOCATION:Center for Spiritual Living Fullerton\, 373 Imperial Hwy\, Fullerton\, CA\, 92835-1040\, United States
CATEGORIES:Guided Meditation
END:VEVENT
BEGIN:VEVENT
DTSTART;TZID=America/Los_Angeles:20260111T103000
DTEND;TZID=America/Los_Angeles:20260111T105000
DTSTAMP:20260424T051200
CREATED:20251215T185059Z
LAST-MODIFIED:20251215T185059Z
UID:9138-1768127400-1768128600@www.religiousscifullerton.org
SUMMARY:Guided Meditation
DESCRIPTION:Please join us for a healing meditation guided by Carol Riseling\, RScP. \nAll welcome!
URL:http://www.religiousscifullerton.org/event/guided-meditation-18/
LOCATION:Center for Spiritual Living Fullerton\, 373 Imperial Hwy\, Fullerton\, CA\, 92835-1040\, United States
CATEGORIES:Guided Meditation
END:VEVENT
BEGIN:VEVENT
DTSTART;TZID=America/Los_Angeles:20260118T103000
DTEND;TZID=America/Los_Angeles:20260118T105000
DTSTAMP:20260424T051200
CREATED:20251215T185206Z
LAST-MODIFIED:20251215T185404Z
UID:9140-1768732200-1768733400@www.religiousscifullerton.org
SUMMARY:Guided Mediatation
DESCRIPTION:Please join us for a healing meditation guided by Sally Stredler\, RScP. \nAll welcome!
URL:http://www.religiousscifullerton.org/event/guided-mediatation/
LOCATION:Center for Spiritual Living Fullerton\, 373 Imperial Hwy\, Fullerton\, CA\, 92835-1040\, United States
CATEGORIES:Guided Meditation
END:VEVENT
BEGIN:VEVENT
DTSTART;TZID=America/Los_Angeles:20260125T103000
DTEND;TZID=America/Los_Angeles:20260125T105000
DTSTAMP:20260424T051200
CREATED:20251215T185325Z
LAST-MODIFIED:20251215T185325Z
UID:9142-1769337000-1769338200@www.religiousscifullerton.org
SUMMARY:Guided Meditation
DESCRIPTION:Please join us for a healing meditation guided by Beverley Brezden\, RScP. \nAll welcome!
URL:http://www.religiousscifullerton.org/event/guided-meditation-19/
LOCATION:Center for Spiritual Living Fullerton\, 373 Imperial Hwy\, Fullerton\, CA\, 92835-1040\, United States
CATEGORIES:Guided Meditation
END:VEVENT
BEGIN:VEVENT
DTSTART;TZID=America/Los_Angeles:20260201T103000
DTEND;TZID=America/Los_Angeles:20260201T105000
DTSTAMP:20260424T051200
CREATED:20260202T192539Z
LAST-MODIFIED:20260202T192539Z
UID:9194-1769941800-1769943000@www.religiousscifullerton.org
SUMMARY:Guided Meditation
DESCRIPTION:Please join us for a healing meditation guided by Tomoko Hanamure Rosas\, RScP. \nAll welcome!
URL:http://www.religiousscifullerton.org/event/guided-meditation-21/
LOCATION:Center for Spiritual Living Fullerton\, 373 Imperial Hwy\, Fullerton\, CA\, 92835-1040\, United States
CATEGORIES:Guided Meditation
END:VEVENT
BEGIN:VEVENT
DTSTART;TZID=America/Los_Angeles:20260208T103000
DTEND;TZID=America/Los_Angeles:20260208T105000
DTSTAMP:20260424T051200
CREATED:20260202T192629Z
LAST-MODIFIED:20260202T192629Z
UID:9196-1770546600-1770547800@www.religiousscifullerton.org
SUMMARY:Guided Meditation
DESCRIPTION:Please join us for a healing meditation guided by Carol Riseling\, RScP. \nAll welcome!
URL:http://www.religiousscifullerton.org/event/guided-meditation-22/
LOCATION:Center for Spiritual Living Fullerton\, 373 Imperial Hwy\, Fullerton\, CA\, 92835-1040\, United States
CATEGORIES:Guided Meditation
END:VEVENT
BEGIN:VEVENT
DTSTART;TZID=America/Los_Angeles:20260215T103000
DTEND;TZID=America/Los_Angeles:20260215T105000
DTSTAMP:20260424T051200
CREATED:20260202T192441Z
LAST-MODIFIED:20260202T192441Z
UID:9192-1771151400-1771152600@www.religiousscifullerton.org
SUMMARY:Guided Meditation
DESCRIPTION:Please join us for a healing meditation guided by Beverley Brezden\, RScP. \nAll welcome!
URL:http://www.religiousscifullerton.org/event/guided-meditation-20/
LOCATION:Center for Spiritual Living Fullerton\, 373 Imperial Hwy\, Fullerton\, CA\, 92835-1040\, United States
CATEGORIES:Guided Meditation
END:VEVENT
BEGIN:VEVENT
DTSTART;TZID=America/Los_Angeles:20260222T103000
DTEND;TZID=America/Los_Angeles:20260222T105000
DTSTAMP:20260424T051200
CREATED:20260202T192721Z
LAST-MODIFIED:20260202T192721Z
UID:9199-1771756200-1771757400@www.religiousscifullerton.org
SUMMARY:Guided Meditation
DESCRIPTION:Please join us for a healing meditation guided by Sally Stredler\, RScP. \nAll welcome!
URL:http://www.religiousscifullerton.org/event/guided-meditation-23/
LOCATION:Center for Spiritual Living Fullerton\, 373 Imperial Hwy\, Fullerton\, CA\, 92835-1040\, United States
CATEGORIES:Guided Meditation
END:VEVENT
BEGIN:VEVENT
DTSTART;TZID=America/Los_Angeles:20260301T103000
DTEND;TZID=America/Los_Angeles:20260301T105000
DTSTAMP:20260424T051200
CREATED:20240415T184445Z
LAST-MODIFIED:20260206T192923Z
UID:7619-1772361000-1772362200@www.religiousscifullerton.org
SUMMARY:Guided Meditation
DESCRIPTION:Please join us for a healing meditation guided by Tomoko Rosas\, RScP. \nAll welcome!
URL:http://www.religiousscifullerton.org/event/guided-meditation-309/
LOCATION:Center for Spiritual Living Fullerton\, 373 Imperial Hwy\, Fullerton\, CA\, 92835-1040\, United States
CATEGORIES:Guided Meditation
END:VEVENT
BEGIN:VEVENT
DTSTART;TZID=America/Los_Angeles:20260308T103000
DTEND;TZID=America/Los_Angeles:20260308T105000
DTSTAMP:20260424T051200
CREATED:20240415T184251Z
LAST-MODIFIED:20260206T193046Z
UID:7615-1772965800-1772967000@www.religiousscifullerton.org
SUMMARY:Guided Meditation
DESCRIPTION:Please join us for a healing meditation guided by Carol Riseling\, RScP. \nAll welcome!
URL:http://www.religiousscifullerton.org/event/guided-meditation-307/
LOCATION:Center for Spiritual Living Fullerton\, 373 Imperial Hwy\, Fullerton\, CA\, 92835-1040\, United States
CATEGORIES:Guided Meditation
END:VEVENT
BEGIN:VEVENT
DTSTART;TZID=America/Los_Angeles:20260315T103000
DTEND;TZID=America/Los_Angeles:20260315T105000
DTSTAMP:20260424T051200
CREATED:20240415T184348Z
LAST-MODIFIED:20260218T192418Z
UID:7617-1773570600-1773571800@www.religiousscifullerton.org
SUMMARY:Guided Meditation
DESCRIPTION:Please join us for a healing meditation guided by Sally Stredler\, RScP. \nAll welcome!
URL:http://www.religiousscifullerton.org/event/guided-meditation-308/
LOCATION:Center for Spiritual Living Fullerton\, 373 Imperial Hwy\, Fullerton\, CA\, 92835-1040\, United States
CATEGORIES:Guided Meditation
END:VEVENT
BEGIN:VEVENT
DTSTART;TZID=America/Los_Angeles:20260322T103000
DTEND;TZID=America/Los_Angeles:20260322T105000
DTSTAMP:20260424T051200
CREATED:20240415T184545Z
LAST-MODIFIED:20260218T192454Z
UID:7621-1774175400-1774176600@www.religiousscifullerton.org
SUMMARY:Guided Meditation
DESCRIPTION:Please join us for a healing meditation guided by Beverley Brezden\, RScP. \nAll welcome!
URL:http://www.religiousscifullerton.org/event/guided-meditation-310/
LOCATION:Center for Spiritual Living Fullerton\, 373 Imperial Hwy\, Fullerton\, CA\, 92835-1040\, United States
CATEGORIES:Guided Meditation
END:VEVENT
BEGIN:VEVENT
DTSTART;TZID=America/Los_Angeles:20260329T103000
DTEND;TZID=America/Los_Angeles:20260329T105000
DTSTAMP:20260424T051200
CREATED:20240619T193642Z
LAST-MODIFIED:20260216T211516Z
UID:7814-1774780200-1774781400@www.religiousscifullerton.org
SUMMARY:Guided Meditation
DESCRIPTION:Please join us for a healing meditation guided by Tomoko Rosas\, RScP. \nAll welcome!
URL:http://www.religiousscifullerton.org/event/guided-meditation-311/
LOCATION:Center for Spiritual Living Fullerton\, 373 Imperial Hwy\, Fullerton\, CA\, 92835-1040\, United States
CATEGORIES:Guided Meditation
END:VEVENT
BEGIN:VEVENT
DTSTART;TZID=America/Los_Angeles:20260405T103000
DTEND;TZID=America/Los_Angeles:20260405T105000
DTSTAMP:20260424T051200
CREATED:20240619T193741Z
LAST-MODIFIED:20260309T184619Z
UID:7816-1775385000-1775386200@www.religiousscifullerton.org
SUMMARY:Guided Meditation
DESCRIPTION:Please join us for a healing meditation guided by Carol Riseling\, RScP. \nAll welcome!
URL:http://www.religiousscifullerton.org/event/guided-meditation-312/
LOCATION:Center for Spiritual Living Fullerton\, 373 Imperial Hwy\, Fullerton\, CA\, 92835-1040\, United States
CATEGORIES:Guided Meditation
END:VEVENT
BEGIN:VEVENT
DTSTART;TZID=America/Los_Angeles:20260412T103000
DTEND;TZID=America/Los_Angeles:20260412T105000
DTSTAMP:20260424T051200
CREATED:20240619T193841Z
LAST-MODIFIED:20260309T184828Z
UID:7818-1775989800-1775991000@www.religiousscifullerton.org
SUMMARY:Guided Meditation
DESCRIPTION:Please join us for a healing meditation guided by Tomoko Rosas\, RScP. \nAll welcome!
URL:http://www.religiousscifullerton.org/event/guided-meditation-313/
LOCATION:Center for Spiritual Living Fullerton\, 373 Imperial Hwy\, Fullerton\, CA\, 92835-1040\, United States
CATEGORIES:Guided Meditation
END:VEVENT
BEGIN:VEVENT
DTSTART;TZID=America/Los_Angeles:20260419T103000
DTEND;TZID=America/Los_Angeles:20260419T105000
DTSTAMP:20260424T051200
CREATED:20240619T194049Z
LAST-MODIFIED:20260309T185121Z
UID:7822-1776594600-1776595800@www.religiousscifullerton.org
SUMMARY:Guided Meditation
DESCRIPTION:Please join us for a healing meditation guided by Beverley Brezden\, RScP. \nAll welcome!
URL:http://www.religiousscifullerton.org/event/guided-meditation-315/
LOCATION:Center for Spiritual Living Fullerton\, 373 Imperial Hwy\, Fullerton\, CA\, 92835-1040\, United States
CATEGORIES:Guided Meditation
END:VEVENT
BEGIN:VEVENT
DTSTART;TZID=America/Los_Angeles:20260426T103000
DTEND;TZID=America/Los_Angeles:20260426T105000
DTSTAMP:20260424T051200
CREATED:20240619T193933Z
LAST-MODIFIED:20260309T185038Z
UID:7820-1777199400-1777200600@www.religiousscifullerton.org
SUMMARY:Guided Meditation
DESCRIPTION:Please join us for a healing meditation guided by Sally Stredler\, RScP. \nAll welcome!
URL:http://www.religiousscifullerton.org/event/guided-meditation-314/
LOCATION:Center for Spiritual Living Fullerton\, 373 Imperial Hwy\, Fullerton\, CA\, 92835-1040\, United States
CATEGORIES:Guided Meditation
END:VEVENT
BEGIN:VEVENT
DTSTART;TZID=America/Los_Angeles:20260503T103000
DTEND;TZID=America/Los_Angeles:20260503T105000
DTSTAMP:20260424T051200
CREATED:20240710T194441Z
LAST-MODIFIED:20260309T190434Z
UID:7908-1777804200-1777805400@www.religiousscifullerton.org
SUMMARY:Guided Meditation
DESCRIPTION:Please join us for a healing meditation guided by Tomoko Rosas\, RScP. \nAll welcome!
URL:http://www.religiousscifullerton.org/event/guided-meditation-320/
LOCATION:Center for Spiritual Living Fullerton\, 373 Imperial Hwy\, Fullerton\, CA\, 92835-1040\, United States
CATEGORIES:Guided Meditation
END:VEVENT
BEGIN:VEVENT
DTSTART;TZID=America/Los_Angeles:20260510T103000
DTEND;TZID=America/Los_Angeles:20260510T105000
DTSTAMP:20260424T051200
CREATED:20240710T194356Z
LAST-MODIFIED:20260309T190528Z
UID:7906-1778409000-1778410200@www.religiousscifullerton.org
SUMMARY:Guided Meditation
DESCRIPTION:Please join us for a healing meditation guided by Carol Riseling\, RScP. \nAll welcome!
URL:http://www.religiousscifullerton.org/event/guided-meditation-319/
LOCATION:Center for Spiritual Living Fullerton\, 373 Imperial Hwy\, Fullerton\, CA\, 92835-1040\, United States
CATEGORIES:Guided Meditation
END:VEVENT
BEGIN:VEVENT
DTSTART;TZID=America/Los_Angeles:20260517T103000
DTEND;TZID=America/Los_Angeles:20260517T105000
DTSTAMP:20260424T051200
CREATED:20240710T194625Z
LAST-MODIFIED:20260309T190613Z
UID:7912-1779013800-1779015000@www.religiousscifullerton.org
SUMMARY:Guided Meditation
DESCRIPTION:Please join us for a healing meditation guided by Sally Stredler\, RScP. \nAll welcome!
URL:http://www.religiousscifullerton.org/event/guided-meditation-322/
LOCATION:Center for Spiritual Living Fullerton\, 373 Imperial Hwy\, Fullerton\, CA\, 92835-1040\, United States
CATEGORIES:Guided Meditation
END:VEVENT
BEGIN:VEVENT
DTSTART;TZID=America/Los_Angeles:20260524T103000
DTEND;TZID=America/Los_Angeles:20260524T105000
DTSTAMP:20260424T051200
CREATED:20240619T194230Z
LAST-MODIFIED:20260309T190657Z
UID:7826-1779618600-1779619800@www.religiousscifullerton.org
SUMMARY:Guided Meditation
DESCRIPTION:Please join us for a healing meditation guided by Beverley Brezden\, RScP. \nAll welcome!
URL:http://www.religiousscifullerton.org/event/guided-meditation-317/
LOCATION:Center for Spiritual Living Fullerton\, 373 Imperial Hwy\, Fullerton\, CA\, 92835-1040\, United States
CATEGORIES:Guided Meditation
END:VEVENT
BEGIN:VEVENT
DTSTART;TZID=America/Los_Angeles:20260531T103000
DTEND;TZID=America/Los_Angeles:20260531T105000
DTSTAMP:20260424T051200
CREATED:20240619T194131Z
LAST-MODIFIED:20260309T190735Z
UID:7824-1780223400-1780224600@www.religiousscifullerton.org
SUMMARY:Guided Meditation
DESCRIPTION:Please join us for a healing meditation guided by Tomoko Rosas\, RScP. \nAll welcome!
URL:http://www.religiousscifullerton.org/event/guided-meditation-316/
LOCATION:Center for Spiritual Living Fullerton\, 373 Imperial Hwy\, Fullerton\, CA\, 92835-1040\, United States
CATEGORIES:Guided Meditation
END:VEVENT
END:VCALENDAR