BEGIN:VCALENDAR
VERSION:2.0
PRODID:-//CENTER FOR SPIRITUAL LIVING FULLERTON - ECPv6.15.20//NONSGML v1.0//EN
CALSCALE:GREGORIAN
METHOD:PUBLISH
X-ORIGINAL-URL:http://www.religiousscifullerton.org
X-WR-CALDESC:Events for CENTER FOR SPIRITUAL LIVING FULLERTON
REFRESH-INTERVAL;VALUE=DURATION:PT1H
X-Robots-Tag:noindex
X-PUBLISHED-TTL:PT1H
BEGIN:VTIMEZONE
TZID:America/Los_Angeles
BEGIN:DAYLIGHT
TZOFFSETFROM:-0800
TZOFFSETTO:-0700
TZNAME:PDT
DTSTART:20250309T100000
END:DAYLIGHT
BEGIN:STANDARD
TZOFFSETFROM:-0700
TZOFFSETTO:-0800
TZNAME:PST
DTSTART:20251102T090000
END:STANDARD
BEGIN:DAYLIGHT
TZOFFSETFROM:-0800
TZOFFSETTO:-0700
TZNAME:PDT
DTSTART:20260308T100000
END:DAYLIGHT
BEGIN:STANDARD
TZOFFSETFROM:-0700
TZOFFSETTO:-0800
TZNAME:PST
DTSTART:20261101T090000
END:STANDARD
BEGIN:DAYLIGHT
TZOFFSETFROM:-0800
TZOFFSETTO:-0700
TZNAME:PDT
DTSTART:20270314T100000
END:DAYLIGHT
BEGIN:STANDARD
TZOFFSETFROM:-0700
TZOFFSETTO:-0800
TZNAME:PST
DTSTART:20271107T090000
END:STANDARD
END:VTIMEZONE
BEGIN:VEVENT
DTSTART;TZID=America/Los_Angeles:20260415T100000
DTEND;TZID=America/Los_Angeles:20260415T140000
DTSTAMP:20260423T081457
CREATED:20240708T211047Z
LAST-MODIFIED:20260309T185805Z
UID:7865-1776247200-1776261600@www.religiousscifullerton.org
SUMMARY:Practitioner on site
DESCRIPTION:Licensed SOM Practitioners are available during office hours to take your prayer requests. If you would like to speak to a Practitioner please call the office at (714) 525-1126 or email us at spiritlives@religiousscifullerton.org. \nTo schedule a Full Practitioner Session please make an appointment by calling a Practitioner directly. Click on PRACTITIONERS on the top menu for contact information.
URL:http://www.religiousscifullerton.org/event/practitioner-on-site-530/
LOCATION:Center for Spiritual Living Fullerton\, 373 Imperial Hwy\, Fullerton\, CA\, 92835-1040\, United States
CATEGORIES:Office Hours
END:VEVENT
BEGIN:VEVENT
DTSTART;TZID=America/Los_Angeles:20260415T130000
DTEND;TZID=America/Los_Angeles:20260415T143000
DTSTAMP:20260423T081457
CREATED:20260309T192646Z
LAST-MODIFIED:20260309T192646Z
UID:9285-1776258000-1776263400@www.religiousscifullerton.org
SUMMARY:"Awakening Spirit" Spiritual Growth Support Group
DESCRIPTION:“Awakening Spirit” Spiritual Growth Support Group \nWherever you are on your Spiritual Path it’s always good to have someone to talk to. If that someone is a Practitioner it’s even better! During our office hours\, we’re dedicating one hour each week to anyone who want to come ask questions\, connect with like-minded people\, discuss Spiritual Principles and learn practical ways to apply it in their lives. In a safe and loving group environment—like having tea with friends (bring your favorite tea or coffee with you.) Open to the public. This is a great way to introduce your friends and family to our beautiful philosophy and our church without going to “church.” \nFacilitated by Tomoko Rosas\, RScP \nNo commitment necessary. Come join us when you can. \nCost: FREE—donations are gratefully accepted.  \nHighly recommended but not necessary book:\n365 Science of Mind: A Year of Daily Wisdom from Ernest Holmes
URL:http://www.religiousscifullerton.org/event/awakening-spirit-spiritual-growth-support-group-50/
LOCATION:Center for Spiritual Living Fullerton\, 373 Imperial Hwy\, Fullerton\, CA\, 92835-1040\, United States
CATEGORIES:Support Group
END:VEVENT
BEGIN:VEVENT
DTSTART;TZID=America/Los_Angeles:20260415T150000
DTEND;TZID=America/Los_Angeles:20260415T160000
DTSTAMP:20260423T081457
CREATED:20260420T215859Z
LAST-MODIFIED:20260420T215859Z
UID:9322-1776265200-1776268800@www.religiousscifullerton.org
SUMMARY:Spiritual Mind Treatment: PRAYER LAB
DESCRIPTION:Spiritual Mind Treatment: PRAYER LAB \n \nWednesdays at 3 pm to 4 pm \nFee: Free – donation to the Center is gratefully accepted \nWould you like to learn how to write your own powerful affirmative/scientific prayer? Or would you like assistance in fine-tuning your prayer? Sometimes an answer to a prayer is just a fine-tuning away. Put the art of Spiritual Mind Treatment to work for you! Our Practitioner on-site is available to assist you. In-person only at the Center. Group or Individual session. Drop-ins welcome!
URL:http://www.religiousscifullerton.org/event/spiritual-mind-treatment-prayer-lab-2/
LOCATION:Center for Spiritual Living Fullerton\, 373 Imperial Hwy\, Fullerton\, CA\, 92835-1040\, United States
CATEGORIES:Workshop
END:VEVENT
BEGIN:VEVENT
DTSTART;TZID=America/Los_Angeles:20260415T150000
DTEND;TZID=America/Los_Angeles:20260415T160000
DTSTAMP:20260423T081457
CREATED:20260420T220103Z
LAST-MODIFIED:20260420T220103Z
UID:9324-1776265200-1776268800@www.religiousscifullerton.org
SUMMARY:Spiritual Mind Treatment: PRAYER LAB
DESCRIPTION:Spiritual Mind Treatment: PRAYER LAB \n \nWednesdays at 3 pm to 4 pm \nFee: Free – donation to the Center is gratefully accepted \nWould you like to learn how to write your own powerful affirmative/scientific prayer? Or would you like assistance in fine-tuning your prayer? Sometimes an answer to a prayer is just a fine-tuning away. Put the art of Spiritual Mind Treatment to work for you! Our Practitioner on-site is available to assist you. In-person only at the Center. Group or Individual session. Drop-ins welcome!
URL:http://www.religiousscifullerton.org/event/spiritual-mind-treatment-prayer-lab-3/
LOCATION:Center for Spiritual Living Fullerton\, 373 Imperial Hwy\, Fullerton\, CA\, 92835-1040\, United States
CATEGORIES:Workshop
END:VEVENT
END:VCALENDAR