BEGIN:VCALENDAR
VERSION:2.0
PRODID:-//CENTER FOR SPIRITUAL LIVING FULLERTON - ECPv6.15.20//NONSGML v1.0//EN
CALSCALE:GREGORIAN
METHOD:PUBLISH
X-ORIGINAL-URL:http://www.religiousscifullerton.org
X-WR-CALDESC:Events for CENTER FOR SPIRITUAL LIVING FULLERTON
REFRESH-INTERVAL;VALUE=DURATION:PT1H
X-Robots-Tag:noindex
X-PUBLISHED-TTL:PT1H
BEGIN:VTIMEZONE
TZID:America/Los_Angeles
BEGIN:DAYLIGHT
TZOFFSETFROM:-0800
TZOFFSETTO:-0700
TZNAME:PDT
DTSTART:20250309T100000
END:DAYLIGHT
BEGIN:STANDARD
TZOFFSETFROM:-0700
TZOFFSETTO:-0800
TZNAME:PST
DTSTART:20251102T090000
END:STANDARD
BEGIN:DAYLIGHT
TZOFFSETFROM:-0800
TZOFFSETTO:-0700
TZNAME:PDT
DTSTART:20260308T100000
END:DAYLIGHT
BEGIN:STANDARD
TZOFFSETFROM:-0700
TZOFFSETTO:-0800
TZNAME:PST
DTSTART:20261101T090000
END:STANDARD
BEGIN:DAYLIGHT
TZOFFSETFROM:-0800
TZOFFSETTO:-0700
TZNAME:PDT
DTSTART:20270314T100000
END:DAYLIGHT
BEGIN:STANDARD
TZOFFSETFROM:-0700
TZOFFSETTO:-0800
TZNAME:PST
DTSTART:20271107T090000
END:STANDARD
END:VTIMEZONE
BEGIN:VEVENT
DTSTART;TZID=America/Los_Angeles:20260215T103000
DTEND;TZID=America/Los_Angeles:20260215T105000
DTSTAMP:20260423T113650
CREATED:20260202T192441Z
LAST-MODIFIED:20260202T192441Z
UID:9192-1771151400-1771152600@www.religiousscifullerton.org
SUMMARY:Guided Meditation
DESCRIPTION:Please join us for a healing meditation guided by Beverley Brezden\, RScP. \nAll welcome!
URL:http://www.religiousscifullerton.org/event/guided-meditation-20/
LOCATION:Center for Spiritual Living Fullerton\, 373 Imperial Hwy\, Fullerton\, CA\, 92835-1040\, United States
CATEGORIES:Guided Meditation
END:VEVENT
BEGIN:VEVENT
DTSTART;TZID=America/Los_Angeles:20260215T110000
DTEND;TZID=America/Los_Angeles:20260215T120000
DTSTAMP:20260423T113650
CREATED:20260202T193204Z
LAST-MODIFIED:20260202T193204Z
UID:9205-1771153200-1771156800@www.religiousscifullerton.org
SUMMARY:Sunday Celebration Service
DESCRIPTION:Please join us for our Sunday Celebration! Rev. Dr. Bill Salisbury is speaking on “The day After Valentine’s Day” Spiritual Reading by Eva Castelo\, RScP and musical inspiration provided by Debbi Ebert & Tommy Cosentino. \nThe recording will be posted by 3 pm for home viewing.
URL:http://www.religiousscifullerton.org/event/sunday-celebration-service-35/
LOCATION:Center for Spiritual Living Fullerton\, 373 Imperial Hwy\, Fullerton\, CA\, 92835-1040\, United States
CATEGORIES:LIVE MUSIC,Sunday Service
END:VEVENT
BEGIN:VEVENT
DTSTART;TZID=America/Los_Angeles:20260215T123000
DTEND;TZID=America/Los_Angeles:20260215T140000
DTSTAMP:20260423T113650
CREATED:20260202T193914Z
LAST-MODIFIED:20260202T194017Z
UID:9213-1771158600-1771164000@www.religiousscifullerton.org
SUMMARY:"Open Your Mind to Receive" Prosperity Workshop
DESCRIPTION:“Open Your Mind to Receive” \nProsperity Workshop \n \nSunday\, Feb. 15th\, 12:30 to 2 pm \nFacilitated by Amanda Secola\, RScP & Tomoko Rosas\, RScP \nFee: Love Donation \nPlease join us as we learn (or remind ourselves) of the Truth about God’s Abundance & Divine Prosperity and how to bring more of it into our lives. This workshop is based on a classic book\, “Open Your Mind to Receive\,” by Catherine Ponder. A short version of the book will be provided to all who attend and participate. The full version of the book is available at the bookstore.
URL:http://www.religiousscifullerton.org/event/open-your-mind-to-receive-prosperity-workshop/
LOCATION:Center for Spiritual Living Fullerton\, 373 Imperial Hwy\, Fullerton\, CA\, 92835-1040\, United States
CATEGORIES:Workshop
END:VEVENT
END:VCALENDAR