BEGIN:VCALENDAR
VERSION:2.0
PRODID:-//CENTER FOR SPIRITUAL LIVING FULLERTON - ECPv6.15.20//NONSGML v1.0//EN
CALSCALE:GREGORIAN
METHOD:PUBLISH
X-ORIGINAL-URL:http://www.religiousscifullerton.org
X-WR-CALDESC:Events for CENTER FOR SPIRITUAL LIVING FULLERTON
REFRESH-INTERVAL;VALUE=DURATION:PT1H
X-Robots-Tag:noindex
X-PUBLISHED-TTL:PT1H
BEGIN:VTIMEZONE
TZID:America/Los_Angeles
BEGIN:DAYLIGHT
TZOFFSETFROM:-0800
TZOFFSETTO:-0700
TZNAME:PDT
DTSTART:20240310T100000
END:DAYLIGHT
BEGIN:STANDARD
TZOFFSETFROM:-0700
TZOFFSETTO:-0800
TZNAME:PST
DTSTART:20241103T090000
END:STANDARD
BEGIN:DAYLIGHT
TZOFFSETFROM:-0800
TZOFFSETTO:-0700
TZNAME:PDT
DTSTART:20250309T100000
END:DAYLIGHT
BEGIN:STANDARD
TZOFFSETFROM:-0700
TZOFFSETTO:-0800
TZNAME:PST
DTSTART:20251102T090000
END:STANDARD
BEGIN:DAYLIGHT
TZOFFSETFROM:-0800
TZOFFSETTO:-0700
TZNAME:PDT
DTSTART:20260308T100000
END:DAYLIGHT
BEGIN:STANDARD
TZOFFSETFROM:-0700
TZOFFSETTO:-0800
TZNAME:PST
DTSTART:20261101T090000
END:STANDARD
END:VTIMEZONE
BEGIN:VEVENT
DTSTART;TZID=America/Los_Angeles:20251026T103000
DTEND;TZID=America/Los_Angeles:20251026T105000
DTSTAMP:20260424T085526
CREATED:20230222T222952Z
LAST-MODIFIED:20250929T213631Z
UID:6365-1761474600-1761475800@www.religiousscifullerton.org
SUMMARY:Guided Meditation
DESCRIPTION:Please join us for a healing meditation guided by Sally Stredler\, RScP. \nAll welcome!
URL:http://www.religiousscifullerton.org/event/guided-meditation-247/
LOCATION:Center for Spiritual Living Fullerton\, 373 Imperial Hwy\, Fullerton\, CA\, 92835-1040\, United States
CATEGORIES:Guided Meditation
END:VEVENT
BEGIN:VEVENT
DTSTART;TZID=America/Los_Angeles:20251026T110000
DTEND;TZID=America/Los_Angeles:20251026T120000
DTSTAMP:20260424T085526
CREATED:20250929T212948Z
LAST-MODIFIED:20250929T212948Z
UID:8976-1761476400-1761480000@www.religiousscifullerton.org
SUMMARY:Sunday Celebration Service
DESCRIPTION:Please join us for our Sunday Celebration! Rev. Dr. Bill Salisbury is speaking on “What? Me Worry?.” Spiritual Reading by Eva Castelo\, RScP and musical inspiration provided by Tommy Cosentino. \nThe recording will be posted by 3 pm for home viewing.
URL:http://www.religiousscifullerton.org/event/sunday-celebration-service-19/
LOCATION:Center for Spiritual Living Fullerton\, 373 Imperial Hwy\, Fullerton\, CA\, 92835-1040\, United States
CATEGORIES:LIVE MUSIC,Sunday Service
END:VEVENT
BEGIN:VEVENT
DTSTART;TZID=America/Los_Angeles:20251026T121500
DTEND;TZID=America/Los_Angeles:20251026T143000
DTSTAMP:20260424T085526
CREATED:20230918T192508Z
LAST-MODIFIED:20251001T185308Z
UID:7045-1761480900-1761489000@www.religiousscifullerton.org
SUMMARY:"Holy Spirit" BINGO at the Center!
DESCRIPTION:“Holy Spirit” BINGO at the Center!\n(Halloween/Harvest-themed bingo—costume optional)\n\nSunday\, October 26th\, after service (lunch starting @ 12:15 & Bingo @ 12:45 to 1pm)  \nCost: $20.00 (includes 2 cards\, 1 lucky raffle ticket & light lunch)  \nPlease join us for a BINGO “Fun”Raiser for our Center! We’re always on the look out for new\, fun\, community building\, fundraising activities and our first BINGO events have been such fun and a success\, we’re doing it again. \nAll are welcome to join in. In fact\, the more the better! Please invite your friends and family. \nBINGO prizes are several beautiful gift baskets valued over $20.00 and other prizes. Additional BINGO cards are available for $5.00 each. \nWe’ll also have the drawing for a $1.00 ticket raffle for prizes that include a $50 Amazon gift card.
URL:http://www.religiousscifullerton.org/event/holy-spirit-bingo/
LOCATION:Center for Spiritual Living Fullerton\, 373 Imperial Hwy\, Fullerton\, CA\, 92835-1040\, United States
CATEGORIES:Fundraiser
END:VEVENT
END:VCALENDAR