BEGIN:VCALENDAR
VERSION:2.0
PRODID:-//CENTER FOR SPIRITUAL LIVING FULLERTON - ECPv6.15.20//NONSGML v1.0//EN
CALSCALE:GREGORIAN
METHOD:PUBLISH
X-WR-CALNAME:CENTER FOR SPIRITUAL LIVING FULLERTON
X-ORIGINAL-URL:http://www.religiousscifullerton.org
X-WR-CALDESC:Events for CENTER FOR SPIRITUAL LIVING FULLERTON
REFRESH-INTERVAL;VALUE=DURATION:PT1H
X-Robots-Tag:noindex
X-PUBLISHED-TTL:PT1H
BEGIN:VTIMEZONE
TZID:America/Los_Angeles
BEGIN:DAYLIGHT
TZOFFSETFROM:-0800
TZOFFSETTO:-0700
TZNAME:PDT
DTSTART:20230312T100000
END:DAYLIGHT
BEGIN:STANDARD
TZOFFSETFROM:-0700
TZOFFSETTO:-0800
TZNAME:PST
DTSTART:20231105T090000
END:STANDARD
BEGIN:DAYLIGHT
TZOFFSETFROM:-0800
TZOFFSETTO:-0700
TZNAME:PDT
DTSTART:20240310T100000
END:DAYLIGHT
BEGIN:STANDARD
TZOFFSETFROM:-0700
TZOFFSETTO:-0800
TZNAME:PST
DTSTART:20241103T090000
END:STANDARD
BEGIN:DAYLIGHT
TZOFFSETFROM:-0800
TZOFFSETTO:-0700
TZNAME:PDT
DTSTART:20250309T100000
END:DAYLIGHT
BEGIN:STANDARD
TZOFFSETFROM:-0700
TZOFFSETTO:-0800
TZNAME:PST
DTSTART:20251102T090000
END:STANDARD
END:VTIMEZONE
BEGIN:VEVENT
DTSTART;TZID=America/Los_Angeles:20240622T130000
DTEND;TZID=America/Los_Angeles:20240622T150000
DTSTAMP:20260425T082954
CREATED:20240531T225951Z
LAST-MODIFIED:20240531T230605Z
UID:7705-1719061200-1719068400@www.religiousscifullerton.org
SUMMARY:Memorial Service for Aidan Greaney
DESCRIPTION:Memorial Service for … \nAidan Greaney \nJuly 12\, 1956 – Feb. 21\, 2024 \nIt is with heavy hearts that we announce the passing of our beloved friend\, Aidan Greaney. He passed away from a heart complication at Mission Hospital Wednesday\, February 21st. His ex-wife\, Sandy\, was by his side. Aidan was a kind\, gentle and wise friend to everyone he met. He will be dearly missed but never forgotten.  \nA memorial service will be held on Saturday\, June 22nd\, at 1 pm\,\nat Center for Spiritual Living Capistrano Valley. 1201 Puerta Del Sol\, Ste 100\, San Clemente CA 92673. \nOfficiated by Rev. Dr. Bill Salisbury & Rev. Karyn Allen
URL:http://www.religiousscifullerton.org/event/memorial-service-for-aidan-greaney/
LOCATION:Center for Spiritual Living Capistrano Valley\, 1201 Puerta Del Sol\, Ste. 100\, San Clemente\, CA\, 92673\, United States
CATEGORIES:Church Event,Special Event
END:VEVENT
END:VCALENDAR